BEGIN:VCALENDAR
VERSION:2.0
PRODID:-//The Wonders Collective - ECPv6.15.16//NONSGML v1.0//EN
CALSCALE:GREGORIAN
METHOD:PUBLISH
X-WR-CALNAME:The Wonders Collective
X-ORIGINAL-URL:https://thewonderscollective.com
X-WR-CALDESC:Events for The Wonders Collective
REFRESH-INTERVAL;VALUE=DURATION:PT1H
X-Robots-Tag:noindex
X-PUBLISHED-TTL:PT1H
BEGIN:VTIMEZONE
TZID:UTC
BEGIN:STANDARD
TZOFFSETFROM:+0000
TZOFFSETTO:+0000
TZNAME:UTC
DTSTART:20250101T000000
END:STANDARD
END:VTIMEZONE
BEGIN:VEVENT
DTSTART;TZID=UTC:20260130T120000
DTEND;TZID=UTC:20260130T133000
DTSTAMP:20260423T030301
CREATED:20241128T194845Z
LAST-MODIFIED:20260101T201532Z
UID:10805-1769774400-1769779800@thewonderscollective.com
SUMMARY:(VIRTUAL) Zumba® MINI GET DOWN ZIN JAM SESSION w/ Dahrio Wonder
DESCRIPTION:(VIRTUAL) Zumba® MINI GET DOWN ZIN JAM SESSION w/ Dahrio Wonder \nCome experience the BRAND NEW MINI GET DOWN Zin Jam Session with Dahrio Wonder. Dive into the style of 2 FRESH routines\, created especially for YOU to take back to your Zumba® classes! \nFOR ZIN MEMBERS ONLY. Register at:  www.zumba.com \nPLAYLIST: January 2026 \nRegistration at 1pm (PDT) \nJam: 1:30pm to 3:00pm (PDT)
URL:https://thewonderscollective.com/event/virtual-zumba-get-down-zin-jam-session-w-the-wonders-indra-sandoval/
LOCATION:WONDERLAND virtual studio
ATTACH;FMTTYPE=image/png:https://thewonderscollective.com/wp-content/uploads/2024/11/Screenshot-2025-12-03-at-9.35.56-AM.png
END:VEVENT
END:VCALENDAR