BEGIN:VCALENDAR
VERSION:2.0
PRODID:-//The Wonders Collective - ECPv6.15.16//NONSGML v1.0//EN
CALSCALE:GREGORIAN
METHOD:PUBLISH
X-ORIGINAL-URL:https://thewonderscollective.com
X-WR-CALDESC:Events for The Wonders Collective
REFRESH-INTERVAL;VALUE=DURATION:PT1H
X-Robots-Tag:noindex
X-PUBLISHED-TTL:PT1H
BEGIN:VTIMEZONE
TZID:UTC
BEGIN:STANDARD
TZOFFSETFROM:+0000
TZOFFSETTO:+0000
TZNAME:UTC
DTSTART:20250101T000000
END:STANDARD
END:VTIMEZONE
BEGIN:VEVENT
DTSTART;TZID=UTC:20260206T190000
DTEND;TZID=UTC:20260206T203000
DTSTAMP:20260422T161957
CREATED:20231117T163853Z
LAST-MODIFIED:20260101T201348Z
UID:10730-1770404400-1770409800@thewonderscollective.com
SUMMARY:VALENTINE'S ZUMBA BASH (LIVE EVENT)
DESCRIPTION:VALENTINE’S ZUMBA BASH \nfeaturing: The G’s + D’s ( Gina\, Giovanna\, Dahrio\, Daniel) \nZumba Fitness Masterclass
URL:https://thewonderscollective.com/event/wonders-master-class-live-event/
LOCATION:VIBE BQE FITNESS\, 26-50 Brooklyn Queens Expy W\,\, Woodside\, NY\, 11377\, United States
ATTACH;FMTTYPE=image/png:https://thewonderscollective.com/wp-content/uploads/2023/11/Screenshot-2025-12-03-at-10.01.19-AM.png
END:VEVENT
END:VCALENDAR