BEGIN:VCALENDAR
VERSION:2.0
PRODID:-//The Wonders Collective - ECPv6.15.16//NONSGML v1.0//EN
CALSCALE:GREGORIAN
METHOD:PUBLISH
X-WR-CALNAME:The Wonders Collective
X-ORIGINAL-URL:https://thewonderscollective.com
X-WR-CALDESC:Events for The Wonders Collective
REFRESH-INTERVAL;VALUE=DURATION:PT1H
X-Robots-Tag:noindex
X-PUBLISHED-TTL:PT1H
BEGIN:VTIMEZONE
TZID:UTC
BEGIN:STANDARD
TZOFFSETFROM:+0000
TZOFFSETTO:+0000
TZNAME:UTC
DTSTART:20200101T000000
END:STANDARD
END:VTIMEZONE
BEGIN:VEVENT
DTSTART;TZID=UTC:20210917T170000
DTEND;TZID=UTC:20210917T200000
DTSTAMP:20260420T020909
CREATED:20210804T025031Z
LAST-MODIFIED:20210903T070421Z
UID:10357-1631898000-1631908800@thewonderscollective.com
SUMMARY:Virtual Zumba® GET DOWN ZIN JAM SESSION w/ Dahrio Wonder
DESCRIPTION:Virtual Zumba® GET DOWN ZIN JAM SESSION w/ Dahrio Wonder \nCome experience the BRAND NEW GET DOWN Zin Jam Session with DAHRIO WONDER! Dive into the style of 4 FRESH routines\, created especially for YOU to take back to your Zumba® classes! \nFOR ZIN MEMBERS ONLY \nhttps://www.zumba.com/en-US/trainer/session/60cbba12-f254-4ec0-8c10-47c20a010ad2  \nPlaylist: D. WONDER VIBES 1 \n 
URL:https://thewonderscollective.com/event/zumba-get-down-zin-jam-session-w-dahrio-wonder/
LOCATION:Tha’ DEN at WONDERLAND
ATTACH;FMTTYPE=image/jpeg:https://thewonderscollective.com/wp-content/uploads/2019/11/3_WEEKLYclasses_icon.jpg
END:VEVENT
BEGIN:VEVENT
DTSTART;TZID=UTC:20210905T170000
DTEND;TZID=UTC:20210905T200000
DTSTAMP:20260420T020909
CREATED:20210705T065707Z
LAST-MODIFIED:20210903T070518Z
UID:10330-1630861200-1630872000@thewonderscollective.com
SUMMARY:Virtual Zumba® GET DOWN ZIN JAM SESSION w/ The Wonders
DESCRIPTION:Virtual Zumba® GET DOWN ZIN JAM SESSION w/ The Wonders \nCome experience the BRAND NEW GET DOWN Zin Jam Session with G&D WONDER! Dive into the style of 4 FRESH routines\, created especially for YOU to take back to your Zumba® classes! \nFOR ZIN MEMBERS ONLY \nhttps://www.zumba.com/en-US/trainer/session/60de830e-7260-4c0c-9c73-33870a010b0d \nPlaylist: P&M + D&G PLAYLIST 1 \n 
URL:https://thewonderscollective.com/event/10330/
LOCATION:Tha’ DEN at WONDERLAND
ATTACH;FMTTYPE=image/jpeg:https://thewonderscollective.com/wp-content/uploads/2019/11/Thumbnail2.jpg
END:VEVENT
BEGIN:VEVENT
DTSTART;TZID=UTC:20210831T180000
DTEND;TZID=UTC:20210831T184500
DTSTAMP:20260420T020909
CREATED:20210804T024606Z
LAST-MODIFIED:20210804T024606Z
UID:10355-1630432800-1630435500@thewonderscollective.com
SUMMARY:#HIPHOPTURNUP VIRTUAL CLASS W/ THE WONDERS
DESCRIPTION:#HIPHOPTURNUP VIRTUAL CLASS W/ THE WONDERS \nTO PURCHASE CLASS\, CLICK ON LINK BELOW: \nhttps://thewonderslive.com/collections/drop-in-live-classes/products/hip-hop-turnup-08-31-6pm-pst 
URL:https://thewonderscollective.com/event/hiphopturnup-virtual-class-w-the-wonders-64/
LOCATION:Tha’ DEN at WONDERLAND
ATTACH;FMTTYPE=image/jpeg:https://thewonderscollective.com/wp-content/uploads/2019/11/Gallery2-scaled.jpg
END:VEVENT
BEGIN:VEVENT
DTSTART;TZID=UTC:20210828T120000
DTEND;TZID=UTC:20210828T124500
DTSTAMP:20260420T020909
CREATED:20210804T024404Z
LAST-MODIFIED:20210804T024404Z
UID:10353-1630152000-1630154700@thewonderscollective.com
SUMMARY:#HIPHOPTURNUP VIRTUAL CLASS W/ THE WONDERS
DESCRIPTION:#HIPHOPTURNUP VIRTUAL CLASS W/ THE WONDERS \nTO PURCHASE CLASS\, CLICK ON LINK BELOW: \nhttps://thewonderslive.com/collections/drop-in-live-classes/products/hip-hop-turnup-08-28-12pm-pst 
URL:https://thewonderscollective.com/event/hiphopturnup-virtual-class-w-the-wonders-63/
LOCATION:Tha’ DEN at WONDERLAND
ATTACH;FMTTYPE=image/jpeg:https://thewonderscollective.com/wp-content/uploads/2019/11/Gallery2-scaled.jpg
END:VEVENT
BEGIN:VEVENT
DTSTART;TZID=UTC:20210824T180000
DTEND;TZID=UTC:20210824T184500
DTSTAMP:20260420T020909
CREATED:20210804T024236Z
LAST-MODIFIED:20210804T024236Z
UID:10351-1629828000-1629830700@thewonderscollective.com
SUMMARY:#HIPHOPTURNUP VIRTUAL CLASS W/ THE WONDERS
DESCRIPTION:#HIPHOPTURNUP VIRTUAL CLASS W/ THE WONDERS \nTO PURCHASE CLASS\, CLICK ON LINK BELOW: \nhttps://thewonderslive.com/collections/drop-in-live-classes/products/hip-hop-turnup-08-24-6pm-pst  
URL:https://thewonderscollective.com/event/hiphopturnup-virtual-class-w-the-wonders-62/
LOCATION:Tha’ DEN at WONDERLAND
ATTACH;FMTTYPE=image/jpeg:https://thewonderscollective.com/wp-content/uploads/2019/11/Gallery2-scaled.jpg
END:VEVENT
BEGIN:VEVENT
DTSTART;TZID=UTC:20210817T180000
DTEND;TZID=UTC:20210817T184500
DTSTAMP:20260420T020909
CREATED:20210804T024118Z
LAST-MODIFIED:20210804T024118Z
UID:10349-1629223200-1629225900@thewonderscollective.com
SUMMARY:#HIPHOPTURNUP VIRTUAL CLASS W/ THE WONDERS
DESCRIPTION:#HIPHOPTURNUP VIRTUAL CLASS W/ THE WONDERS \nTO PURCHASE CLASS\, CLICK ON LINK BELOW: \nhttps://thewonderslive.com/collections/drop-in-live-classes/products/hip-hop-turnup-08-17-6pm-pst 
URL:https://thewonderscollective.com/event/hiphopturnup-virtual-class-w-the-wonders-61/
LOCATION:Tha’ DEN at WONDERLAND
ATTACH;FMTTYPE=image/jpeg:https://thewonderscollective.com/wp-content/uploads/2019/11/Gallery2-scaled.jpg
END:VEVENT
BEGIN:VEVENT
DTSTART;TZID=UTC:20210814T120000
DTEND;TZID=UTC:20210814T124500
DTSTAMP:20260420T020909
CREATED:20210804T023803Z
LAST-MODIFIED:20210804T023803Z
UID:10344-1628942400-1628945100@thewonderscollective.com
SUMMARY:#HIPHOPTURNUP VIRTUAL CLASS W/ THE WONDERS
DESCRIPTION:#HIPHOPTURNUP VIRTUAL CLASS W/ THE WONDERS \nTO PURCHASE CLASS\, CLICK ON LINK BELOW: \nhttps://thewonderslive.com/collections/drop-in-live-classes/products/hip-hop-turnup-08-14-12pm-pst  \n 
URL:https://thewonderscollective.com/event/hiphopturnup-virtual-class-w-the-wonders-60/
LOCATION:Tha’ DEN at WONDERLAND
ATTACH;FMTTYPE=image/jpeg:https://thewonderscollective.com/wp-content/uploads/2019/11/Gallery2-scaled.jpg
END:VEVENT
BEGIN:VEVENT
DTSTART;TZID=UTC:20210810T180000
DTEND;TZID=UTC:20210810T184500
DTSTAMP:20260420T020909
CREATED:20210804T023358Z
LAST-MODIFIED:20210804T023557Z
UID:10339-1628618400-1628621100@thewonderscollective.com
SUMMARY:#HIPHOPTURNUP VIRTUAL CLASS W/ THE WONDERS
DESCRIPTION:#HIPHOPTURNUP VIRTUAL CLASS W/ THE WONDERS \nTO PURCHASE CLASS\, CLICK ON LINK BELOW: \nhttps://thewonderslive.com/collections/drop-in-live-classes/products/hip-hop-turnup-08-10-6pm-pst  
URL:https://thewonderscollective.com/event/10339/
LOCATION:Tha’ DEN at WONDERLAND
ATTACH;FMTTYPE=image/jpeg:https://thewonderscollective.com/wp-content/uploads/2019/11/Gallery2-scaled.jpg
END:VEVENT
BEGIN:VEVENT
DTSTART;TZID=UTC:20210807T120000
DTEND;TZID=UTC:20210807T124500
DTSTAMP:20260420T020909
CREATED:20210804T023133Z
LAST-MODIFIED:20210804T023225Z
UID:10336-1628337600-1628340300@thewonderscollective.com
SUMMARY:#HIPHOPTURNUP VIRTUAL CLASS W/ THE WONDERS
DESCRIPTION:#HIPHOPTURNUP VIRTUAL CLASS W/ THE WONDERS \nTO PURCHASE CLASS\, CLICK ON LINK BELOW: \nhttps://thewonderslive.com/collections/drop-in-live-classes/products/hip-hop-turnup-08-07-12pm-pst  \n 
URL:https://thewonderscollective.com/event/hiphopturnup-virtual-class-w-the-wonders-59/
LOCATION:Tha’ DEN at WONDERLAND
ATTACH;FMTTYPE=image/jpeg:https://thewonderscollective.com/wp-content/uploads/2019/11/Gallery2-scaled.jpg
END:VEVENT
BEGIN:VEVENT
DTSTART;TZID=UTC:20210807T093000
DTEND;TZID=UTC:20210807T130000
DTSTAMP:20260420T020909
CREATED:20210622T062601Z
LAST-MODIFIED:20210622T063220Z
UID:10312-1628328600-1628341200@thewonderscollective.com
SUMMARY:Zumba® GET DOWN ZIN JAM SESSION w/ The Wonders
DESCRIPTION:Zumba® GET DOWN ZIN JAM SESSION w/ The Wonders \nCome experience the BRAND NEW GET DOWN Zin Jam Session with G&D WONDER! Dive into the style of 4 FRESH routines\, created especially for YOU to take back to your Zumba® classes! \nFOR ZIN MEMBERS ONLY \nhttps://www.zumba.com/en-US/trainer/session/60c3ce8a-1acc-410b-ad39-5ed50a010b7d  \nPlaylist: WONDER #2
URL:https://thewonderscollective.com/event/zumba-get-down-zin-jam-session-w-the-wonders-2/
LOCATION:Tha’ DEN at WONDERLAND
ATTACH;FMTTYPE=image/jpeg:https://thewonderscollective.com/wp-content/uploads/2019/11/Thumbnail2.jpg
END:VEVENT
BEGIN:VEVENT
DTSTART;TZID=UTC:20210806T163000
DTEND;TZID=UTC:20210806T200000
DTSTAMP:20260420T020909
CREATED:20210622T062037Z
LAST-MODIFIED:20210622T063147Z
UID:10310-1628267400-1628280000@thewonderscollective.com
SUMMARY:Zumba® GET DOWN ZIN JAM SESSION w/ The Wonders
DESCRIPTION:Zumba® GET DOWN ZIN JAM SESSION w/ The Wonders \nCome experience the BRAND NEW GET DOWN Zin Jam Session with G&D WONDER! Dive into the style of 4 FRESH routines\, created especially for YOU to take back to your Zumba® classes! \nFOR ZIN MEMBERS ONLY \nhttps://www.zumba.com/en-US/trainer/session/60c3ce00-9890-4201-ad7e-0bd40a010a86  \nPlaylist: WONDER #2 \n 
URL:https://thewonderscollective.com/event/zumba-get-down-zin-jam-session-w-the-wonders/
LOCATION:Tha’ DEN at WONDERLAND
ATTACH;FMTTYPE=image/jpeg:https://thewonderscollective.com/wp-content/uploads/2019/11/Thumbnail2.jpg
END:VEVENT
BEGIN:VEVENT
DTSTART;TZID=UTC:20210724T180000
DTEND;TZID=UTC:20210724T185000
DTSTAMP:20260420T020909
CREATED:20210601T061527Z
LAST-MODIFIED:20210621T173701Z
UID:10283-1627149600-1627152600@thewonderscollective.com
SUMMARY:WONDER IN COLOR: VIRTUAL MUSIC SHOW
DESCRIPTION:WONDER IN COLOR: VIRTUAL MUSIC SHOW\nStarring: Dahrio Wonder \nEmerge yourself in the color that is music. Vibe with the smooth sounds and let the wonder put feeling in your spirit & soul! \nPurchase your virtual ticket here: \nhttps://thewonderslive.com/collections/wonder-in-color-virtual-music-show 
URL:https://thewonderscollective.com/event/wonder-in-color-virtual-music-show/
LOCATION:WONDERLAND
ATTACH;FMTTYPE=image/jpeg:https://thewonderscollective.com/wp-content/uploads/2019/11/HEADERopt1-e1574369775491.jpg
END:VEVENT
BEGIN:VEVENT
DTSTART;TZID=UTC:20210717T153000
DTEND;TZID=UTC:20210717T190000
DTSTAMP:20260420T020909
CREATED:20210622T061716Z
LAST-MODIFIED:20210622T063253Z
UID:10308-1626535800-1626548400@thewonderscollective.com
SUMMARY:GET DOWN ZIN JAM w/ The Wonders
DESCRIPTION:Zumba® GET DOWN ZIN JAM SESSION w/ The Wonders \nCome experience the BRAND NEW GET DOWN Zin Jam Session with G&D WONDER! Dive into the style of 4 FRESH routines\, created especially for YOU to take back to your Zumba® classes! \nFOR ZIN MEMBERS ONLY \nhttps://www.zumba.com/en-US/trainer/session/60d0e51e-57a4-4900-b47e-32fc0a010a9c  \nPlaylist: WONDER #1
URL:https://thewonderscollective.com/event/get-down-zin-jam-w-the-wonders/
LOCATION:Tha’ DEN at WONDERLAND
ATTACH;FMTTYPE=image/jpeg:https://thewonderscollective.com/wp-content/uploads/2019/11/WEEKLYclasses_icon.jpg
END:VEVENT
BEGIN:VEVENT
DTSTART;TZID=UTC:20210717T120000
DTEND;TZID=UTC:20210717T124500
DTSTAMP:20260420T020909
CREATED:20210705T064459Z
LAST-MODIFIED:20210705T064459Z
UID:10328-1626523200-1626525900@thewonderscollective.com
SUMMARY:#HIPHOPTURNUP VIRTUAL CLASS W/ THE WONDERS
DESCRIPTION:#HIPHOPTURNUP VIRTUAL CLASS W/ THE WONDERS \nTO PURCHASE CLASS\, CLICK ON LINK BELOW: \nhttps://thewonderslive.com/collections/drop-in-live-classes/products/hip-hop-turnup-07-17-12pm-pst  \n 
URL:https://thewonderscollective.com/event/hiphopturnup-virtual-class-w-the-wonders-58/
LOCATION:Tha’ DEN at WONDERLAND
ATTACH;FMTTYPE=image/jpeg:https://thewonderscollective.com/wp-content/uploads/2019/11/Gallery2-scaled.jpg
END:VEVENT
BEGIN:VEVENT
DTSTART;TZID=UTC:20210713T180000
DTEND;TZID=UTC:20210713T184500
DTSTAMP:20260420T020909
CREATED:20210705T063900Z
LAST-MODIFIED:20210705T063900Z
UID:10325-1626199200-1626201900@thewonderscollective.com
SUMMARY:#HIPHOPTURNUP VIRTUAL CLASS W/ THE WONDERS
DESCRIPTION:#HIPHOPTURNUP VIRTUAL CLASS W/ THE WONDERS \nTO PURCHASE CLASS\, CLICK ON LINK BELOW: \nhttps://thewonderslive.com/collections/drop-in-live-classes/products/hip-hop-turnup-07-13-6pm-pst \n 
URL:https://thewonderscollective.com/event/hiphopturnup-virtual-class-w-the-wonders-57/
ATTACH;FMTTYPE=image/jpeg:https://thewonderscollective.com/wp-content/uploads/2019/11/Gallery2-scaled.jpg
END:VEVENT
BEGIN:VEVENT
DTSTART;TZID=UTC:20210710T120000
DTEND;TZID=UTC:20210710T124500
DTSTAMP:20260420T020909
CREATED:20210705T063505Z
LAST-MODIFIED:20210705T063657Z
UID:10321-1625918400-1625921100@thewonderscollective.com
SUMMARY:#HIPHOPTURNUP VIRTUAL CLASS W/ THE WONDERS
DESCRIPTION:#HIPHOPTURNUP VIRTUAL CLASS W/ THE WONDERS \nTO PURCHASE CLASS\, CLICK ON LINK BELOW: \nhttps://thewonderslive.com/collections/drop-in-live-classes/products/hip-hop-turnup-07-10-12pm-pst \n 
URL:https://thewonderscollective.com/event/hiphopturnup-virtual-class-w-the-wonders-56/
LOCATION:Tha’ DEN at WONDERLAND
ATTACH;FMTTYPE=image/jpeg:https://thewonderscollective.com/wp-content/uploads/2019/11/Gallery2-scaled.jpg
END:VEVENT
BEGIN:VEVENT
DTSTART;TZID=UTC:20210706T180000
DTEND;TZID=UTC:20210706T184500
DTSTAMP:20260420T020909
CREATED:20210705T063331Z
LAST-MODIFIED:20210705T063331Z
UID:10318-1625594400-1625597100@thewonderscollective.com
SUMMARY:#HIPHOPTURNUP VIRTUAL CLASS W/ THE WONDERS
DESCRIPTION:#HIPHOPTURNUP VIRTUAL CLASS W/ THE WONDERS \nTO PURCHASE CLASS\, CLICK ON LINK BELOW: \nhttps://thewonderslive.com/collections/drop-in-live-classes/products/hip-hop-turnup-07-06-6pm-pst
URL:https://thewonderscollective.com/event/hiphopturnup-virtual-class-w-the-wonders-55/
LOCATION:Tha’ DEN at WONDERLAND
ATTACH;FMTTYPE=image/jpeg:https://thewonderscollective.com/wp-content/uploads/2019/11/Gallery2-scaled.jpg
END:VEVENT
BEGIN:VEVENT
DTSTART;TZID=UTC:20210629T180000
DTEND;TZID=UTC:20210629T184500
DTSTAMP:20260420T020909
CREATED:20210614T220444Z
LAST-MODIFIED:20210614T220444Z
UID:10301-1624989600-1624992300@thewonderscollective.com
SUMMARY:#HIPHOPTURNUP VIRTUAL CLASS W/ THE WONDERS
DESCRIPTION:#HIPHOPTURNUP VIRTUAL CLASS W/ THE WONDERS \nTO PURCHASE CLASS\, CLICK ON LINK BELOW: \nhttps://thewonderslive.com/collections/drop-in-live-classes/products/hip-hop-turnup-06-29-6pm-pst 
URL:https://thewonderscollective.com/event/hiphopturnup-virtual-class-w-the-wonders-54/
LOCATION:Tha’ DEN at WONDERLAND
ATTACH;FMTTYPE=image/jpeg:https://thewonderscollective.com/wp-content/uploads/2019/11/Gallery4-scaled.jpg
END:VEVENT
BEGIN:VEVENT
DTSTART;TZID=UTC:20210628T110000
DTEND;TZID=UTC:20210628T115000
DTSTAMP:20260420T020909
CREATED:20210622T060609Z
LAST-MODIFIED:20210622T060609Z
UID:10305-1624878000-1624881000@thewonderscollective.com
SUMMARY:ZUMBA VIRTUAL CLASS w/ GINA
DESCRIPTION:ZUMBA VIRTUAL CLASS w/ GINA \nTO PURCHASE CLASS\, CLICK ON THE LINK BELOW: \nhttps://thewonderslive.com/collections/drop-in-live-classes/products/zumba-live-06-28-11am-pst
URL:https://thewonderscollective.com/event/zumba-virtual-class-w-gina-29/
LOCATION:Tha’ DEN at WONDERLAND
ATTACH;FMTTYPE=image/jpeg:https://thewonderscollective.com/wp-content/uploads/2019/11/Gallery6-scaled.jpg
END:VEVENT
BEGIN:VEVENT
DTSTART;TZID=UTC:20210626T120000
DTEND;TZID=UTC:20210626T124500
DTSTAMP:20260420T020909
CREATED:20210614T220240Z
LAST-MODIFIED:20210614T220240Z
UID:10299-1624708800-1624711500@thewonderscollective.com
SUMMARY:#HIPHOPTURNUP VIRTUAL CLASS W/ THE WONDERS
DESCRIPTION:#HIPHOPTURNUP VIRTUAL CLASS W/ THE WONDERS \nTO PURCHASE CLASS\, CLICK ON LINK BELOW: \nhttps://thewonderslive.com/collections/drop-in-live-classes/products/hip-hop-turnup-06-26-12pm-pst 
URL:https://thewonderscollective.com/event/hiphopturnup-virtual-class-w-the-wonders-53/
LOCATION:Tha’ DEN at WONDERLAND
ATTACH;FMTTYPE=image/jpeg:https://thewonderscollective.com/wp-content/uploads/2019/11/Gallery4-scaled.jpg
END:VEVENT
BEGIN:VEVENT
DTSTART;TZID=UTC:20210622T180000
DTEND;TZID=UTC:20210622T184500
DTSTAMP:20260420T020909
CREATED:20210614T220105Z
LAST-MODIFIED:20210614T220105Z
UID:10296-1624384800-1624387500@thewonderscollective.com
SUMMARY:#HIPHOPTURNUP VIRTUAL CLASS W/ THE WONDERS
DESCRIPTION:#HIPHOPTURNUP VIRTUAL CLASS W/ THE WONDERS \nTO PURCHASE CLASS\, CLICK ON LINK BELOW: \nhttps://thewonderslive.com/collections/drop-in-live-classes/products/hip-hop-tunrup-06-22-6pm-pst 
URL:https://thewonderscollective.com/event/hiphopturnup-virtual-class-w-the-wonders-52/
LOCATION:Tha’ DEN at WONDERLAND
ATTACH;FMTTYPE=image/jpeg:https://thewonderscollective.com/wp-content/uploads/2019/11/Gallery4-scaled.jpg
END:VEVENT
BEGIN:VEVENT
DTSTART;TZID=UTC:20210619T120000
DTEND;TZID=UTC:20210619T124500
DTSTAMP:20260420T020909
CREATED:20210614T215900Z
LAST-MODIFIED:20210614T215900Z
UID:10294-1624104000-1624106700@thewonderscollective.com
SUMMARY:#HIPHOPTURNUP VIRTUAL CLASS W/ THE WONDERS
DESCRIPTION:#HIPHOPTURNUP VIRTUAL CLASS W/ THE WONDERS \nTO PURCHASE CLASS\, CLICK ON LINK BELOW: \nhttps://thewonderslive.com/collections/drop-in-live-classes/products/hip-hop-turnup-06-19-12pm-pst 
URL:https://thewonderscollective.com/event/hiphopturnup-virtual-class-w-the-wonders-51/
LOCATION:Tha’ DEN at WONDERLAND
ATTACH;FMTTYPE=image/jpeg:https://thewonderscollective.com/wp-content/uploads/2019/11/Gallery4-scaled.jpg
END:VEVENT
BEGIN:VEVENT
DTSTART;TZID=UTC:20210615T180000
DTEND;TZID=UTC:20210615T184500
DTSTAMP:20260420T020909
CREATED:20210614T215701Z
LAST-MODIFIED:20210614T215701Z
UID:10292-1623780000-1623782700@thewonderscollective.com
SUMMARY:#HIPHOPTURNUP VIRTUAL CLASS W/ THE WONDERS
DESCRIPTION:#HIPHOPTURNUP VIRTUAL CLASS W/ THE WONDERS \nTO PURCHASE CLASS\, CLICK ON LINK BELOW: \nhttps://thewonderslive.com/collections/drop-in-live-classes/products/hip-hop-turnup-06-15-6pm-pst 
URL:https://thewonderscollective.com/event/hiphopturnup-virtual-class-w-the-wonders-50/
LOCATION:Tha’ DEN at WONDERLAND
ATTACH;FMTTYPE=image/jpeg:https://thewonderscollective.com/wp-content/uploads/2019/11/Gallery4-scaled.jpg
END:VEVENT
BEGIN:VEVENT
DTSTART;TZID=UTC:20210612T120000
DTEND;TZID=UTC:20210612T124500
DTSTAMP:20260420T020909
CREATED:20210601T062013Z
LAST-MODIFIED:20210601T062013Z
UID:10286-1623499200-1623501900@thewonderscollective.com
SUMMARY:#HIPHOPTURNUP VIRTUAL CLASS W/ THE WONDERS
DESCRIPTION:#HIPHOPTURNUP VIRTUAL CLASS W/ THE WONDERS \nTO PURCHASE CLASS\, CLICK ON LINK BELOW: \nhttps://thewonderslive.com/collections/drop-in-live-classes/products/hip-hop-turnup-06-12-12pm-pst 
URL:https://thewonderscollective.com/event/hiphopturnup-virtual-class-w-the-wonders-48/
LOCATION:Tha’ DEN at WONDERLAND
ATTACH;FMTTYPE=image/jpeg:https://thewonderscollective.com/wp-content/uploads/2019/11/Gallery2-scaled.jpg
END:VEVENT
BEGIN:VEVENT
DTSTART;TZID=UTC:20210608T180000
DTEND;TZID=UTC:20210608T184500
DTSTAMP:20260420T020909
CREATED:20210601T061046Z
LAST-MODIFIED:20210601T061046Z
UID:10281-1623175200-1623177900@thewonderscollective.com
SUMMARY:#HIPHOPTURNUP VIRTUAL CLASS W/ THE WONDERS
DESCRIPTION:#HIPHOPTURNUP VIRTUAL CLASS W/ THE WONDERS \nTO PURCHASE CLASS\, CLICK ON LINK BELOW: \nhttps://thewonderslive.com/collections/drop-in-live-classes/products/hip-hop-turnup-06-08-6pm-pst 
URL:https://thewonderscollective.com/event/hiphopturnup-virtual-class-w-the-wonders-47/
LOCATION:Tha’ DEN at WONDERLAND
ATTACH;FMTTYPE=image/jpeg:https://thewonderscollective.com/wp-content/uploads/2019/11/Gallery2-scaled.jpg
END:VEVENT
BEGIN:VEVENT
DTSTART;TZID=UTC:20210605T120000
DTEND;TZID=UTC:20210605T124500
DTSTAMP:20260420T020909
CREATED:20210601T060903Z
LAST-MODIFIED:20210601T060903Z
UID:10279-1622894400-1622897100@thewonderscollective.com
SUMMARY:#HIPHOPTURNUP VIRTUAL CLASS W/ THE WONDERS
DESCRIPTION:#HIPHOPTURNUP VIRTUAL CLASS W/ THE WONDERS \nTO PURCHASE CLASS\, CLICK ON LINK BELOW: \nhttps://thewonderslive.com/collections/drop-in-live-classes/products/hip-hop-turnup-06-05-12pm-pst  \n 
URL:https://thewonderscollective.com/event/hiphopturnup-virtual-class-w-the-wonders-46/
LOCATION:Tha’ DEN at WONDERLAND
ATTACH;FMTTYPE=image/jpeg:https://thewonderscollective.com/wp-content/uploads/2019/11/Gallery2-scaled.jpg
END:VEVENT
BEGIN:VEVENT
DTSTART;TZID=UTC:20210601T180000
DTEND;TZID=UTC:20210601T184500
DTSTAMP:20260420T020909
CREATED:20210601T070755Z
LAST-MODIFIED:20210601T070755Z
UID:10289-1622570400-1622573100@thewonderscollective.com
SUMMARY:#HIPHOPTURNUP VIRTUAL CLASS W/ THE WONDERS
DESCRIPTION:#HIPHOPTURNUP VIRTUAL CLASS W/ THE WONDERS \nTO PURCHASE CLASS\, CLICK ON LINK BELOW: \nhttps://thewonderslive.com/collections/drop-in-live-classes/products/hip-hop-tunrup-06-1-6pm-pst \n 
URL:https://thewonderscollective.com/event/hiphopturnup-virtual-class-w-the-wonders-49/
LOCATION:Tha’ DEN at WONDERLAND
ATTACH;FMTTYPE=image/jpeg:https://thewonderscollective.com/wp-content/uploads/2019/11/Gallery2-scaled.jpg
END:VEVENT
BEGIN:VEVENT
DTSTART;TZID=UTC:20210531T110000
DTEND;TZID=UTC:20210531T115500
DTSTAMP:20260420T020909
CREATED:20210511T192255Z
LAST-MODIFIED:20210511T192255Z
UID:10267-1622458800-1622462100@thewonderscollective.com
SUMMARY:ZUMBA VIRTUAL CLASS w/ GINA
DESCRIPTION:ZUMBA VIRTUAL CLASS w/ GINA \nTO PURCHASE CLASS\, CLICK ON THE LINK BELOW: \nhttps://thewonderslive.com/collections/drop-in-live-classes/products/zumba-live-05-31-11am-pst 
URL:https://thewonderscollective.com/event/zumba-virtual-class-w-gina-28/
LOCATION:Tha’ DEN at WONDERLAND
ATTACH;FMTTYPE=image/jpeg:https://thewonderscollective.com/wp-content/uploads/2019/11/Gallery6-scaled.jpg
END:VEVENT
BEGIN:VEVENT
DTSTART;TZID=UTC:20210529T120000
DTEND;TZID=UTC:20210529T124500
DTSTAMP:20260420T020909
CREATED:20210511T191925Z
LAST-MODIFIED:20210511T191925Z
UID:10263-1622289600-1622292300@thewonderscollective.com
SUMMARY:#HIPHOPTURNUP VIRTUAL CLASS W/ THE WONDERS
DESCRIPTION:#HIPHOPTURNUP VIRTUAL CLASS W/ THE WONDERS \nTO PURCHASE CLASS\, CLICK ON LINK BELOW: \nhttps://thewonderslive.com/collections/drop-in-live-classes/products/hip-hop-turnup-05-29-12pm-pst  \n 
URL:https://thewonderscollective.com/event/hiphopturnup-virtual-class-w-the-wonders-45/
LOCATION:Tha’ DEN at WONDERLAND
ATTACH;FMTTYPE=image/jpeg:https://thewonderscollective.com/wp-content/uploads/2019/11/Gallery2-scaled.jpg
END:VEVENT
BEGIN:VEVENT
DTSTART;TZID=UTC:20210525T180000
DTEND;TZID=UTC:20210525T184500
DTSTAMP:20260420T020909
CREATED:20210511T191344Z
LAST-MODIFIED:20210511T191344Z
UID:10261-1621965600-1621968300@thewonderscollective.com
SUMMARY:#HIPHOPTURNUP VIRTUAL CLASS W/ THE WONDERS
DESCRIPTION:#HIPHOPTURNUP VIRTUAL CLASS W/ THE WONDERS \nTO PURCHASE CLASS\, CLICK ON LINK BELOW: \nhttps://thewonderslive.com/collections/drop-in-live-classes/products/hip-hop-turnup-05-25-6pm-pst
URL:https://thewonderscollective.com/event/hiphopturnup-virtual-class-w-the-wonders-44/
LOCATION:Tha’ DEN at WONDERLAND
ATTACH;FMTTYPE=image/jpeg:https://thewonderscollective.com/wp-content/uploads/2019/11/Gallery2-scaled.jpg
END:VEVENT
END:VCALENDAR