BEGIN:VCALENDAR
VERSION:2.0
PRODID:-//The Wonders Collective - ECPv6.15.16//NONSGML v1.0//EN
CALSCALE:GREGORIAN
METHOD:PUBLISH
X-WR-CALNAME:The Wonders Collective
X-ORIGINAL-URL:https://thewonderscollective.com
X-WR-CALDESC:Events for The Wonders Collective
REFRESH-INTERVAL;VALUE=DURATION:PT1H
X-Robots-Tag:noindex
X-PUBLISHED-TTL:PT1H
BEGIN:VTIMEZONE
TZID:UTC
BEGIN:STANDARD
TZOFFSETFROM:+0000
TZOFFSETTO:+0000
TZNAME:UTC
DTSTART:20190101T000000
END:STANDARD
END:VTIMEZONE
BEGIN:VEVENT
DTSTART;TZID=UTC:20210315T110000
DTEND;TZID=UTC:20210315T115000
DTSTAMP:20260420T075353
CREATED:20210306T053627Z
LAST-MODIFIED:20210306T053627Z
UID:10248-1615806000-1615809000@thewonderscollective.com
SUMMARY:ZUMBA VIRTUAL CLASS w/ GINA
DESCRIPTION:ZUMBA VIRTUAL CLASS w/ GINA \nTO PURCHASE CLASS\, CLICK ON THE LINK BELOW: \nhttps://thewonderslive.com/collections/drop-in-live-classes/products/zumba-live-03-15-11am-pst  \n 
URL:https://thewonderscollective.com/event/zumba-virtual-class-w-gina-24/
LOCATION:Tha’ DEN at WONDERLAND
ATTACH;FMTTYPE=image/jpeg:https://thewonderscollective.com/wp-content/uploads/2019/11/Gallery6-scaled.jpg
ORGANIZER;CN="Gina Grant":MAILTO:gina.grant@zumbamail.com
END:VEVENT
BEGIN:VEVENT
DTSTART;TZID=UTC:20210313T120000
DTEND;TZID=UTC:20210313T124500
DTSTAMP:20260420T075353
CREATED:20210303T062350Z
LAST-MODIFIED:20210303T062350Z
UID:10233-1615636800-1615639500@thewonderscollective.com
SUMMARY:#HIPHOPTURNUP VIRTUAL CLASS W/ THE WONDERS
DESCRIPTION:#HIPHOPTURNUP VIRTUAL CLASS W/ THE WONDERS \nTO PURCHASE CLASS\, CLICK ON LINK BELOW: \nhttps://thewonderslive.com/collections/drop-in-live-classes/products/hip-hop-turnup-03-13-12pm-pst 
URL:https://thewonderscollective.com/event/hiphopturnup-virtual-class-w-the-wonders-36/
LOCATION:Tha’ DEN at WONDERLAND
ATTACH;FMTTYPE=image/jpeg:https://thewonderscollective.com/wp-content/uploads/2019/11/Gallery2-scaled.jpg
END:VEVENT
BEGIN:VEVENT
DTSTART;TZID=UTC:20210309T180000
DTEND;TZID=UTC:20210309T184500
DTSTAMP:20260420T075353
CREATED:20210303T061549Z
LAST-MODIFIED:20210303T061549Z
UID:10231-1615312800-1615315500@thewonderscollective.com
SUMMARY:#HIPHOPTURNUP VIRTUAL CLASS W/ THE WONDERS
DESCRIPTION:#HIPHOPTURNUP VIRTUAL CLASS W/ THE WONDERS \nTO PURCHASE CLASS\, CLICK ON LINK BELOW: \nhttps://thewonderslive.com/collections/drop-in-live-classes/products/hip-hop-turnup-03-09-6pm-pst 
URL:https://thewonderscollective.com/event/hiphopturnup-virtual-class-w-the-wonders-35/
LOCATION:Tha’ DEN at WONDERLAND
ATTACH;FMTTYPE=image/jpeg:https://thewonderscollective.com/wp-content/uploads/2019/11/Gallery2-scaled.jpg
END:VEVENT
BEGIN:VEVENT
DTSTART;TZID=UTC:20210308T110000
DTEND;TZID=UTC:20210308T115000
DTSTAMP:20260420T075353
CREATED:20210306T053441Z
LAST-MODIFIED:20210306T053441Z
UID:10246-1615201200-1615204200@thewonderscollective.com
SUMMARY:ZUMBA VIRTUAL CLASS w/ GINA
DESCRIPTION:ZUMBA VIRTUAL CLASS w/ GINA \nTO PURCHASE CLASS\, CLICK ON THE LINK BELOW: \nhttps://thewonderslive.com/collections/drop-in-live-classes/products/zumba-live-03-08-11am-pst 
URL:https://thewonderscollective.com/event/zumba-virtual-class-w-gina-23/
LOCATION:Tha’ DEN at WONDERLAND
ATTACH;FMTTYPE=image/jpeg:https://thewonderscollective.com/wp-content/uploads/2019/11/Gallery6-scaled.jpg
ORGANIZER;CN="Gina Grant":MAILTO:gina.grant@zumbamail.com
END:VEVENT
BEGIN:VEVENT
DTSTART;TZID=UTC:20210306T120000
DTEND;TZID=UTC:20210306T124500
DTSTAMP:20260420T075353
CREATED:20210303T061113Z
LAST-MODIFIED:20210303T061113Z
UID:10229-1615032000-1615034700@thewonderscollective.com
SUMMARY:#HIPHOPTURNUP VIRTUAL CLASS W/ THE WONDERS
DESCRIPTION:#HIPHOPTURNUP VIRTUAL CLASS W/ THE WONDERS \nTO PURCHASE CLASS\, CLICK ON LINK BELOW: \nhttps://thewonderslive.com/collections/drop-in-live-classes/products/hip-hop-turnup-03-06-12pm-pst 
URL:https://thewonderscollective.com/event/hiphopturnup-virtual-class-w-the-wonders-34/
LOCATION:Tha’ DEN at WONDERLAND
ATTACH;FMTTYPE=image/jpeg:https://thewonderscollective.com/wp-content/uploads/2019/11/Gallery2-scaled.jpg
END:VEVENT
BEGIN:VEVENT
DTSTART;TZID=UTC:20210227T120000
DTEND;TZID=UTC:20210227T124500
DTSTAMP:20260420T075353
CREATED:20210219T190320Z
LAST-MODIFIED:20210219T190320Z
UID:10222-1614427200-1614429900@thewonderscollective.com
SUMMARY:#HIPHOPTURNUP VIRTUAL CLASS W/ THE WONDERS
DESCRIPTION:#HIPHOPTURNUP VIRTUAL CLASS W/ THE WONDERS \nTO PURCHASE CLASS\, CLICK ON LINK BELOW: \nhttps://thewonderslive.com/collections/drop-in-live-classes/products/hip-hop-turnup-02-27-12pm-pst 
URL:https://thewonderscollective.com/event/hiphopturnup-virtual-class-w-the-wonders-32/
LOCATION:Tha’ DEN at WONDERLAND
ATTACH;FMTTYPE=image/jpeg:https://thewonderscollective.com/wp-content/uploads/2019/11/Gallery2-scaled.jpg
END:VEVENT
BEGIN:VEVENT
DTSTART;TZID=UTC:20210223T180000
DTEND;TZID=UTC:20210223T184500
DTSTAMP:20260420T075353
CREATED:20210219T190515Z
LAST-MODIFIED:20210219T190515Z
UID:10224-1614103200-1614105900@thewonderscollective.com
SUMMARY:#HIPHOPTURNUP VIRTUAL CLASS W/ THE WONDERS
DESCRIPTION:#HIPHOPTURNUP VIRTUAL CLASS W/ THE WONDERS \nTO PURCHASE CLASS\, CLICK ON LINK BELOW: \nhttps://thewonderslive.com/collections/drop-in-live-classes/products/hip-hop-turnup-02-23-6pm-pst  \n  \n  \n 
URL:https://thewonderscollective.com/event/hiphopturnup-virtual-class-w-the-wonders-33/
LOCATION:Tha’ DEN at WONDERLAND
ATTACH;FMTTYPE=image/jpeg:https://thewonderscollective.com/wp-content/uploads/2019/11/Gallery2-scaled.jpg
END:VEVENT
BEGIN:VEVENT
DTSTART;TZID=UTC:20210222T110000
DTEND;TZID=UTC:20210222T115000
DTSTAMP:20260420T075353
CREATED:20210219T191023Z
LAST-MODIFIED:20210219T191023Z
UID:10226-1613991600-1613994600@thewonderscollective.com
SUMMARY:ZUMBA VIRTUAL CLASS w/ GINA
DESCRIPTION:ZUMBA VIRTUAL CLASS w/ GINA \nTO PURCHASE CLASS\, CLICK ON THE LINK BELOW: \nhttps://thewonderslive.com/collections/drop-in-live-classes/products/zumba-live-02-22-11am-pst \n 
URL:https://thewonderscollective.com/event/zumba-virtual-class-w-gina-22/
LOCATION:Tha’ DEN at WONDERLAND
ATTACH;FMTTYPE=image/jpeg:https://thewonderscollective.com/wp-content/uploads/2019/11/Gallery6-scaled.jpg
END:VEVENT
BEGIN:VEVENT
DTSTART;TZID=UTC:20210220T120000
DTEND;TZID=UTC:20210220T124500
DTSTAMP:20260420T075353
CREATED:20210219T190047Z
LAST-MODIFIED:20210219T190047Z
UID:10220-1613822400-1613825100@thewonderscollective.com
SUMMARY:#HIPHOPTURNUP VIRTUAL CLASS W/ THE WONDERS
DESCRIPTION:#HIPHOPTURNUP VIRTUAL CLASS W/ THE WONDERS \nTO PURCHASE CLASS\, CLICK ON LINK BELOW: \nhttps://thewonderslive.com/collections/drop-in-live-classes/products/hip-hop-turnup-02-20-12pm-pst 
URL:https://thewonderscollective.com/event/hiphopturnup-virtual-class-w-the-wonders-31/
LOCATION:Tha’ DEN at WONDERLAND
ATTACH;FMTTYPE=image/jpeg:https://thewonderscollective.com/wp-content/uploads/2019/11/Gallery2-scaled.jpg
END:VEVENT
BEGIN:VEVENT
DTSTART;TZID=UTC:20210215T110000
DTEND;TZID=UTC:20210215T115000
DTSTAMP:20260420T075353
CREATED:20210202T212346Z
LAST-MODIFIED:20210202T215329Z
UID:10217-1613386800-1613389800@thewonderscollective.com
SUMMARY:ZUMBA VIRTUAL CLASS w/ GINA
DESCRIPTION:ZUMBA VIRTUAL CLASS w/ GINA \nTO PURCHASE CLASS\, CLICK ON THE LINK BELOW: \nhttps://thewonderslive.com/collections/drop-in-live-classes/products/zumba-live-02-15-11am-pst \n 
URL:https://thewonderscollective.com/event/10217/
LOCATION:Tha’ DEN at WONDERLAND
ATTACH;FMTTYPE=image/jpeg:https://thewonderscollective.com/wp-content/uploads/2019/11/Gallery6-scaled.jpg
END:VEVENT
BEGIN:VEVENT
DTSTART;TZID=UTC:20210214T170000
DTEND;TZID=UTC:20210214T180000
DTSTAMP:20260420T075353
CREATED:20210126T065059Z
LAST-MODIFIED:20210126T065059Z
UID:10203-1613322000-1613325600@thewonderscollective.com
SUMMARY:The WONDERLOVE Virtual Show
DESCRIPTION:The WONDERLOVE Virtual Show\nValentine’s Day Edition\nFebruary 14\, 2021 5pmPST-6pmPST (GMT-8:00)\n\nThe WONDERLOVE Virtual Show Valentine’s Day  Edition starring Dahrio Wonder with opening set by DJ SPINZ 305.\n\nEnjoy an evening of feel good music and undeniable vibes. Sit back and relax  in the comfort of your own home with or without a Valentine while Mr. Wonder takes you on a smooth and sexy ride.\n\nPurchase tickets below:\nhttps://thewonderslive.com/products/the-wonderlove-virtual-show  
URL:https://thewonderscollective.com/event/the-wonderlove-virtual-show/
LOCATION:WONDERLAND
ATTACH;FMTTYPE=image/jpeg:https://thewonderscollective.com/wp-content/uploads/2021/01/IMG_0977.jpg
END:VEVENT
BEGIN:VEVENT
DTSTART;TZID=UTC:20210213T120000
DTEND;TZID=UTC:20210213T124500
DTSTAMP:20260420T075353
CREATED:20210202T211901Z
LAST-MODIFIED:20210202T211901Z
UID:10213-1613217600-1613220300@thewonderscollective.com
SUMMARY:
DESCRIPTION:#HIPHOPTURNUP VIRTUAL CLASS W/ THE WONDERS \nTO PURCHASE CLASS\, CLICK ON LINK BELOW: \nhttps://thewonderslive.com/collections/drop-in-live-classes/products/hip-hop-turnup-02-13-12pm-pst
URL:https://thewonderscollective.com/event/10213/
LOCATION:Tha’ DEN at WONDERLAND
ATTACH;FMTTYPE=image/jpeg:https://thewonderscollective.com/wp-content/uploads/2019/11/Gallery2-scaled.jpg
END:VEVENT
BEGIN:VEVENT
DTSTART;TZID=UTC:20210209T180000
DTEND;TZID=UTC:20210209T184500
DTSTAMP:20260420T075353
CREATED:20210202T211646Z
LAST-MODIFIED:20210202T211646Z
UID:10211-1612893600-1612896300@thewonderscollective.com
SUMMARY:#HIPHOPTURNUP VIRTUAL CLASS W/ THE WONDERS
DESCRIPTION:#HIPHOPTURNUP VIRTUAL CLASS W/ THE WONDERS \nTO PURCHASE CLASS\, CLICK ON LINK BELOW: \nhttps://thewonderslive.com/collections/drop-in-live-classes/products/hip-hop-turnup-02-09-6pm-pst 
URL:https://thewonderscollective.com/event/hiphopturnup-virtual-class-w-the-wonders-30/
LOCATION:Tha’ DEN at WONDERLAND
ATTACH;FMTTYPE=image/jpeg:https://thewonderscollective.com/wp-content/uploads/2019/11/Gallery2-scaled.jpg
END:VEVENT
BEGIN:VEVENT
DTSTART;TZID=UTC:20210208T110000
DTEND;TZID=UTC:20210208T115000
DTSTAMP:20260420T075353
CREATED:20210202T212118Z
LAST-MODIFIED:20210202T212118Z
UID:10215-1612782000-1612785000@thewonderscollective.com
SUMMARY:ZUMBA VIRTUAL CLASS w/ GINA
DESCRIPTION:ZUMBA VIRTUAL CLASS w/ GINA \nTO PURCHASE CLASS\, CLICK ON THE LINK BELOW: \nhttps://thewonderslive.com/collections/drop-in-live-classes/products/zumba-live-02-08-11am-pst 
URL:https://thewonderscollective.com/event/zumba-virtual-class-w-gina-21/
LOCATION:Tha’ DEN at WONDERLAND
ATTACH;FMTTYPE=image/jpeg:https://thewonderscollective.com/wp-content/uploads/2019/11/Gallery6-scaled.jpg
END:VEVENT
BEGIN:VEVENT
DTSTART;TZID=UTC:20210206T120000
DTEND;TZID=UTC:20210206T124500
DTSTAMP:20260420T075353
CREATED:20210202T210910Z
LAST-MODIFIED:20210202T211327Z
UID:10209-1612612800-1612615500@thewonderscollective.com
SUMMARY:#HIPHOPTURNUP VIRTUAL CLASS W/ THE WONDERS
DESCRIPTION:#HIPHOPTURNUP VIRTUAL CLASS W/ THE WONDERS \nTO PURCHASE CLASS\, CLICK ON LINK BELOW: \nhttps://thewonderslive.com/collections/drop-in-live-classes/products/hip-hop-turnup-12pm-pst  \n 
URL:https://thewonderscollective.com/event/hiphopturnup-virtual-class-w-the-wonders-29/
LOCATION:Tha’ DEN at WONDERLAND
ATTACH;FMTTYPE=image/jpeg:https://thewonderscollective.com/wp-content/uploads/2019/11/Gallery2-scaled.jpg
END:VEVENT
BEGIN:VEVENT
DTSTART;TZID=UTC:20210202T180000
DTEND;TZID=UTC:20210202T184500
DTSTAMP:20260420T075353
CREATED:20210202T210420Z
LAST-MODIFIED:20210202T210420Z
UID:10207-1612288800-1612291500@thewonderscollective.com
SUMMARY:#HIPHOPTURNUP VIRTUAL CLASS W/ THE WONDERS
DESCRIPTION:#HIPHOPTURNUP VIRTUAL CLASS W/ THE WONDERS \nTO PURCHASE CLASS\, CLICK ON LINK BELOW: \nhttps://thewonderslive.com/collections/drop-in-live-classes/products/hip-hop-turnup-02-02-6pm-pst 
URL:https://thewonderscollective.com/event/hiphopturnup-virtual-class-w-the-wonders-28/
LOCATION:Tha’ DEN at WONDERLAND
ATTACH;FMTTYPE=image/jpeg:https://thewonderscollective.com/wp-content/uploads/2019/11/2_TURNUP_icon-1.jpg
END:VEVENT
BEGIN:VEVENT
DTSTART;TZID=UTC:20210130T120000
DTEND;TZID=UTC:20210130T124500
DTSTAMP:20260420T075353
CREATED:20210119T195844Z
LAST-MODIFIED:20210119T195844Z
UID:10196-1612008000-1612010700@thewonderscollective.com
SUMMARY:#HIPHOPTURNUP VIRTUAL CLASS W/ THE WONDERS
DESCRIPTION:#HIPHOPTURNUP VIRTUAL CLASS W/ THE WONDERS \nTO PURCHASE CLASS\, CLICK ON LINK BELOW: \nhttps://thewonderslive.com/collections/drop-in-live-classes/products/hip-hop-turnup-01-30-12pm-pt 
URL:https://thewonderscollective.com/event/hiphopturnup-virtual-class-w-the-wonders-27/
LOCATION:Tha’ DEN at WONDERLAND
ATTACH;FMTTYPE=image/jpeg:https://thewonderscollective.com/wp-content/uploads/2019/11/Gallery4-scaled.jpg
END:VEVENT
BEGIN:VEVENT
DTSTART;TZID=UTC:20210126T180000
DTEND;TZID=UTC:20210126T184500
DTSTAMP:20260420T075353
CREATED:20210119T195539Z
LAST-MODIFIED:20210119T195539Z
UID:10194-1611684000-1611686700@thewonderscollective.com
SUMMARY:#HIPHOPTURNUP VIRTUAL CLASS W/ THE WONDERS
DESCRIPTION:#HIPHOPTURNUP VIRTUAL CLASS W/ THE WONDERS \nTO PURCHASE CLASS\, CLICK ON LINK BELOW: \nhttps://thewonderslive.com/collections/drop-in-live-classes/products/hip-hop-turnup-01-26-6pm-pt 
URL:https://thewonderscollective.com/event/hiphopturnup-virtual-class-w-the-wonders-26/
LOCATION:Tha’ DEN at WONDERLAND
ATTACH;FMTTYPE=image/jpeg:https://thewonderscollective.com/wp-content/uploads/2019/11/Gallery4-scaled.jpg
END:VEVENT
BEGIN:VEVENT
DTSTART;TZID=UTC:20210125T110000
DTEND;TZID=UTC:20210125T235000
DTSTAMP:20260420T075353
CREATED:20210119T200252Z
LAST-MODIFIED:20210119T200252Z
UID:10198-1611572400-1611618600@thewonderscollective.com
SUMMARY:ZUMBA VIRTUAL CLASS w/ GINA
DESCRIPTION:ZUMBA VIRTUAL CLASS w/ GINA \nTO PURCHASE CLASS\, CLICK ON THE LINK BELOW: \nhttps://thewonderslive.com/collections/drop-in-live-classes/products/zumba-live-01-25-11am-pt  \n 
URL:https://thewonderscollective.com/event/zumba-virtual-class-w-gina-20/
LOCATION:Tha’ DEN at WONDERLAND
ATTACH;FMTTYPE=image/jpeg:https://thewonderscollective.com/wp-content/uploads/2019/11/Gallery6-scaled.jpg
END:VEVENT
BEGIN:VEVENT
DTSTART;TZID=UTC:20210123T120000
DTEND;TZID=UTC:20210123T124500
DTSTAMP:20260420T075353
CREATED:20210119T195133Z
LAST-MODIFIED:20210119T195133Z
UID:10191-1611403200-1611405900@thewonderscollective.com
SUMMARY:#HIPHOPTURNUP VIRTUAL CLASS W/ THE WONDERS
DESCRIPTION:#HIPHOPTURNUP VIRTUAL CLASS W/ THE WONDERS \nTO PURCHASE CLASS\, CLICK ON LINK BELOW: \nhttps://thewonderslive.com/collections/drop-in-live-classes/products/hip-hop-turnup-01-23-12pm-pt \n  \n 
URL:https://thewonderscollective.com/event/hiphopturnup-virtual-class-w-the-wonders-25/
LOCATION:Tha’ DEN at WONDERLAND
ATTACH;FMTTYPE=image/jpeg:https://thewonderscollective.com/wp-content/uploads/2019/11/Gallery4-scaled.jpg
END:VEVENT
BEGIN:VEVENT
DTSTART;TZID=UTC:20210119T180000
DTEND;TZID=UTC:20210119T184500
DTSTAMP:20260420T075353
CREATED:20201228T224830Z
LAST-MODIFIED:20201228T224830Z
UID:10179-1611079200-1611081900@thewonderscollective.com
SUMMARY:#HIPHOPTURNUP VIRTUAL CLASS W/ THE WONDERS
DESCRIPTION:#HIPHOPTURNUP VIRTUAL CLASS W/ THE WONDERS \nTO PURCHASE CLASS\, CLICK ON LINK BELOW: \nhttps://thewonderslive.com/collections/drop-in-live-classes/products/hip-hop-turnup-01-19-6pm-pt 
URL:https://thewonderscollective.com/event/hiphopturnup-virtual-class-w-the-wonders-24/
LOCATION:Tha’ DEN at WONDERLAND
ATTACH;FMTTYPE=image/jpeg:https://thewonderscollective.com/wp-content/uploads/2020/09/HHTU-Logo.jpg-scaled.jpg
END:VEVENT
BEGIN:VEVENT
DTSTART;TZID=UTC:20210118T110000
DTEND;TZID=UTC:20210118T115000
DTSTAMP:20260420T075353
CREATED:20201228T225622Z
LAST-MODIFIED:20201228T225622Z
UID:10185-1610967600-1610970600@thewonderscollective.com
SUMMARY:ZUMBA VIRTUAL CLASS w/ GINA
DESCRIPTION:ZUMBA VIRTUAL CLASS w/ GINA \nTO PURCHASE CLASS\, CLICK ON THE LINK BELOW: \nhttps://thewonderslive.com/collections/drop-in-live-classes/products/zumba-live-01-18-11am-pt  \n  \n 
URL:https://thewonderscollective.com/event/zumba-virtual-class-w-gina-19/
LOCATION:Tha’ DEN at WONDERLAND
ATTACH;FMTTYPE=image/jpeg:https://thewonderscollective.com/wp-content/uploads/2019/11/Gallery6-scaled.jpg
END:VEVENT
BEGIN:VEVENT
DTSTART;TZID=UTC:20210116T120000
DTEND;TZID=UTC:20210116T124500
DTSTAMP:20260420T075353
CREATED:20201228T224641Z
LAST-MODIFIED:20201228T224641Z
UID:10177-1610798400-1610801100@thewonderscollective.com
SUMMARY:#HIPHOPTURNUP VIRTUAL CLASS W/ THE WONDERS
DESCRIPTION:#HIPHOPTURNUP VIRTUAL CLASS W/ THE WONDERS \nTO PURCHASE CLASS\, CLICK ON LINK BELOW: \nhttps://thewonderslive.com/collections/drop-in-live-classes/products/hip-hop-turnup-01-16-12pm-pt 
URL:https://thewonderscollective.com/event/hiphopturnup-virtual-class-w-the-wonders-23/
LOCATION:Tha’ DEN at WONDERLAND
ATTACH;FMTTYPE=image/jpeg:https://thewonderscollective.com/wp-content/uploads/2020/09/HHTU-Logo.jpg-scaled.jpg
END:VEVENT
BEGIN:VEVENT
DTSTART;TZID=UTC:20210112T180000
DTEND;TZID=UTC:20210112T184500
DTSTAMP:20260420T075353
CREATED:20201228T224440Z
LAST-MODIFIED:20201228T224440Z
UID:10175-1610474400-1610477100@thewonderscollective.com
SUMMARY:#HIPHOPTURNUP VIRTUAL CLASS W/ THE WONDERS
DESCRIPTION:#HIPHOPTURNUP VIRTUAL CLASS W/ THE WONDERS \nTO PURCHASE CLASS\, CLICK ON LINK BELOW: \nhttps://thewonderslive.com/collections/drop-in-live-classes/products/hip-hop-turnup-01-12-6pm-pt  
URL:https://thewonderscollective.com/event/hiphopturnup-virtual-class-w-the-wonders-22/
LOCATION:Tha’ DEN at WONDERLAND
ATTACH;FMTTYPE=image/jpeg:https://thewonderscollective.com/wp-content/uploads/2020/09/HHTU-Logo.jpg-scaled.jpg
END:VEVENT
BEGIN:VEVENT
DTSTART;TZID=UTC:20210111T110000
DTEND;TZID=UTC:20210111T115000
DTSTAMP:20260420T075353
CREATED:20201228T225445Z
LAST-MODIFIED:20201228T225445Z
UID:10183-1610362800-1610365800@thewonderscollective.com
SUMMARY:ZUMBA VIRTUAL CLASS w/ GINA
DESCRIPTION:ZUMBA VIRTUAL CLASS w/ GINA \nTO PURCHASE CLASS\, CLICK ON THE LINK BELOW: \nhttps://thewonderslive.com/collections/drop-in-live-classes/products/zumba-live-01-11-11am-pt 
URL:https://thewonderscollective.com/event/zumba-virtual-class-w-gina-18/
LOCATION:Tha’ DEN at WONDERLAND
ATTACH;FMTTYPE=image/jpeg:https://thewonderscollective.com/wp-content/uploads/2019/11/Gallery6-scaled.jpg
END:VEVENT
BEGIN:VEVENT
DTSTART;TZID=UTC:20210109T120000
DTEND;TZID=UTC:20210109T124500
DTSTAMP:20260420T075353
CREATED:20201228T224252Z
LAST-MODIFIED:20201228T224252Z
UID:10173-1610193600-1610196300@thewonderscollective.com
SUMMARY:#HIPHOPTURNUP VIRTUAL CLASS W/ THE WONDERS
DESCRIPTION:#HIPHOPTURNUP VIRTUAL CLASS W/ THE WONDERS \nTO PURCHASE CLASS\, CLICK ON LINK BELOW: \nhttps://thewonderslive.com/collections/drop-in-live-classes/products/hip-hop-turnup-01-09-12pm-pdt 
URL:https://thewonderscollective.com/event/hiphopturnup-virtual-class-w-the-wonders-21/
LOCATION:Tha’ DEN at WONDERLAND
ATTACH;FMTTYPE=image/jpeg:https://thewonderscollective.com/wp-content/uploads/2020/09/HHTU-Logo.jpg-scaled.jpg
END:VEVENT
BEGIN:VEVENT
DTSTART;TZID=UTC:20210105T180000
DTEND;TZID=UTC:20210105T184500
DTSTAMP:20260420T075353
CREATED:20201228T223935Z
LAST-MODIFIED:20201228T223935Z
UID:10171-1609869600-1609872300@thewonderscollective.com
SUMMARY:#HIPHOPTURNUP VIRTUAL CLASS W/ THE WONDERS
DESCRIPTION:#HIPHOPTURNUP VIRTUAL CLASS W/ THE WONDERS \nTO PURCHASE CLASS\, CLICK ON LINK BELOW: \nhttps://thewonderslive.com/collections/drop-in-live-classes/products/hip-hop-turnup-01-05-6pm-pt 
URL:https://thewonderscollective.com/event/hiphopturnup-virtual-class-w-the-wonders-20/
LOCATION:Tha’ DEN at WONDERLAND
ATTACH;FMTTYPE=image/jpeg:https://thewonderscollective.com/wp-content/uploads/2020/09/HHTU-Logo.jpg-scaled.jpg
END:VEVENT
BEGIN:VEVENT
DTSTART;TZID=UTC:20210104T110000
DTEND;TZID=UTC:20210104T115000
DTSTAMP:20260420T075353
CREATED:20201228T225113Z
LAST-MODIFIED:20201228T225113Z
UID:10181-1609758000-1609761000@thewonderscollective.com
SUMMARY:ZUMBA VIRTUAL CLASS w/ GINA
DESCRIPTION:ZUMBA VIRTUAL CLASS w/ GINA \nTO PURCHASE CLASS\, CLICK ON THE LINK BELOW: \nhttps://thewonderslive.com/collections/drop-in-live-classes/products/zumba-live-01-04-11am-pt  \n 
URL:https://thewonderscollective.com/event/zumba-virtual-class-w-gina-17/
LOCATION:Tha’ DEN at WONDERLAND
ATTACH;FMTTYPE=image/jpeg:https://thewonderscollective.com/wp-content/uploads/2019/11/Gallery6-scaled.jpg
END:VEVENT
BEGIN:VEVENT
DTSTART;TZID=UTC:20210102T120000
DTEND;TZID=UTC:20210102T124500
DTSTAMP:20260420T075353
CREATED:20201228T223559Z
LAST-MODIFIED:20201228T223559Z
UID:10167-1609588800-1609591500@thewonderscollective.com
SUMMARY:#HIPHOPTURNUP VIRTUAL CLASS W/ THE WONDERS
DESCRIPTION:#HIPHOPTURNUP VIRTUAL CLASS W/ THE WONDERS \nTO PURCHASE CLASS\, CLICK ON LINK BELOW: \nhttps://thewonderslive.com/collections/drop-in-live-classes/products/hip-hop-turnup-live-12pm-pst-01-02 
URL:https://thewonderscollective.com/event/hiphopturnup-virtual-class-w-the-wonders-19/
LOCATION:Tha’ DEN at WONDERLAND
ATTACH;FMTTYPE=image/jpeg:https://thewonderscollective.com/wp-content/uploads/2020/09/HHTU-Logo.jpg-scaled.jpg
END:VEVENT
BEGIN:VEVENT
DTSTART;TZID=UTC:20201229T180000
DTEND;TZID=UTC:20201229T184500
DTSTAMP:20260420T075353
CREATED:20201228T223231Z
LAST-MODIFIED:20201228T223231Z
UID:10165-1609264800-1609267500@thewonderscollective.com
SUMMARY:#HIPHOPTURNUP VIRTUAL CLASS W/ THE WONDERS
DESCRIPTION:#HIPHOPTURNUP VIRTUAL CLASS W/ THE WONDERS \nTO PURCHASE CLASS\, CLICK ON LINK BELOW: \nhttps://thewonderslive.com/collections/drop-in-live-classes/products/hip-hop-turnup-12-29-6pm-pdt 
URL:https://thewonderscollective.com/event/hiphopturnup-virtual-class-w-the-wonders-18/
LOCATION:Tha’ DEN at WONDERLAND
ATTACH;FMTTYPE=image/jpeg:https://thewonderscollective.com/wp-content/uploads/2020/09/HHTU-Logo.jpg-scaled.jpg
END:VEVENT
END:VCALENDAR