BEGIN:VCALENDAR
VERSION:2.0
PRODID:-//The Wonders Collective - ECPv6.15.16//NONSGML v1.0//EN
CALSCALE:GREGORIAN
METHOD:PUBLISH
X-WR-CALNAME:The Wonders Collective
X-ORIGINAL-URL:https://thewonderscollective.com
X-WR-CALDESC:Events for The Wonders Collective
REFRESH-INTERVAL;VALUE=DURATION:PT1H
X-Robots-Tag:noindex
X-PUBLISHED-TTL:PT1H
BEGIN:VTIMEZONE
TZID:UTC
BEGIN:STANDARD
TZOFFSETFROM:+0000
TZOFFSETTO:+0000
TZNAME:UTC
DTSTART:20190101T000000
END:STANDARD
END:VTIMEZONE
BEGIN:VEVENT
DTSTART;TZID=UTC:20201205T120000
DTEND;TZID=UTC:20201205T124500
DTSTAMP:20260422T222740
CREATED:20201201T072343Z
LAST-MODIFIED:20201201T072343Z
UID:10135-1607169600-1607172300@thewonderscollective.com
SUMMARY:#HIPHOPTURNUP VIRTUAL CLASS W/ THE WONDERS
DESCRIPTION:#HIPHOPTURNUP VIRTUAL CLASS W/ THE WONDERS \nTO PURCHASE CLASS\, CLICK ON LINK BELOW: \nhttps://thewonderslive.com/collections/drop-in-live-classes/products/hip-hop-turnup-12-05-12pm-pdt 
URL:https://thewonderscollective.com/event/hiphopturnup-virtual-class-w-the-wonders-13/
LOCATION:WONDERLAND
ATTACH;FMTTYPE=image/jpeg:https://thewonderscollective.com/wp-content/uploads/2019/11/WC_NewFooterImage.jpg
END:VEVENT
BEGIN:VEVENT
DTSTART;TZID=UTC:20201203T190000
DTEND;TZID=UTC:20201203T195000
DTSTAMP:20260422T222740
CREATED:20201201T074318Z
LAST-MODIFIED:20201201T074318Z
UID:10145-1607022000-1607025000@thewonderscollective.com
SUMMARY:ZUMBA VIRTUAL CLASS w/ GINA
DESCRIPTION:ZUMBA VIRTUAL CLASS w/ GINA \nTO PURCHASE CLASS\, CLICK ON THE LINK BELOW: \nhttps://thewonderslive.com/collections/drop-in-live-classes/products/zumba-live-12-03-7pm-pdt 
URL:https://thewonderscollective.com/event/zumba-virtual-class-w-gina-12/
LOCATION:WONDERLAND
ATTACH;FMTTYPE=image/jpeg:https://thewonderscollective.com/wp-content/uploads/2019/11/Gallery6-scaled.jpg
END:VEVENT
BEGIN:VEVENT
DTSTART;TZID=UTC:20201201T180000
DTEND;TZID=UTC:20201201T184500
DTSTAMP:20260422T222740
CREATED:20201201T072125Z
LAST-MODIFIED:20201201T072125Z
UID:10133-1606845600-1606848300@thewonderscollective.com
SUMMARY:#HIPHOPTURNUP VIRTUAL CLASS W/ THE WONDERS
DESCRIPTION:#HIPHOPTURNUP VIRTUAL CLASS W/ THE WONDERS \nTO PURCHASE CLASS\, CLICK ON LINK BELOW: \nhttps://thewonderslive.com/collections/drop-in-live-classes/products/hip-hop-turnup-12-01-6pm-pdt 
URL:https://thewonderscollective.com/event/hiphopturnup-virtual-class-w-the-wonders-12/
LOCATION:WONDERLAND
ATTACH;FMTTYPE=image/jpeg:https://thewonderscollective.com/wp-content/uploads/2019/11/WC_NewFooterImage.jpg
END:VEVENT
BEGIN:VEVENT
DTSTART;TZID=UTC:20201130T110000
DTEND;TZID=UTC:20201130T115000
DTSTAMP:20260422T222740
CREATED:20201122T223224Z
LAST-MODIFIED:20201122T223224Z
UID:10121-1606734000-1606737000@thewonderscollective.com
SUMMARY:ZUMBA VIRTUAL CLASS w/ GINA
DESCRIPTION:ZUMBA VIRTUAL CLASS w/ GINA \nTO PURCHASE CLASS\, CLICK ON THE LINK BELOW: \nhttps://thewonderslive.com/collections/drop-in-live-classes/products/zumba-live-11-30-11am-pdt 
URL:https://thewonderscollective.com/event/zumba-virtual-class-w-gina-11/
LOCATION:WONDERLAND
ATTACH;FMTTYPE=image/jpeg:https://thewonderscollective.com/wp-content/uploads/2019/11/Gallery6-scaled.jpg
END:VEVENT
BEGIN:VEVENT
DTSTART;TZID=UTC:20201128T120000
DTEND;TZID=UTC:20201128T124500
DTSTAMP:20260422T222740
CREATED:20201122T222714Z
LAST-MODIFIED:20201122T222714Z
UID:10117-1606564800-1606567500@thewonderscollective.com
SUMMARY:#HIPHOPTURNUP VIRTUAL CLASS W/ THE WONDERS
DESCRIPTION:#HIPHOPTURNUP VIRTUAL CLASS W/ THE WONDERS \nTO PURCHASE CLASS\, CLICK ON LINK BELOW: \nhttps://thewonderslive.com/collections/drop-in-live-classes/products/hip-hop-turnup-11-28-12pm-pdt 
URL:https://thewonderscollective.com/event/hiphopturnup-virtual-class-w-the-wonders-11/
LOCATION:WONDERLAND
ATTACH;FMTTYPE=image/jpeg:https://thewonderscollective.com/wp-content/uploads/2019/11/Gallery2-scaled.jpg
END:VEVENT
BEGIN:VEVENT
DTSTART;TZID=UTC:20201126T190000
DTEND;TZID=UTC:20201126T195000
DTSTAMP:20260422T222740
CREATED:20201122T223023Z
LAST-MODIFIED:20201122T223023Z
UID:10119-1606417200-1606420200@thewonderscollective.com
SUMMARY:ZUMBA VIRTUAL CLASS w/ GINA
DESCRIPTION:ZUMBA VIRTUAL CLASS w/ GINA \nTO PURCHASE CLASS\, CLICK ON THE LINK BELOW: \nhttps://thewonderslive.com/collections/drop-in-live-classes/products/zumba-live-11-26-7pm-pdt 
URL:https://thewonderscollective.com/event/zumba-virtual-class-w-gina-10/
LOCATION:WONDERLAND
ATTACH;FMTTYPE=image/jpeg:https://thewonderscollective.com/wp-content/uploads/2019/11/Gallery6-scaled.jpg
END:VEVENT
BEGIN:VEVENT
DTSTART;TZID=UTC:20201124T180000
DTEND;TZID=UTC:20201124T184500
DTSTAMP:20260422T222740
CREATED:20201122T221021Z
LAST-MODIFIED:20201122T221021Z
UID:10115-1606240800-1606243500@thewonderscollective.com
SUMMARY:#HIPHOPTURNUP VIRTUAL CLASS W/ THE WONDERS
DESCRIPTION:#HIPHOPTURNUP VIRTUAL CLASS W/ THE WONDERS \nTO PURCHASE CLASS\, CLICK ON LINK BELOW: \nhttps://thewonderslive.com/collections/drop-in-live-classes/products/hip-hop-turnup-11-24-6pm-pdt 
URL:https://thewonderscollective.com/event/hiphopturnup-virtual-class-w-the-wonders-10/
LOCATION:WONDERLAND
ATTACH;FMTTYPE=image/jpeg:https://thewonderscollective.com/wp-content/uploads/2019/11/Gallery2-scaled.jpg
END:VEVENT
BEGIN:VEVENT
DTSTART;TZID=UTC:20201123T110000
DTEND;TZID=UTC:20201123T115000
DTSTAMP:20260422T222740
CREATED:20201122T220847Z
LAST-MODIFIED:20201122T220847Z
UID:10112-1606129200-1606132200@thewonderscollective.com
SUMMARY:ZUMBA VIRTUAL CLASS w/ GINA
DESCRIPTION:ZUMBA VIRTUAL CLASS w/ GINA \nTO PURCHASE CLASS\, CLICK ON THE LINK BELOW: \nhttps://thewonderslive.com/collections/drop-in-live-classes/products/zumba-live-11-23-11am-pdt
URL:https://thewonderscollective.com/event/zumba-virtual-class-w-gina-9/
LOCATION:WONDERLAND
ATTACH;FMTTYPE=image/jpeg:https://thewonderscollective.com/wp-content/uploads/2019/11/Gallery6-scaled.jpg
END:VEVENT
BEGIN:VEVENT
DTSTART;TZID=UTC:20201122T103000
DTEND;TZID=UTC:20201122T120000
DTSTAMP:20260422T222740
CREATED:20201102T172248Z
LAST-MODIFIED:20201102T172248Z
UID:10030-1606041000-1606046400@thewonderscollective.com
SUMMARY:CALLING ALL QUEENS & KINGS MASTER CLASS
DESCRIPTION:Join Gina and Loretta for a 90 minute Master Class filled with Zumba® and a taste of Hip Hop TURNUP and Fitness Bellydance!  Gina and Loretta have both been instructors for over a decade and are ready to share their passion for Zumba® and Dance in a class designed for ROYALTY:  YOU!  You don’t want to miss a chance to dance with these ladies who have been Ambassadors for the Zumba® program and are featured on multiple video games\, Fitness DVDs and Instructional materials!  You will learn\, you will sweat\, you will shake\, you will smile!  YOU don’t want to miss it! \nPurchase class on the link below: \nhttps://lorettabates.com/product/gina-loretta-masterclass/ 
URL:https://thewonderscollective.com/event/calling-all-queens-kings-master-class/
LOCATION:WONDERLAND
END:VEVENT
BEGIN:VEVENT
DTSTART;TZID=UTC:20201121T120000
DTEND;TZID=UTC:20201121T124500
DTSTAMP:20260422T222740
CREATED:20201102T180056Z
LAST-MODIFIED:20201102T180056Z
UID:10047-1605960000-1605962700@thewonderscollective.com
SUMMARY:#HIPHOPTURNUP VIRTUAL CLASS W/ THE WONDERS
DESCRIPTION:#HIPHOPTURNUP VIRTUAL CLASS W/ THE WONDERS \nTO PURCHASE CLASS\, CLICK ON LINK BELOW: \nhttps://thewonderslive.com/collections/drop-in-live-classes/products/hip-hop-turnup-11-21-12pm-pdt 
URL:https://thewonderscollective.com/event/hiphopturnup-virtual-class-w-the-wonders-9/
LOCATION:WONDERLAND
ATTACH;FMTTYPE=image/jpeg:https://thewonderscollective.com/wp-content/uploads/2019/11/Gallery2-scaled.jpg
END:VEVENT
BEGIN:VEVENT
DTSTART;TZID=UTC:20201119T190000
DTEND;TZID=UTC:20201119T195000
DTSTAMP:20260422T222740
CREATED:20201102T174724Z
LAST-MODIFIED:20201102T174724Z
UID:10043-1605812400-1605815400@thewonderscollective.com
SUMMARY:ZUMBA VIRTUAL CLASS w/ GINA
DESCRIPTION:ZUMBA VIRTUAL CLASS w/ GINA \nTO PURCHASE CLASS\, CLICK ON THE LINK BELOW: \nhttps://thewonderslive.com/collections/drop-in-live-classes/products/zumba-live-11-19-7pm-pdt   \n 
URL:https://thewonderscollective.com/event/zumba-virtual-class-w-gina-8/
LOCATION:WONDERLAND
ATTACH;FMTTYPE=image/jpeg:https://thewonderscollective.com/wp-content/uploads/2019/11/Gallery6-scaled.jpg
END:VEVENT
BEGIN:VEVENT
DTSTART;TZID=UTC:20201117T180000
DTEND;TZID=UTC:20201117T184500
DTSTAMP:20260422T222740
CREATED:20201102T175836Z
LAST-MODIFIED:20201102T175836Z
UID:10045-1605636000-1605638700@thewonderscollective.com
SUMMARY:#HIPHOPTURNUP VIRTUAL CLASS W/ THE WONDERS
DESCRIPTION:#HIPHOPTURNUP VIRTUAL CLASS W/ THE WONDERS \nTO PURCHASE CLASS\, CLICK ON LINK BELOW: \nhttps://thewonderslive.com/collections/drop-in-live-classes/products/hip-hop-turnup-11-17-6pm-pdt  \n 
URL:https://thewonderscollective.com/event/hiphopturnup-virtual-class-w-the-wonders-8/
LOCATION:WONDERLAND
ATTACH;FMTTYPE=image/jpeg:https://thewonderscollective.com/wp-content/uploads/2019/11/Gallery2-scaled.jpg
END:VEVENT
BEGIN:VEVENT
DTSTART;TZID=UTC:20201116T110000
DTEND;TZID=UTC:20201116T115000
DTSTAMP:20260422T222740
CREATED:20201102T174520Z
LAST-MODIFIED:20201102T174520Z
UID:10040-1605524400-1605527400@thewonderscollective.com
SUMMARY:ZUMBA VIRTUAL CLASS w/ GINA
DESCRIPTION:ZUMBA VIRTUAL CLASS w/ GINA \nTO PURCHASE CLASS\, CLICK ON THE LINK BELOW: \nhttps://thewonderslive.com/collections/drop-in-live-classes/products/zumba-live-11-16-11am-pdt
URL:https://thewonderscollective.com/event/zumba-virtual-class-w-gina-7/
LOCATION:WONDERLAND
ATTACH;FMTTYPE=image/jpeg:https://thewonderscollective.com/wp-content/uploads/2019/11/Gallery6-scaled.jpg
END:VEVENT
BEGIN:VEVENT
DTSTART;TZID=UTC:20201113T180000
DTEND;TZID=UTC:20201113T184500
DTSTAMP:20260422T222740
CREATED:20201102T171417Z
LAST-MODIFIED:20201102T171417Z
UID:10024-1605290400-1605293100@thewonderscollective.com
SUMMARY:#HIPHOPTURNUP VIRTUAL CLASS W/ THE WONDERS
DESCRIPTION:#HIPHOPTURNUP VIRTUAL CLASS W/ THE WONDERS \nTO PURCHASE CLASS\, CLICK ON LINK BELOW: \nhttps://thewonderslive.com/collections/drop-in-live-classes/products/hip-hop-turnup-11-03-6pm-pdt  \n 
URL:https://thewonderscollective.com/event/hiphopturnup-virtual-class-w-the-wonders-7/
LOCATION:WONDERLAND
ATTACH;FMTTYPE=image/jpeg:https://thewonderscollective.com/wp-content/uploads/2019/11/Gallery2-scaled.jpg
END:VEVENT
BEGIN:VEVENT
DTSTART;TZID=UTC:20201112T190000
DTEND;TZID=UTC:20201112T195000
DTSTAMP:20260422T222740
CREATED:20201102T173045Z
LAST-MODIFIED:20201102T173045Z
UID:10038-1605207600-1605210600@thewonderscollective.com
SUMMARY:ZUMBA VIRTUAL CLASS w/ GINA
DESCRIPTION:ZUMBA VIRTUAL CLASS w/ GINA \nTO PURCHASE CLASS\, CLICK ON THE LINK BELOW: \nhttps://thewonderslive.com/collections/drop-in-live-classes/products/zumba-live-11-12-7pm-pdt  \n 
URL:https://thewonderscollective.com/event/zumba-virtual-class-w-gina-6/
LOCATION:WONDERLAND
ATTACH;FMTTYPE=image/jpeg:https://thewonderscollective.com/wp-content/uploads/2019/11/Gallery6-scaled.jpg
END:VEVENT
BEGIN:VEVENT
DTSTART;TZID=UTC:20201110T180000
DTEND;TZID=UTC:20201110T184500
DTSTAMP:20260422T222740
CREATED:20201102T171205Z
LAST-MODIFIED:20201102T171205Z
UID:10022-1605031200-1605033900@thewonderscollective.com
SUMMARY:#HIPHOPTURNUP VIRTUAL CLASS W/ THE WONDERS
DESCRIPTION:#HIPHOPTURNUP VIRTUAL CLASS W/ THE WONDERS \nTO PURCHASE CLASS\, CLICK ON LINK BELOW: \nhttps://thewonderslive.com/collections/drop-in-live-classes/products/hip-hop-turnup-11-10-6pm-pdt   \n 
URL:https://thewonderscollective.com/event/hiphopturnup-virtual-class-w-the-wonders-6/
LOCATION:WONDERLAND
ATTACH;FMTTYPE=image/jpeg:https://thewonderscollective.com/wp-content/uploads/2019/11/Gallery2-scaled.jpg
END:VEVENT
BEGIN:VEVENT
DTSTART;TZID=UTC:20201109T110000
DTEND;TZID=UTC:20201109T115000
DTSTAMP:20260422T222740
CREATED:20201102T172814Z
LAST-MODIFIED:20201102T172814Z
UID:10036-1604919600-1604922600@thewonderscollective.com
SUMMARY:ZUMBA VIRTUAL CLASS w/ GINA
DESCRIPTION:ZUMBA VIRTUAL CLASS w/ GINA \nTO PURCHASE CLASS\, CLICK ON THE LINK BELOW: \nhttps://thewonderslive.com/collections/drop-in-live-classes/products/zumba-live-11-09-11am-pdt 
URL:https://thewonderscollective.com/event/zumba-virtual-class-w-gina-5/
LOCATION:WONDERLAND
ATTACH;FMTTYPE=image/jpeg:https://thewonderscollective.com/wp-content/uploads/2019/11/Gallery6-scaled.jpg
END:VEVENT
BEGIN:VEVENT
DTSTART;TZID=UTC:20201107T120000
DTEND;TZID=UTC:20201107T124500
DTSTAMP:20260422T222740
CREATED:20201102T170946Z
LAST-MODIFIED:20201102T170946Z
UID:10019-1604750400-1604753100@thewonderscollective.com
SUMMARY:#HIPHOPTURNUP VIRTUAL CLASS W/ THE WONDERS
DESCRIPTION:#HIPHOPTURNUP VIRTUAL CLASS W/ THE WONDERS \nTO PURCHASE CLASS\, CLICK ON LINK BELOW: \nhttps://thewonderslive.com/collections/drop-in-live-classes/products/hip-hop-turnup-11-07-12pm-pdt  \n 
URL:https://thewonderscollective.com/event/hiphopturnup-virtual-class-w-the-wonders-5/
LOCATION:WONDERLAND
ATTACH;FMTTYPE=image/jpeg:https://thewonderscollective.com/wp-content/uploads/2019/11/Gallery2-scaled.jpg
END:VEVENT
BEGIN:VEVENT
DTSTART;TZID=UTC:20201105T190000
DTEND;TZID=UTC:20201105T195000
DTSTAMP:20260422T222740
CREATED:20201102T172555Z
LAST-MODIFIED:20201102T172555Z
UID:10034-1604602800-1604605800@thewonderscollective.com
SUMMARY:ZUMBA VIRTUAL CLASS w/ GINA
DESCRIPTION:ZUMBA VIRTUAL CLASS w/ GINA \nTO PURCHASE CLASS\, CLICK ON THE LINK BELOW: \nhttps://thewonderslive.com/collections/drop-in-live-classes/products/zumba-live-11-05-7pm-pdt  \n 
URL:https://thewonderscollective.com/event/zumba-virtual-class-w-gina-4/
LOCATION:WONDERLAND
ATTACH;FMTTYPE=image/jpeg:https://thewonderscollective.com/wp-content/uploads/2019/11/Gallery6-scaled.jpg
END:VEVENT
BEGIN:VEVENT
DTSTART;TZID=UTC:20201104T180000
DTEND;TZID=UTC:20201104T184500
DTSTAMP:20260422T222740
CREATED:20201102T170751Z
LAST-MODIFIED:20201102T170751Z
UID:10016-1604512800-1604515500@thewonderscollective.com
SUMMARY:#HIPHOPTURNUP VIRTUAL CLASS W/ THE WONDERS
DESCRIPTION:#HIPHOPTURNUP VIRTUAL CLASS W/ THE WONDERS \n*THIS CLASS IS PRE-RECORDED* \nTO PURCHASE CLASS\, CLICK ON LINK BELOW: \nhttps://thewonderslive.com/collections/drop-in-live-classes/products/hip-hop-turnup-11-04-6pm-pdt 
URL:https://thewonderscollective.com/event/hiphopturnup-virtual-class-w-the-wonders-4/
LOCATION:WONDERLAND
ATTACH;FMTTYPE=image/jpeg:https://thewonderscollective.com/wp-content/uploads/2019/11/Gallery2-scaled.jpg
END:VEVENT
BEGIN:VEVENT
DTSTART;TZID=UTC:20201031T120000
DTEND;TZID=UTC:20201031T124500
DTSTAMP:20260422T222740
CREATED:20201019T230703Z
LAST-MODIFIED:20201019T230703Z
UID:10001-1604145600-1604148300@thewonderscollective.com
SUMMARY:#HIPHOPTURNUP VIRTUAL CLASS W/ THE WONDERS
DESCRIPTION:#HIPHOPTURNUP VIRTUAL CLASS W/ THE WONDERS \n*THIS CLASS IS PRE-RECORDED* \nTO PURCHASE CLASS\, CLICK ON LINK BELOW: \nhttps://thewonderslive.com/collections/drop-in-live-classes/products/hip-hop-turnup-9-19-12pm-pdt
URL:https://thewonderscollective.com/event/hiphopturnup-virtual-class-w-the-wonders-3/
LOCATION:WONDERLAND
ATTACH;FMTTYPE=image/jpeg:https://thewonderscollective.com/wp-content/uploads/2019/11/Gallery2-scaled.jpg
END:VEVENT
BEGIN:VEVENT
DTSTART;TZID=UTC:20201029T190000
DTEND;TZID=UTC:20201029T195000
DTSTAMP:20260422T222740
CREATED:20201019T231709Z
LAST-MODIFIED:20201019T231709Z
UID:10009-1603998000-1604001000@thewonderscollective.com
SUMMARY:ZUMBA VIRTUAL CLASS w/ GINA
DESCRIPTION:ZUMBA VIRTUAL CLASS w/ GINA \n*THIS CLASS IS PRE-RECORDED* \nTO PURCHASE CLASS\, CLICK ON THE LINK BELOW: \nhttps://thewonderslive.com/collections/drop-in-live-classes/products/hip-hop-turn-up-10-29-7pm 
URL:https://thewonderscollective.com/event/zumba-virtual-class-w-gina-3/
LOCATION:WONDERLAND
ATTACH;FMTTYPE=image/jpeg:https://thewonderscollective.com/wp-content/uploads/2019/11/Gallery6-scaled.jpg
END:VEVENT
BEGIN:VEVENT
DTSTART;TZID=UTC:20201027T180000
DTEND;TZID=UTC:20201027T184500
DTSTAMP:20260422T222740
CREATED:20201019T225732Z
LAST-MODIFIED:20201019T225859Z
UID:9997-1603821600-1603824300@thewonderscollective.com
SUMMARY:#HIPHOPTURNUP VIRTUAL CLASS W/ THE WONDERS
DESCRIPTION:#HIPHOPTURNUP VIRTUAL CLASS W/ THE WONDERS \n*THIS CLASS IS PRE-RECORDED* \nTO PURCHASE CLASS\, CLICK ON LINK BELOW: \nhttps://thewonderslive.com/collections/drop-in-live-classes/products/hip-hop-turnup-10-27-6pm-pdt
URL:https://thewonderscollective.com/event/hiphopturnup-virtual-class-w-the-wonders-2/
LOCATION:WONDERLAND
ATTACH;FMTTYPE=image/jpeg:https://thewonderscollective.com/wp-content/uploads/2019/11/Gallery2-scaled.jpg
END:VEVENT
BEGIN:VEVENT
DTSTART;TZID=UTC:20201026T110000
DTEND;TZID=UTC:20201026T235000
DTSTAMP:20260422T222740
CREATED:20201019T231530Z
LAST-MODIFIED:20201019T231530Z
UID:10007-1603710000-1603756200@thewonderscollective.com
SUMMARY:ZUMBA VIRTUAL CLASS w/ GINA
DESCRIPTION:ZUMBA VIRTUAL CLASS w/ GINA \n*THIS CLASS IS PRE-RECORDED* \nTO PURCHASE CLASS\, CLICK ON THE LINK BELOW: \nhttps://thewonderslive.com/collections/drop-in-live-classes/products/zumba-live-9-28-11am-pdt 
URL:https://thewonderscollective.com/event/zumba-virtual-class-w-gina-2/
LOCATION:WONDERLAND
ATTACH;FMTTYPE=image/jpeg:https://thewonderscollective.com/wp-content/uploads/2019/11/Gallery6-scaled.jpg
END:VEVENT
BEGIN:VEVENT
DTSTART;TZID=UTC:20201024T120000
DTEND;TZID=UTC:20201024T124500
DTSTAMP:20260422T222740
CREATED:20201019T225449Z
LAST-MODIFIED:20201019T225449Z
UID:9995-1603540800-1603543500@thewonderscollective.com
SUMMARY:#HIPHOPTURNUP VIRTUAL CLASS W/ THE WONDERS
DESCRIPTION:#HIPHOPTURNUP VIRTUAL CLASS W/ THE WONDERS \n*THIS CLASS WILL BE A PRE-RECORDED” \nTO PURCHASE CLASS\, CLICK ON LINK BELOW: \nhttps://thewonderslive.com/collections/drop-in-live-classes/products/hip-hop-turnup-live-9-12-12pm-pdt  \n 
URL:https://thewonderscollective.com/event/hiphopturnup-virtual-class-w-the-wonders/
LOCATION:WONDERLAND
ATTACH;FMTTYPE=image/jpeg:https://thewonderscollective.com/wp-content/uploads/2019/11/Gallery2-scaled.jpg
END:VEVENT
BEGIN:VEVENT
DTSTART;TZID=UTC:20201022T190000
DTEND;TZID=UTC:20201022T195000
DTSTAMP:20260422T222740
CREATED:20201019T231031Z
LAST-MODIFIED:20201019T231322Z
UID:10004-1603393200-1603396200@thewonderscollective.com
SUMMARY:ZUMBA VIRTUAL CLASS w/ GINA
DESCRIPTION:ZUMBA VIRTUAL CLASS w/ GINA \n*THIS CLASS IS PRE-RECORDED* \nTO PURCHASE CLASS\, CLICK ON THE LINK BELOW: \nhttps://thewonderslive.com/collections/drop-in-live-classes/products/zumba-live-9-24-7pm-pdt 
URL:https://thewonderscollective.com/event/zumba-virtual-class-w-gina/
LOCATION:WONDERLAND
ATTACH;FMTTYPE=image/jpeg:https://thewonderscollective.com/wp-content/uploads/2019/11/Gallery6-scaled.jpg
END:VEVENT
BEGIN:VEVENT
DTSTART;TZID=UTC:20201020T180000
DTEND;TZID=UTC:20201020T184500
DTSTAMP:20260422T222740
CREATED:20201005T230332Z
LAST-MODIFIED:20201019T230024Z
UID:9993-1603216800-1603219500@thewonderscollective.com
SUMMARY:#HIPHOPTURNUP VIRTUAL CLASS W/ THE WONDERS
DESCRIPTION:#HIPHOPTURNUP VIRTUAL CLASS W/ THE WONDERS \n*THIS CLASS IS PRE-RECORDED* \nTO PURCHASE CLASS\, CLICK ON LINK BELOW: \nhttps://thewonderslive.com/collections/drop-in-live-classes/products/hip-hop-turnup-9-26-12pm-pdt  \n 
URL:https://thewonderscollective.com/event/hiphopturnup-live-stream-class-w-the-wonders-21/
LOCATION:WONDERLAND
ATTACH;FMTTYPE=image/jpeg:https://thewonderscollective.com/wp-content/uploads/2019/11/Gallery2-scaled.jpg
END:VEVENT
BEGIN:VEVENT
DTSTART;TZID=UTC:20201019T110000
DTEND;TZID=UTC:20201019T115000
DTSTAMP:20260422T222740
CREATED:20201005T225112Z
LAST-MODIFIED:20201005T225112Z
UID:9989-1603105200-1603108200@thewonderscollective.com
SUMMARY:ZUMBA LIVE STREAM CLASS w/ GINA
DESCRIPTION:ZUMBA LIVE STREAM CLASS w/ GINA \nTO PURCHASE CLASS\, CLICK ON THE LINK BELOW: \nhttps://thewonderslive.com/collections/drop-in-live-classes/products/zumba-live-9-21-11am-pdt 
URL:https://thewonderscollective.com/event/zumba-live-stream-class-w-gina-25/
LOCATION:WONDERLAND
ATTACH;FMTTYPE=image/jpeg:https://thewonderscollective.com/wp-content/uploads/2019/11/Gallery6-scaled.jpg
END:VEVENT
BEGIN:VEVENT
DTSTART;TZID=UTC:20201017T120000
DTEND;TZID=UTC:20201017T124500
DTSTAMP:20260422T222740
CREATED:20201005T225433Z
LAST-MODIFIED:20201005T225433Z
UID:9991-1602936000-1602938700@thewonderscollective.com
SUMMARY:#HIPHOPTURNUP LIVE STREAM CLASS W/ THE WONDERS
DESCRIPTION:#HIPHOPTURNUP LIVE STREAM CLASS W/ THE WONDERS \nTO PURCHASE CLASS\, CLICK ON LINK BELOW: \nhttps://thewonderslive.com/collections/drop-in-live-classes/products/hhtu-9-5-12pm-pdt 
URL:https://thewonderscollective.com/event/hiphopturnup-live-stream-class-w-the-wonders-20/
LOCATION:WONDERLAND
ATTACH;FMTTYPE=image/jpeg:https://thewonderscollective.com/wp-content/uploads/2019/11/Gallery2-scaled.jpg
END:VEVENT
BEGIN:VEVENT
DTSTART;TZID=UTC:20201015T190000
DTEND;TZID=UTC:20201015T195000
DTSTAMP:20260422T222740
CREATED:20201005T224340Z
LAST-MODIFIED:20201005T224340Z
UID:9987-1602788400-1602791400@thewonderscollective.com
SUMMARY:ZUMBA LIVE STREAM CLASS w/ GINA
DESCRIPTION:ZUMBA LIVE STREAM CLASS w/ GINA \nTO PURCHASE CLASS\, CLICK ON THE LINK BELOW: \nhttps://thewonderslive.com/collections/drop-in-live-classes/products/zumba-live-10-15-7pm-pdt  \n 
URL:https://thewonderscollective.com/event/zumba-live-stream-class-w-gina-24/
LOCATION:WONDERLAND
ATTACH;FMTTYPE=image/jpeg:https://thewonderscollective.com/wp-content/uploads/2019/11/Gallery6-scaled.jpg
END:VEVENT
END:VCALENDAR