BEGIN:VCALENDAR
VERSION:2.0
PRODID:-//The Wonders Collective - ECPv6.15.16//NONSGML v1.0//EN
CALSCALE:GREGORIAN
METHOD:PUBLISH
X-WR-CALNAME:The Wonders Collective
X-ORIGINAL-URL:https://thewonderscollective.com
X-WR-CALDESC:Events for The Wonders Collective
REFRESH-INTERVAL;VALUE=DURATION:PT1H
X-Robots-Tag:noindex
X-PUBLISHED-TTL:PT1H
BEGIN:VTIMEZONE
TZID:UTC
BEGIN:STANDARD
TZOFFSETFROM:+0000
TZOFFSETTO:+0000
TZNAME:UTC
DTSTART:20190101T000000
END:STANDARD
END:VTIMEZONE
BEGIN:VEVENT
DTSTART;TZID=UTC:20200924T190000
DTEND;TZID=UTC:20200924T195000
DTSTAMP:20260422T222649
CREATED:20200922T064528Z
LAST-MODIFIED:20200922T064528Z
UID:9962-1600974000-1600977000@thewonderscollective.com
SUMMARY:ZUMBA LIVE STREAM CLASS w/ GINA
DESCRIPTION:ZUMBA LIVE STREAM CLASS w/ GINA \nTO PURCHASE CLASS\, CLICK ON THE LINK BELOW: \nhttps://thewonderslive.com/collections/drop-in-live-classes/products/zumba-live-9-24-7pm-pdt 
URL:https://thewonderscollective.com/event/zumba-live-stream-class-w-gina-20/
LOCATION:WONDERLAND
ATTACH;FMTTYPE=image/jpeg:https://thewonderscollective.com/wp-content/uploads/2019/11/Gallery6-scaled.jpg
END:VEVENT
BEGIN:VEVENT
DTSTART;TZID=UTC:20200922T180000
DTEND;TZID=UTC:20200922T184500
DTSTAMP:20260422T222649
CREATED:20200922T062712Z
LAST-MODIFIED:20200922T062712Z
UID:9956-1600797600-1600800300@thewonderscollective.com
SUMMARY:#HIPHOPTURNUP LIVE STREAM CLASS w/ The Wonders
DESCRIPTION:#HIPHOPTURNUP LIVE STREAM CLASS w/ The Wonders \nTO PURCHASE CLASS\, CLICK ON LINK BELOW: \nhttps://thewonderslive.com/collections/drop-in-live-classes/products/hip-hop-turnup-live-9-22-6pm-pdt   \n 
URL:https://thewonderscollective.com/event/hiphopturnup-live-stream-class-w-the-wonders-15/
LOCATION:WONDERLAND
ATTACH;FMTTYPE=image/jpeg:https://thewonderscollective.com/wp-content/uploads/2020/09/HHTU-Logo.jpg-scaled.jpg
END:VEVENT
BEGIN:VEVENT
DTSTART;TZID=UTC:20200920T083000
DTEND;TZID=UTC:20200920T163000
DTSTAMP:20260422T222649
CREATED:20200820T063107Z
LAST-MODIFIED:20200820T063107Z
UID:9929-1600590600-1600619400@thewonderscollective.com
SUMMARY:Zumba® Pro Skills Live Virtual Training  (ZIN MEMBERS ONLY)
DESCRIPTION:Zumba® Pro Skills Live Virtual Training  (ZIN MEMBERS ONLY) \nTo register\, click on the link below: \nhttps://www.zumba.com/en-US/training/2020-09-20_PS_Virtual_training_US_Gina_Grant 
URL:https://thewonderscollective.com/event/zumba-pro-skills-live-virtual-training-zin-members-only/
LOCATION:WONDERLAND
ATTACH;FMTTYPE=image/jpeg:https://thewonderscollective.com/wp-content/uploads/2019/12/ZUMBAicon3.jpg
ORGANIZER;CN="Gina Grant":MAILTO:gina.grant@zumbamail.com
END:VEVENT
BEGIN:VEVENT
DTSTART;TZID=UTC:20200919T120000
DTEND;TZID=UTC:20200919T124500
DTSTAMP:20260422T222649
CREATED:20200911T180941Z
LAST-MODIFIED:20200911T180941Z
UID:9949-1600516800-1600519500@thewonderscollective.com
SUMMARY:#HIPHOPTURNUP LIVE STREAM CLASS w/ The Wonders
DESCRIPTION:#HIPHOPTURNUP LIVE STREAM CLASS w/ The Wonders \nTO PURCHASE CLASS\, CLICK ON LINK BELOW: \nhttps://thewonderslive.com/collections/drop-in-live-classes/products/hip-hop-turnup-9-19-12pm-pdt  
URL:https://thewonderscollective.com/event/hiphopturnup-live-stream-class-w-the-wonders-14/
LOCATION:WONDERLAND
ATTACH;FMTTYPE=image/jpeg:https://thewonderscollective.com/wp-content/uploads/2019/11/Gallery4-scaled.jpg
END:VEVENT
BEGIN:VEVENT
DTSTART;TZID=UTC:20200918T100000
DTEND;TZID=UTC:20200918T140000
DTSTAMP:20260422T222649
CREATED:20200820T062817Z
LAST-MODIFIED:20200912T210622Z
UID:9925-1600423200-1600437600@thewonderscollective.com
SUMMARY:Zumba® Virtual Pro Live Virtual Training  (ZIN MEMBERS ONLY)
DESCRIPTION:Zumba® Virtual Pro Live Virtual Training (ZIN MEMBERS ONLY) \nTo register\, click on the link below: \nhttps://www.zumba.com/en-US/training/2020-09-19_ZVP_Virtual_training_US_Gina_Grant 
URL:https://thewonderscollective.com/event/zumba-virtual-pro-live-virtual-training-zin-members-only/
LOCATION:WONDERLAND
ATTACH;FMTTYPE=image/jpeg:https://thewonderscollective.com/wp-content/uploads/2019/12/ZUMBAicon3.jpg
ORGANIZER;CN="Gina Grant":MAILTO:gina.grant@zumbamail.com
END:VEVENT
BEGIN:VEVENT
DTSTART;TZID=UTC:20200917T190000
DTEND;TZID=UTC:20200917T195000
DTSTAMP:20260422T222649
CREATED:20200911T181447Z
LAST-MODIFIED:20200911T181447Z
UID:9953-1600369200-1600372200@thewonderscollective.com
SUMMARY:ZUMBA LIVE STREAM CLASS w/ GINA
DESCRIPTION:ZUMBA LIVE STREAM CLASS w/ GINA \nTO PURCHASE CLASS\, CLICK ON THE LINK BELOW: \nhttps://thewonderslive.com/collections/drop-in-live-classes/products/zumba-live-9-17-7pm-pdt.  \n 
URL:https://thewonderscollective.com/event/zumba-live-stream-class-w-gina-19/
LOCATION:WONDERLAND
ATTACH;FMTTYPE=image/jpeg:https://thewonderscollective.com/wp-content/uploads/2019/11/Gallery6-scaled.jpg
END:VEVENT
BEGIN:VEVENT
DTSTART;TZID=UTC:20200915T180000
DTEND;TZID=UTC:20200915T184500
DTSTAMP:20260422T222649
CREATED:20200911T180802Z
LAST-MODIFIED:20200911T180802Z
UID:9947-1600192800-1600195500@thewonderscollective.com
SUMMARY:#HIPHOPTURNUP LIVE STREAM CLASS w/ The Wonders
DESCRIPTION:#HIPHOPTURNUP LIVE STREAM CLASS w/ The Wonders \nTO PURCHASE CLASS\, CLICK ON LINK BELOW: \nhttps://thewonderslive.com/collections/drop-in-live-classes/products/hip-hop-turnup-live-9-15-6pm-pdt  
URL:https://thewonderscollective.com/event/hiphopturnup-live-stream-class-w-the-wonders-13/
LOCATION:WONDERLAND
ATTACH;FMTTYPE=image/jpeg:https://thewonderscollective.com/wp-content/uploads/2019/11/Gallery4-scaled.jpg
END:VEVENT
BEGIN:VEVENT
DTSTART;TZID=UTC:20200914T110000
DTEND;TZID=UTC:20200914T115000
DTSTAMP:20260422T222649
CREATED:20200911T181308Z
LAST-MODIFIED:20200911T181308Z
UID:9951-1600081200-1600084200@thewonderscollective.com
SUMMARY:ZUMBA LIVE STREAM CLASS w/ GINA
DESCRIPTION:ZUMBA LIVE STREAM CLASS w/ GINA \nTO PURCHASE CLASS\, CLICK ON THE LINK BELOW: \nhttps://thewonderslive.com/collections/drop-in-live-classes/products/zumba-live-9-14-11am-pdt   \n 
URL:https://thewonderscollective.com/event/zumba-live-stream-class-w-gina-18/
LOCATION:WONDERLAND
ATTACH;FMTTYPE=image/jpeg:https://thewonderscollective.com/wp-content/uploads/2019/11/Gallery6-scaled.jpg
END:VEVENT
BEGIN:VEVENT
DTSTART;TZID=UTC:20200912T120000
DTEND;TZID=UTC:20200912T124500
DTSTAMP:20260422T222649
CREATED:20200911T180628Z
LAST-MODIFIED:20200911T180628Z
UID:9945-1599912000-1599914700@thewonderscollective.com
SUMMARY:#HIPHOPTURNUP LIVE STREAM CLASS w/ The Wonders
DESCRIPTION:#HIPHOPTURNUP LIVE STREAM CLASS w/ The Wonders \nTO PURCHASE CLASS\, CLICK ON LINK BELOW: \nhttps://thewonderslive.com/collections/drop-in-live-classes/products/hip-hop-turnup-live-9-12-12pm-pdt  
URL:https://thewonderscollective.com/event/hiphopturnup-live-stream-class-w-the-wonders-12/
LOCATION:WONDERLAND
ATTACH;FMTTYPE=image/jpeg:https://thewonderscollective.com/wp-content/uploads/2019/11/Gallery4-scaled.jpg
END:VEVENT
BEGIN:VEVENT
DTSTART;TZID=UTC:20200907T110000
DTEND;TZID=UTC:20200907T115000
DTSTAMP:20260422T222649
CREATED:20200830T062642Z
LAST-MODIFIED:20200830T062642Z
UID:9943-1599476400-1599479400@thewonderscollective.com
SUMMARY:ZUMBA LIVE STREAM CLASS w/ GINA
DESCRIPTION:ZUMBA LIVE STREAM CLASS w/ GINA \nTO PURCHASE CLASS\, CLICK ON THE LINK BELOW: \nhttps://thewonderslive.com/collections/drop-in-live-classes/products/zumba-live-9-7-11am-pdt 
URL:https://thewonderscollective.com/event/zumba-live-stream-class-w-gina-17/
LOCATION:WONDERLAND
ATTACH;FMTTYPE=image/jpeg:https://thewonderscollective.com/wp-content/uploads/2019/11/Gallery6-scaled.jpg
END:VEVENT
BEGIN:VEVENT
DTSTART;TZID=UTC:20200905T120000
DTEND;TZID=UTC:20200905T124500
DTSTAMP:20260422T222649
CREATED:20200830T062340Z
LAST-MODIFIED:20200830T062340Z
UID:9939-1599307200-1599309900@thewonderscollective.com
SUMMARY:#HIPHOPTURNUP LIVE STREAM CLASS w/ The Wonders
DESCRIPTION:#HIPHOPTURNUP LIVE STREAM CLASS w/ The Wonders \nTO PURCHASE CLASS\, CLICK ON LINK BELOW: \nhttps://thewonderslive.com/collections/drop-in-live-classes/products/hhtu-9-5-12pm-pdt \n 
URL:https://thewonderscollective.com/event/hiphopturnup-live-stream-class-w-the-wonders-11/
LOCATION:WONDERLAND
ATTACH;FMTTYPE=image/jpeg:https://thewonderscollective.com/wp-content/uploads/2019/11/Gallery4-scaled.jpg
END:VEVENT
BEGIN:VEVENT
DTSTART;TZID=UTC:20200901T180000
DTEND;TZID=UTC:20200901T184500
DTSTAMP:20260422T222649
CREATED:20200830T041257Z
LAST-MODIFIED:20200830T041257Z
UID:9936-1598983200-1598985900@thewonderscollective.com
SUMMARY:#HIPHOPTURNUP LIVE STREAM CLASS w/ The Wonders
DESCRIPTION:#HIPHOPTURNUP LIVE STREAM CLASS w/ The Wonders \nTO PURCHASE CLASS\, CLICK ON LINK BELOW: \nhttps://thewonderslive.com/collections/drop-in-live-classes/products/hhtu-9-1-6pm-pdt \n 
URL:https://thewonderscollective.com/event/hiphopturnup-live-stream-class-w-the-wonders-10/
LOCATION:WONDERLAND
ATTACH;FMTTYPE=image/jpeg:https://thewonderscollective.com/wp-content/uploads/2019/11/Gallery4-scaled.jpg
END:VEVENT
BEGIN:VEVENT
DTSTART;TZID=UTC:20200831T110000
DTEND;TZID=UTC:20200831T115000
DTSTAMP:20260422T222649
CREATED:20200830T040928Z
LAST-MODIFIED:20200830T040928Z
UID:9934-1598871600-1598874600@thewonderscollective.com
SUMMARY:ZUMBA LIVE STREAM CLASS w/ GINA
DESCRIPTION:ZUMBA LIVE STREAM CLASS w/ GINA \nTO PURCHASE CLASS\, CLICK ON THE LINK BELOW: \nhttps://thewonderslive.com/collections/drop-in-live-classes/products/zumba-8-31-11am  \n 
URL:https://thewonderscollective.com/event/zumba-live-stream-class-w-gina-16/
LOCATION:WONDERLAND
ATTACH;FMTTYPE=image/jpeg:https://thewonderscollective.com/wp-content/uploads/2019/11/Gallery6-scaled.jpg
END:VEVENT
BEGIN:VEVENT
DTSTART;TZID=UTC:20200829T120000
DTEND;TZID=UTC:20200829T124500
DTSTAMP:20260422T222649
CREATED:20200802T071627Z
LAST-MODIFIED:20200802T071627Z
UID:9922-1598702400-1598705100@thewonderscollective.com
SUMMARY:#HIPHOPTURNUP LIVE STREAM CLASS w/ The Wonders
DESCRIPTION:#HIPHOPTURNUP LIVE STREAM CLASS w/ The Wonders \nTO PURCHASE CLASS\, CLICK ON LINK BELOW: \nhttps://thewonderslive.com/collections/drop-in-live-classes/products/hip-hop-turnup-live-8-29-12pm-pdt
URL:https://thewonderscollective.com/event/hiphopturnup-live-stream-class-w-the-wonders-9/
LOCATION:WONDERLAND
ATTACH;FMTTYPE=image/jpeg:https://thewonderscollective.com/wp-content/uploads/2019/11/Gallery4-scaled.jpg
END:VEVENT
BEGIN:VEVENT
DTSTART;TZID=UTC:20200825T180000
DTEND;TZID=UTC:20200825T184500
DTSTAMP:20260422T222649
CREATED:20200802T070709Z
LAST-MODIFIED:20200802T070709Z
UID:9915-1598378400-1598381100@thewonderscollective.com
SUMMARY:#HIPHOPTURNUP LIVE STREAM CLASS w/ Dahrio Wonder
DESCRIPTION:#HIPHOPTURNUP LIVE STREAM CLASS w/ Dahrio Wonder \nTO PURCHASE CLASS\, CLICK ON LINK BELOW: \nhttps://thewonderslive.com/collections/drop-in-live-classes/products/hip-hop-turnup-live-6pm-pdt
URL:https://thewonderscollective.com/event/hiphopturnup-live-stream-class-w-dahrio-wonder/
LOCATION:WONDERLAND
ATTACH;FMTTYPE=image/jpeg:https://thewonderscollective.com/wp-content/uploads/2019/11/Gallery5-scaled.jpg
END:VEVENT
BEGIN:VEVENT
DTSTART;TZID=UTC:20200821T180000
DTEND;TZID=UTC:20200821T184500
DTSTAMP:20260422T222649
CREATED:20200802T070438Z
LAST-MODIFIED:20200802T070438Z
UID:9913-1598032800-1598035500@thewonderscollective.com
SUMMARY:#HIPHOPTURNUP LIVE STREAM CLASS w/ The Wonders
DESCRIPTION:#HIPHOPTURNUP LIVE STREAM CLASS w/ The Wonders \nTO PURCHASE CLASS\, CLICK ON LINK BELOW: \nhttps://thewonderslive.com/collections/drop-in-live-classes/products/hip-hop-turnup-live-8-21-6pm-pdt
URL:https://thewonderscollective.com/event/hiphopturnup-live-stream-class-w-the-wonders-8/
LOCATION:WONDERLAND
ATTACH;FMTTYPE=image/jpeg:https://thewonderscollective.com/wp-content/uploads/2019/11/Gallery4-scaled.jpg
END:VEVENT
BEGIN:VEVENT
DTSTART;TZID=UTC:20200820T190000
DTEND;TZID=UTC:20200820T195000
DTSTAMP:20260422T222649
CREATED:20200802T071239Z
LAST-MODIFIED:20200802T071239Z
UID:9920-1597950000-1597953000@thewonderscollective.com
SUMMARY:ZUMBA LIVE STREAM CLASS w/ GINA
DESCRIPTION:ZUMBA LIVE STREAM CLASS w/ GINA \nTO PURCHASE CLASS\, CLICK ON THE LINK BELOW: \nhttps://thewonderslive.com/collections/drop-in-live-classes/products/zumba-live-8-20-7pm-pdt
URL:https://thewonderscollective.com/event/zumba-live-stream-class-w-gina-15/
LOCATION:WONDERLAND
ATTACH;FMTTYPE=image/jpeg:https://thewonderscollective.com/wp-content/uploads/2019/11/Gallery6-scaled.jpg
END:VEVENT
BEGIN:VEVENT
DTSTART;TZID=UTC:20200818T180000
DTEND;TZID=UTC:20200818T184500
DTSTAMP:20260422T222649
CREATED:20200802T065929Z
LAST-MODIFIED:20200802T065929Z
UID:9907-1597773600-1597776300@thewonderscollective.com
SUMMARY:#HIPHOPTURNUP LIVE STREAM CLASS w/ The Wonders
DESCRIPTION:#HIPHOPTURNUP LIVE STREAM CLASS w/ The Wonders \nTO PURCHASE CLASS\, CLICK ON LINK BELOW: \nhttps://thewonderslive.com/collections/drop-in-live-classes/products/hip-hop-turnup-live-8-18-6pm-pdt
URL:https://thewonderscollective.com/event/hiphopturnup-live-stream-class-w-the-wonders-7/
LOCATION:WONDERLAND
ATTACH;FMTTYPE=image/jpeg:https://thewonderscollective.com/wp-content/uploads/2019/11/Gallery4-scaled.jpg
END:VEVENT
BEGIN:VEVENT
DTSTART;TZID=UTC:20200817T110000
DTEND;TZID=UTC:20200817T115000
DTSTAMP:20260422T222649
CREATED:20200802T071109Z
LAST-MODIFIED:20200802T071109Z
UID:9918-1597662000-1597665000@thewonderscollective.com
SUMMARY:ZUMBA LIVE STREAM CLASS w/ GINA
DESCRIPTION:ZUMBA LIVE STREAM CLASS w/ GINA \nTO PURCHASE CLASS\, CLICK ON THE LINK BELOW: \nhttps://thewonderslive.com/collections/drop-in-live-classes/products/zumba-live-8-17-11am-pdt
URL:https://thewonderscollective.com/event/zumba-live-stream-class-w-gina-14/
LOCATION:WONDERLAND
ATTACH;FMTTYPE=image/jpeg:https://thewonderscollective.com/wp-content/uploads/2019/11/Gallery6-scaled.jpg
END:VEVENT
BEGIN:VEVENT
DTSTART;TZID=UTC:20200813T190000
DTEND;TZID=UTC:20200813T195000
DTSTAMP:20260422T222649
CREATED:20200802T064727Z
LAST-MODIFIED:20200802T064727Z
UID:9896-1597345200-1597348200@thewonderscollective.com
SUMMARY:ZUMBA LIVE STREAM CLASS w/ GINA
DESCRIPTION:ZUMBA LIVE STREAM CLASS w/ GINA \nTO PURCHASE CLASS\, CLICK ON THE LINK BELOW: \nhttps://thewonderslive.com/collections/drop-in-live-classes/products/zumba-live-8-13-7pm-pdt \n 
URL:https://thewonderscollective.com/event/zumba-live-stream-class-w-gina-13/
LOCATION:WONDERLAND
ATTACH;FMTTYPE=image/jpeg:https://thewonderscollective.com/wp-content/uploads/2019/11/Gallery6-scaled.jpg
END:VEVENT
BEGIN:VEVENT
DTSTART;TZID=UTC:20200811T180000
DTEND;TZID=UTC:20200811T184500
DTSTAMP:20260422T222649
CREATED:20200802T065731Z
LAST-MODIFIED:20200802T070052Z
UID:9904-1597168800-1597171500@thewonderscollective.com
SUMMARY:#HIPHOPTURNUP LIVE STREAM CLASS w/ The Wonders
DESCRIPTION:#HIPHOPTURNUP LIVE STREAM CLASS w/ The Wonders \nTO PURCHASE CLASS\, CLICK ON LINK BELOW: \nhttps://thewonderslive.com/collections/drop-in-live-classes/products/hip-hop-turnup-live-8-11-6pm-pdt
URL:https://thewonderscollective.com/event/9904/
LOCATION:WONDERLAND
ATTACH;FMTTYPE=image/jpeg:https://thewonderscollective.com/wp-content/uploads/2019/11/Gallery4-scaled.jpg
END:VEVENT
BEGIN:VEVENT
DTSTART;TZID=UTC:20200810T110000
DTEND;TZID=UTC:20200810T115000
DTSTAMP:20260422T222649
CREATED:20200802T064453Z
LAST-MODIFIED:20200802T064453Z
UID:9894-1597057200-1597060200@thewonderscollective.com
SUMMARY:ZUMBA LIVE STREAM CLASS w/ GINA
DESCRIPTION:ZUMBA LIVE STREAM CLASS w/ GINA \nTO PURCHASE CLASS\, CLICK ON THE LINK BELOW: \nhttps://thewonderslive.com/collections/drop-in-live-classes/products/zumba-live-8-10-11am-pdt \n 
URL:https://thewonderscollective.com/event/zumba-live-stream-class-w-gina-12/
LOCATION:WONDERLAND
ATTACH;FMTTYPE=image/jpeg:https://thewonderscollective.com/wp-content/uploads/2019/11/Gallery6-scaled.jpg
END:VEVENT
BEGIN:VEVENT
DTSTART;TZID=UTC:20200808T120000
DTEND;TZID=UTC:20200808T124500
DTSTAMP:20260422T222649
CREATED:20200802T065344Z
LAST-MODIFIED:20200802T065344Z
UID:9901-1596888000-1596890700@thewonderscollective.com
SUMMARY:#HIPHOPTURNUP LIVE STREAM CLASS w/ The Wonders
DESCRIPTION:#HIPHOPTURNUP LIVE STREAM CLASS w/ The Wonders \nTO PURCHASE CLASS\, CLICK ON LINK BELOW: \nhttps://thewonderslive.com/collections/drop-in-live-classes/products/hip-hop-turnup-live-12pm-pdt
URL:https://thewonderscollective.com/event/hiphopturnup-live-stream-class-w-the-wonders-6/
LOCATION:WONDERLAND
ATTACH;FMTTYPE=image/jpeg:https://thewonderscollective.com/wp-content/uploads/2019/11/Gallery4-scaled.jpg
END:VEVENT
BEGIN:VEVENT
DTSTART;TZID=UTC:20200806T190000
DTEND;TZID=UTC:20200806T195000
DTSTAMP:20260422T222649
CREATED:20200802T064215Z
LAST-MODIFIED:20200802T064215Z
UID:9892-1596740400-1596743400@thewonderscollective.com
SUMMARY:ZUMBA LIVE STREAM CLASS w/ GINA
DESCRIPTION:ZUMBA LIVE STREAM CLASS w/ GINA \nTO PURCHASE CLASS\, CLICK ON THE LINK BELOW: \nhttps://thewonderslive.com/collections/drop-in-live-classes/products/zumba-live-8-6-7pm-pdt
URL:https://thewonderscollective.com/event/zumba-live-stream-class-w-gina-11/
LOCATION:WONDERLAND
ATTACH;FMTTYPE=image/jpeg:https://thewonderscollective.com/wp-content/uploads/2019/11/Gallery6-scaled.jpg
END:VEVENT
BEGIN:VEVENT
DTSTART;TZID=UTC:20200804T180000
DTEND;TZID=UTC:20200804T184500
DTSTAMP:20260422T222649
CREATED:20200802T065007Z
LAST-MODIFIED:20200802T070112Z
UID:9898-1596564000-1596566700@thewonderscollective.com
SUMMARY:#HIPHOPTURNUP LIVE STREAM CLASS w/ The Wonders
DESCRIPTION:#HIPHOPTURNUP LIVE STREAM CLASS w/ The Wonders \nTO PURCHASE CLASS\, CLICK ON LINK BELOW: \nhttps://thewonderslive.com/collections/drop-in-live-classes/products/hip-hop-turnup-live-8-4-6pm-pdt
URL:https://thewonderscollective.com/event/9898/
LOCATION:WONDERLAND
ATTACH;FMTTYPE=image/jpeg:https://thewonderscollective.com/wp-content/uploads/2019/11/Gallery4-scaled.jpg
END:VEVENT
BEGIN:VEVENT
DTSTART;TZID=UTC:20200803T110000
DTEND;TZID=UTC:20200803T115000
DTSTAMP:20260422T222649
CREATED:20200802T063905Z
LAST-MODIFIED:20200802T063905Z
UID:9889-1596452400-1596455400@thewonderscollective.com
SUMMARY:ZUMBA LIVE STREAM CLASS w/ GINA
DESCRIPTION:ZUMBA LIVE STREAM CLASS w/ GINA \nTO PURCHASE CLASS\, CLICK ON THE LINK BELOW: \nhttps://thewonderslive.com/collections/drop-in-live-classes/products/zumba-8-3-11am-pdt
URL:https://thewonderscollective.com/event/zumba-live-stream-class-w-gina-10/
LOCATION:WONDERLAND
ATTACH;FMTTYPE=image/jpeg:https://thewonderscollective.com/wp-content/uploads/2019/11/Gallery6-scaled.jpg
END:VEVENT
BEGIN:VEVENT
DTSTART;TZID=UTC:20200801T120000
DTEND;TZID=UTC:20200801T124500
DTSTAMP:20260422T222649
CREATED:20200721T191557Z
LAST-MODIFIED:20200721T191557Z
UID:9881-1596283200-1596285900@thewonderscollective.com
SUMMARY:#HIPHOPTURNUP LIVE STREAM CLASS w/ The Wonders
DESCRIPTION:#HIPHOPTURNUP LIVE STREAM CLASS w/ The Wonders \nTO PURCHASE CLASS\, CLICK ON LINK BELOW: \nhttps://g2go.shop/shop/ols/products/hip-hop-turnup-live-801-12pm-pdt 
URL:https://thewonderscollective.com/event/hiphopturnup-live-stream-class-w-the-wonders-5/
LOCATION:WONDERLAND
ATTACH;FMTTYPE=image/jpeg:https://thewonderscollective.com/wp-content/uploads/2019/11/Gallery4-scaled.jpg
END:VEVENT
BEGIN:VEVENT
DTSTART;TZID=UTC:20200730T190000
DTEND;TZID=UTC:20200730T195500
DTSTAMP:20260422T222649
CREATED:20200721T192331Z
LAST-MODIFIED:20200721T192331Z
UID:9887-1596135600-1596138900@thewonderscollective.com
SUMMARY:ZUMBA LIVE STREAM CLASS w/ GINA
DESCRIPTION:ZUMBA LIVE STREAM CLASS w/ GINA \nTO PURCHASE CLASS\, CLICK ON THE LINK BELOW: \nhttps://g2go.shop/shop/ols/products/zumba-live-w-gina-730-7pm-pdt  \n 
URL:https://thewonderscollective.com/event/zumba-live-stream-class-w-gina-9/
LOCATION:WONDERLAND
ATTACH;FMTTYPE=image/jpeg:https://thewonderscollective.com/wp-content/uploads/2019/11/Gallery6-scaled.jpg
END:VEVENT
BEGIN:VEVENT
DTSTART;TZID=UTC:20200728T180000
DTEND;TZID=UTC:20200728T184500
DTSTAMP:20260422T222649
CREATED:20200721T191410Z
LAST-MODIFIED:20200721T191410Z
UID:9879-1595959200-1595961900@thewonderscollective.com
SUMMARY:#HIPHOPTURNUP LIVE STREAM CLASS w/ The Wonders
DESCRIPTION:#HIPHOPTURNUP LIVE STREAM CLASS w/ The Wonders \nTO PURCHASE CLASS\, CLICK ON LINK BELOW: \nhttps://g2go.shop/shop/ols/products/hip-hop-turnup-live-728-6pm-pdt  \n 
URL:https://thewonderscollective.com/event/hiphopturnup-live-stream-class-w-the-wonders-4/
LOCATION:WONDERLAND
ATTACH;FMTTYPE=image/jpeg:https://thewonderscollective.com/wp-content/uploads/2019/11/Gallery4-scaled.jpg
END:VEVENT
BEGIN:VEVENT
DTSTART;TZID=UTC:20200727T110000
DTEND;TZID=UTC:20200727T115500
DTSTAMP:20260422T222649
CREATED:20200721T192216Z
LAST-MODIFIED:20200721T192216Z
UID:9885-1595847600-1595850900@thewonderscollective.com
SUMMARY:ZUMBA LIVE STREAM CLASS w/ GINA
DESCRIPTION:ZUMBA LIVE STREAM CLASS w/ GINA \nTO PURCHASE CLASS\, CLICK ON THE LINK BELOW: \nhttps://g2go.shop/shop/ols/products/zumba-live-w-gina-727-11am-pdt 
URL:https://thewonderscollective.com/event/zumba-live-stream-class-w-gina-8/
LOCATION:WONDERLAND
ATTACH;FMTTYPE=image/jpeg:https://thewonderscollective.com/wp-content/uploads/2019/11/Gallery6-scaled.jpg
END:VEVENT
END:VCALENDAR