BEGIN:VCALENDAR
VERSION:2.0
PRODID:-//The Wonders Collective - ECPv6.15.16//NONSGML v1.0//EN
CALSCALE:GREGORIAN
METHOD:PUBLISH
X-WR-CALNAME:The Wonders Collective
X-ORIGINAL-URL:https://thewonderscollective.com
X-WR-CALDESC:Events for The Wonders Collective
REFRESH-INTERVAL;VALUE=DURATION:PT1H
X-Robots-Tag:noindex
X-PUBLISHED-TTL:PT1H
BEGIN:VTIMEZONE
TZID:UTC
BEGIN:STANDARD
TZOFFSETFROM:+0000
TZOFFSETTO:+0000
TZNAME:UTC
DTSTART:20190101T000000
END:STANDARD
END:VTIMEZONE
BEGIN:VEVENT
DTSTART;TZID=UTC:20200811T180000
DTEND;TZID=UTC:20200811T184500
DTSTAMP:20260422T225627
CREATED:20200802T065731Z
LAST-MODIFIED:20200802T070052Z
UID:9904-1597168800-1597171500@thewonderscollective.com
SUMMARY:#HIPHOPTURNUP LIVE STREAM CLASS w/ The Wonders
DESCRIPTION:#HIPHOPTURNUP LIVE STREAM CLASS w/ The Wonders \nTO PURCHASE CLASS\, CLICK ON LINK BELOW: \nHIP HOP TURNUP LIVE 8/11 6PM PDT
URL:https://thewonderscollective.com/event/9904/
LOCATION:WONDERLAND
ATTACH;FMTTYPE=image/jpeg:https://thewonderscollective.com/wp-content/uploads/2019/11/Gallery4-scaled.jpg
END:VEVENT
BEGIN:VEVENT
DTSTART;TZID=UTC:20200810T110000
DTEND;TZID=UTC:20200810T115000
DTSTAMP:20260422T225627
CREATED:20200802T064453Z
LAST-MODIFIED:20200802T064453Z
UID:9894-1597057200-1597060200@thewonderscollective.com
SUMMARY:ZUMBA LIVE STREAM CLASS w/ GINA
DESCRIPTION:ZUMBA LIVE STREAM CLASS w/ GINA \nTO PURCHASE CLASS\, CLICK ON THE LINK BELOW: \nhttps://thewonderslive.com/collections/drop-in-live-classes/products/zumba-live-8-10-11am-pdt \n 
URL:https://thewonderscollective.com/event/zumba-live-stream-class-w-gina-12/
LOCATION:WONDERLAND
ATTACH;FMTTYPE=image/jpeg:https://thewonderscollective.com/wp-content/uploads/2019/11/Gallery6-scaled.jpg
END:VEVENT
BEGIN:VEVENT
DTSTART;TZID=UTC:20200808T120000
DTEND;TZID=UTC:20200808T124500
DTSTAMP:20260422T225627
CREATED:20200802T065344Z
LAST-MODIFIED:20200802T065344Z
UID:9901-1596888000-1596890700@thewonderscollective.com
SUMMARY:#HIPHOPTURNUP LIVE STREAM CLASS w/ The Wonders
DESCRIPTION:#HIPHOPTURNUP LIVE STREAM CLASS w/ The Wonders \nTO PURCHASE CLASS\, CLICK ON LINK BELOW: \nhttps://thewonderslive.com/collections/drop-in-live-classes/products/hip-hop-turnup-live-12pm-pdt
URL:https://thewonderscollective.com/event/hiphopturnup-live-stream-class-w-the-wonders-6/
LOCATION:WONDERLAND
ATTACH;FMTTYPE=image/jpeg:https://thewonderscollective.com/wp-content/uploads/2019/11/Gallery4-scaled.jpg
END:VEVENT
BEGIN:VEVENT
DTSTART;TZID=UTC:20200806T190000
DTEND;TZID=UTC:20200806T195000
DTSTAMP:20260422T225627
CREATED:20200802T064215Z
LAST-MODIFIED:20200802T064215Z
UID:9892-1596740400-1596743400@thewonderscollective.com
SUMMARY:ZUMBA LIVE STREAM CLASS w/ GINA
DESCRIPTION:ZUMBA LIVE STREAM CLASS w/ GINA \nTO PURCHASE CLASS\, CLICK ON THE LINK BELOW: \nhttps://thewonderslive.com/collections/drop-in-live-classes/products/zumba-live-8-6-7pm-pdt
URL:https://thewonderscollective.com/event/zumba-live-stream-class-w-gina-11/
LOCATION:WONDERLAND
ATTACH;FMTTYPE=image/jpeg:https://thewonderscollective.com/wp-content/uploads/2019/11/Gallery6-scaled.jpg
END:VEVENT
BEGIN:VEVENT
DTSTART;TZID=UTC:20200804T180000
DTEND;TZID=UTC:20200804T184500
DTSTAMP:20260422T225627
CREATED:20200802T065007Z
LAST-MODIFIED:20200802T070112Z
UID:9898-1596564000-1596566700@thewonderscollective.com
SUMMARY:#HIPHOPTURNUP LIVE STREAM CLASS w/ The Wonders
DESCRIPTION:#HIPHOPTURNUP LIVE STREAM CLASS w/ The Wonders \nTO PURCHASE CLASS\, CLICK ON LINK BELOW: \nhttps://thewonderslive.com/collections/drop-in-live-classes/products/hip-hop-turnup-live-8-4-6pm-pdt
URL:https://thewonderscollective.com/event/9898/
LOCATION:WONDERLAND
ATTACH;FMTTYPE=image/jpeg:https://thewonderscollective.com/wp-content/uploads/2019/11/Gallery4-scaled.jpg
END:VEVENT
BEGIN:VEVENT
DTSTART;TZID=UTC:20200803T110000
DTEND;TZID=UTC:20200803T115000
DTSTAMP:20260422T225627
CREATED:20200802T063905Z
LAST-MODIFIED:20200802T063905Z
UID:9889-1596452400-1596455400@thewonderscollective.com
SUMMARY:ZUMBA LIVE STREAM CLASS w/ GINA
DESCRIPTION:ZUMBA LIVE STREAM CLASS w/ GINA \nTO PURCHASE CLASS\, CLICK ON THE LINK BELOW: \nhttps://thewonderslive.com/collections/drop-in-live-classes/products/zumba-8-3-11am-pdt
URL:https://thewonderscollective.com/event/zumba-live-stream-class-w-gina-10/
LOCATION:WONDERLAND
ATTACH;FMTTYPE=image/jpeg:https://thewonderscollective.com/wp-content/uploads/2019/11/Gallery6-scaled.jpg
END:VEVENT
BEGIN:VEVENT
DTSTART;TZID=UTC:20200801T120000
DTEND;TZID=UTC:20200801T124500
DTSTAMP:20260422T225627
CREATED:20200721T191557Z
LAST-MODIFIED:20200721T191557Z
UID:9881-1596283200-1596285900@thewonderscollective.com
SUMMARY:#HIPHOPTURNUP LIVE STREAM CLASS w/ The Wonders
DESCRIPTION:#HIPHOPTURNUP LIVE STREAM CLASS w/ The Wonders \nTO PURCHASE CLASS\, CLICK ON LINK BELOW: \nhttps://g2go.shop/shop/ols/products/hip-hop-turnup-live-801-12pm-pdt 
URL:https://thewonderscollective.com/event/hiphopturnup-live-stream-class-w-the-wonders-5/
LOCATION:WONDERLAND
ATTACH;FMTTYPE=image/jpeg:https://thewonderscollective.com/wp-content/uploads/2019/11/Gallery4-scaled.jpg
END:VEVENT
BEGIN:VEVENT
DTSTART;TZID=UTC:20200730T190000
DTEND;TZID=UTC:20200730T195500
DTSTAMP:20260422T225627
CREATED:20200721T192331Z
LAST-MODIFIED:20200721T192331Z
UID:9887-1596135600-1596138900@thewonderscollective.com
SUMMARY:ZUMBA LIVE STREAM CLASS w/ GINA
DESCRIPTION:ZUMBA LIVE STREAM CLASS w/ GINA \nTO PURCHASE CLASS\, CLICK ON THE LINK BELOW: \nhttps://g2go.shop/shop/ols/products/zumba-live-w-gina-730-7pm-pdt  \n 
URL:https://thewonderscollective.com/event/zumba-live-stream-class-w-gina-9/
LOCATION:WONDERLAND
ATTACH;FMTTYPE=image/jpeg:https://thewonderscollective.com/wp-content/uploads/2019/11/Gallery6-scaled.jpg
END:VEVENT
BEGIN:VEVENT
DTSTART;TZID=UTC:20200728T180000
DTEND;TZID=UTC:20200728T184500
DTSTAMP:20260422T225627
CREATED:20200721T191410Z
LAST-MODIFIED:20200721T191410Z
UID:9879-1595959200-1595961900@thewonderscollective.com
SUMMARY:#HIPHOPTURNUP LIVE STREAM CLASS w/ The Wonders
DESCRIPTION:#HIPHOPTURNUP LIVE STREAM CLASS w/ The Wonders \nTO PURCHASE CLASS\, CLICK ON LINK BELOW: \nhttps://g2go.shop/shop/ols/products/hip-hop-turnup-live-728-6pm-pdt  \n 
URL:https://thewonderscollective.com/event/hiphopturnup-live-stream-class-w-the-wonders-4/
LOCATION:WONDERLAND
ATTACH;FMTTYPE=image/jpeg:https://thewonderscollective.com/wp-content/uploads/2019/11/Gallery4-scaled.jpg
END:VEVENT
BEGIN:VEVENT
DTSTART;TZID=UTC:20200727T110000
DTEND;TZID=UTC:20200727T115500
DTSTAMP:20260422T225627
CREATED:20200721T192216Z
LAST-MODIFIED:20200721T192216Z
UID:9885-1595847600-1595850900@thewonderscollective.com
SUMMARY:ZUMBA LIVE STREAM CLASS w/ GINA
DESCRIPTION:ZUMBA LIVE STREAM CLASS w/ GINA \nTO PURCHASE CLASS\, CLICK ON THE LINK BELOW: \nhttps://g2go.shop/shop/ols/products/zumba-live-w-gina-727-11am-pdt 
URL:https://thewonderscollective.com/event/zumba-live-stream-class-w-gina-8/
LOCATION:WONDERLAND
ATTACH;FMTTYPE=image/jpeg:https://thewonderscollective.com/wp-content/uploads/2019/11/Gallery6-scaled.jpg
END:VEVENT
BEGIN:VEVENT
DTSTART;TZID=UTC:20200724T180000
DTEND;TZID=UTC:20200724T184500
DTSTAMP:20260422T225627
CREATED:20200721T191216Z
LAST-MODIFIED:20200721T191216Z
UID:9877-1595613600-1595616300@thewonderscollective.com
SUMMARY:#HIPHOPTURNUP LIVE STREAM CLASS w/ The Wonders
DESCRIPTION:#HIPHOPTURNUP LIVE STREAM CLASS w/ The Wonders \nTO PURCHASE CLASS\, CLICK ON LINK BELOW: \nhttps://g2go.shop/shop/ols/products/hip-hop-turnup-live-724-6pm-pdt 
URL:https://thewonderscollective.com/event/hiphopturnup-live-stream-class-w-the-wonders-3/
LOCATION:WONDERLAND
ATTACH;FMTTYPE=image/jpeg:https://thewonderscollective.com/wp-content/uploads/2019/11/Gallery4-scaled.jpg
END:VEVENT
BEGIN:VEVENT
DTSTART;TZID=UTC:20200723T190000
DTEND;TZID=UTC:20200723T195500
DTSTAMP:20260422T225627
CREATED:20200721T192037Z
LAST-MODIFIED:20200721T192037Z
UID:9883-1595530800-1595534100@thewonderscollective.com
SUMMARY:ZUMBA LIVE STREAM CLASS w/ GINA
DESCRIPTION:ZUMBA LIVE STREAM CLASS w/ GINA \nTO PURCHASE CLASS\, CLICK ON THE LINK BELOW: \nhttps://g2go.shop/shop/ols/products/zumba-live-w-gina-723-7pm-pdt  \n 
URL:https://thewonderscollective.com/event/zumba-live-stream-class-w-gina-7/
LOCATION:WONDERLAND
ATTACH;FMTTYPE=image/jpeg:https://thewonderscollective.com/wp-content/uploads/2019/11/Gallery6-scaled.jpg
END:VEVENT
BEGIN:VEVENT
DTSTART;TZID=UTC:20200721T180000
DTEND;TZID=UTC:20200721T184500
DTSTAMP:20260422T225627
CREATED:20200721T190951Z
LAST-MODIFIED:20200721T190951Z
UID:9874-1595354400-1595357100@thewonderscollective.com
SUMMARY:#HIPHOPTURNUP LIVE STREAM CLASS w/ The Wonders
DESCRIPTION:#HIPHOPTURNUP LIVE STREAM CLASS w/ The Wonders \nTO PURCHASE CLASS\, CLICK ON THE LINK BELOW: \nhttps://g2go.shop/shop/ols/products/hip-hop-turnup-live-721-6pm-pdt 
URL:https://thewonderscollective.com/event/hiphopturnup-live-stream-class-w-the-wonders-2/
LOCATION:WONDERLAND
ATTACH;FMTTYPE=image/jpeg:https://thewonderscollective.com/wp-content/uploads/2019/11/Gallery4-scaled.jpg
END:VEVENT
BEGIN:VEVENT
DTSTART;TZID=UTC:20200720T110000
DTEND;TZID=UTC:20200720T115500
DTSTAMP:20260422T225627
CREATED:20200706T201608Z
LAST-MODIFIED:20200706T201608Z
UID:9871-1595242800-1595246100@thewonderscollective.com
SUMMARY:ZUMBA LIVE STREAM CLASS w/ GINA
DESCRIPTION:ZUMBA LIVE STREAM CLASS w/ GINA \nTO PURCHASE CLASS\, CLICK ON THE LINK BELOW: \nhttps://g2go.shop/shop/ols/products/zumba-live-w-720-gina-11am-pdt 
URL:https://thewonderscollective.com/event/zumba-live-stream-class-w-gina-6/
LOCATION:WONDERLAND
ATTACH;FMTTYPE=image/jpeg:https://thewonderscollective.com/wp-content/uploads/2019/11/Gallery6-scaled.jpg
END:VEVENT
BEGIN:VEVENT
DTSTART;TZID=UTC:20200718T120000
DTEND;TZID=UTC:20200718T124500
DTSTAMP:20260422T225627
CREATED:20200706T200950Z
LAST-MODIFIED:20200706T200950Z
UID:9869-1595073600-1595076300@thewonderscollective.com
SUMMARY:#HIPHOPTURNUP LIVE STREAM CLASS w/ The Wonders
DESCRIPTION:#HIPHOPTURNUP LIVE STREAM CLASS w/ The Wonders \nTO PURCHASE CLASS\, CLICK ON THE LINK BELOW: \nhttps://g2go.shop/shop/ols/products/hip-hop-turnup-live-718-12pm-pdt
URL:https://thewonderscollective.com/event/hiphopturnup-live-stream-class-w-the-wonders/
LOCATION:WONDERLAND
ATTACH;FMTTYPE=image/jpeg:https://thewonderscollective.com/wp-content/uploads/2019/11/Gallery4-scaled.jpg
END:VEVENT
BEGIN:VEVENT
DTSTART;TZID=UTC:20200716T190000
DTEND;TZID=UTC:20200716T195500
DTSTAMP:20260422T225627
CREATED:20200706T200525Z
LAST-MODIFIED:20200706T200525Z
UID:9866-1594926000-1594929300@thewonderscollective.com
SUMMARY:ZUMBA LIVE STREAM CLASS w/GINA
DESCRIPTION:Zumba Live Stream Class w/ Gina \nTO PURCHASE CLASS\, CLICK ON THE LINK BELOW: \nhttps://g2go.shop/shop/ols/products/zumba-live-w-gina-716-7pm-pdt
URL:https://thewonderscollective.com/event/zumba-live-stream-class-w-gina-5/
LOCATION:WONDERLAND
ATTACH;FMTTYPE=image/jpeg:https://thewonderscollective.com/wp-content/uploads/2019/11/Gallery6-scaled.jpg
END:VEVENT
BEGIN:VEVENT
DTSTART;TZID=UTC:20200714T180000
DTEND;TZID=UTC:20200714T184500
DTSTAMP:20260422T225627
CREATED:20200706T195539Z
LAST-MODIFIED:20200706T195539Z
UID:9860-1594749600-1594752300@thewonderscollective.com
SUMMARY:HIPHOPTURNUP Livestream w/ The Wonders
DESCRIPTION:HIPHOPTURNUP Livestream w/ The Wonders \nTO PURCHASE CLASS\, CLICK ON THE LINK BELOW: \nhttps://g2go.shop/shop/ols/products/hip-hop-turnup-live-714-6pm-pdt \n  \n 
URL:https://thewonderscollective.com/event/hiphopturnup-livestream-w-the-wonders-19/
LOCATION:WONDERLAND
ATTACH;FMTTYPE=image/jpeg:https://thewonderscollective.com/wp-content/uploads/2019/11/Gallery4-scaled.jpg
END:VEVENT
BEGIN:VEVENT
DTSTART;TZID=UTC:20200713T110000
DTEND;TZID=UTC:20200713T115500
DTSTAMP:20260422T225627
CREATED:20200706T200307Z
LAST-MODIFIED:20200706T200307Z
UID:9864-1594638000-1594641300@thewonderscollective.com
SUMMARY:ZUMBA LIVE STREAM CLASS w/ GINA
DESCRIPTION:Zumba Live Stream Class w/ Gina \nTO PURCHASE CLASS\, CLICK ON THE LINK BELOW: \nhttps://g2go.shop/shop/ols/products/zumba-live-w-gina-713-11am-pdt
URL:https://thewonderscollective.com/event/zumba-live-stream-class-w-gina-4/
LOCATION:WONDERLAND
ATTACH;FMTTYPE=image/jpeg:https://thewonderscollective.com/wp-content/uploads/2019/11/Gallery6-scaled.jpg
END:VEVENT
BEGIN:VEVENT
DTSTART;TZID=UTC:20200711T120000
DTEND;TZID=UTC:20200711T124500
DTSTAMP:20260422T225627
CREATED:20200706T194437Z
LAST-MODIFIED:20200706T194437Z
UID:9858-1594468800-1594471500@thewonderscollective.com
SUMMARY:HIPHOPTURNUP Livestream w/ The Wonders
DESCRIPTION:HIPHOPTURNUP Livestream w/ The Wonders \nTO PURCHASE CLASS\, CLICK ON THE LINK BELOW: \nhttps://g2go.shop/shop/ols/products/hip-hop-turnup-live-711-12pm-pdt
URL:https://thewonderscollective.com/event/hiphopturnup-livestream-w-the-wonders-18/
LOCATION:WONDERLAND
ATTACH;FMTTYPE=image/jpeg:https://thewonderscollective.com/wp-content/uploads/2019/11/Gallery4-scaled.jpg
END:VEVENT
BEGIN:VEVENT
DTSTART;TZID=UTC:20200709T190000
DTEND;TZID=UTC:20200709T195500
DTSTAMP:20260422T225627
CREATED:20200706T195947Z
LAST-MODIFIED:20200706T195947Z
UID:9862-1594321200-1594324500@thewonderscollective.com
SUMMARY:ZUMBA LIVE STREAM CLASS w/ Gina
DESCRIPTION:ZUMBA LIVE STREAM CLASS w/ Gina \nTO PURCHASE CLASS\, CLICK ON THE LINK BELOW: \nhttps://g2go.shop/shop/ols/products/zumba-live-w-gina-625-7pm-pdt
URL:https://thewonderscollective.com/event/zumba-live-stream-class-w-gina-3/
LOCATION:WONDERLAND
ATTACH;FMTTYPE=image/jpeg:https://thewonderscollective.com/wp-content/uploads/2019/11/Gallery6-scaled.jpg
END:VEVENT
BEGIN:VEVENT
DTSTART;TZID=UTC:20200707T180000
DTEND;TZID=UTC:20200707T184500
DTSTAMP:20260422T225627
CREATED:20200706T194150Z
LAST-MODIFIED:20200707T201424Z
UID:9856-1594144800-1594147500@thewonderscollective.com
SUMMARY:HIPHOPTURNUP Livestream w/ The Wonders
DESCRIPTION:HIPHOPTURNUP Livestream w/ The Wonders \nTO PURCHASE CLASS\, CLICK ON THE LINK BELOW: \nhttps://g2go.shop/shop/ols/products/hip-hop-turnup-live-623-6pm-pdt
URL:https://thewonderscollective.com/event/hiphopturnup-livestream-w-the-wonders-17/
LOCATION:WONDERLAND
ATTACH;FMTTYPE=image/jpeg:https://thewonderscollective.com/wp-content/uploads/2019/11/Gallery4-scaled.jpg
END:VEVENT
BEGIN:VEVENT
DTSTART;TZID=UTC:20200628T120000
DTEND;TZID=UTC:20200628T133000
DTSTAMP:20260422T225627
CREATED:20200613T214631Z
LAST-MODIFIED:20200613T215055Z
UID:9844-1593345600-1593351000@thewonderscollective.com
SUMMARY:URBAN TURNUP MASTERCLASS (A&H + D&G)
DESCRIPTION:URBAN TURNUP MASTERCLASS (A&H + D&G) \nTROPICAL URBAN (Caribbean flavors) + HIPHOPTURNUP (Hip Hop/R&B vibes) = URBAN TURNUP \nJoin the #FAB4 for a #HOT 90 minute masterclass of Tropical Urban flavor and Hip Hop TURNUP flow. This class is usually seen at ZINCON but for the first time ever\, we will collaborate virtually for the world!!\nSpace is Limited!! Secure your front row ticket today!!\nUse this link to register: \nhttps://zoom.us/webinar/register/WN_k17DbzLESHSp9TQ7aCqt1g  \n 
URL:https://thewonderscollective.com/event/urban-turnup-masterclass-ah-dg/
LOCATION:WONDERLAND
ATTACH;FMTTYPE=image/png:https://thewonderscollective.com/wp-content/uploads/2020/06/Screen-Shot-2020-06-13-at-2.48.50-PM.png
END:VEVENT
BEGIN:VEVENT
DTSTART;TZID=UTC:20200625T190000
DTEND;TZID=UTC:20200625T195500
DTSTAMP:20260422T225627
CREATED:20200613T213319Z
LAST-MODIFIED:20200613T213529Z
UID:9839-1593111600-1593114900@thewonderscollective.com
SUMMARY:ZUMBA LIVE STREAM CLASS w/ Gina
DESCRIPTION:TO PURCHASE CLASS: \nhttps://g2go.shop/shop/ols/products/zumba-live-w-gina-625-7pm-pdt 
URL:https://thewonderscollective.com/event/zumba-live-stream-class-w-gina-2/
LOCATION:WONDERLAND
ATTACH;FMTTYPE=image/jpeg:https://thewonderscollective.com/wp-content/uploads/2019/11/Gallery6-scaled.jpg
END:VEVENT
BEGIN:VEVENT
DTSTART;TZID=UTC:20200623T180000
DTEND;TZID=UTC:20200623T184500
DTSTAMP:20260422T225627
CREATED:20200621T010838Z
LAST-MODIFIED:20200621T011116Z
UID:9849-1592935200-1592937900@thewonderscollective.com
SUMMARY:HIPHOPTURNUP Livestream w/ The Wonders
DESCRIPTION:HIPHOPTURNUP Livestream w/ The Wonders \nTO PURCHASE CLASS\, CLICK ON THE LINK BELOW: \nhttps://g2go.shop/shop/ols/products/hip-hop-turnup-live-623-6pm-pdt   \n  \n  \n 
URL:https://thewonderscollective.com/event/hiphopturnup-class-w-dahrio-gina/
LOCATION:WONDERLAND
ATTACH;FMTTYPE=image/jpeg:https://thewonderscollective.com/wp-content/uploads/2019/11/Gallery4-scaled.jpg
END:VEVENT
BEGIN:VEVENT
DTSTART;TZID=UTC:20200622T110000
DTEND;TZID=UTC:20200622T115500
DTSTAMP:20260422T225627
CREATED:20200613T212745Z
LAST-MODIFIED:20200613T212745Z
UID:9837-1592823600-1592826900@thewonderscollective.com
SUMMARY:ZUMBA LIVE STREAM CLASS w/ Gina
DESCRIPTION:TO PURCHASE CLASS: \nhttps://g2go.shop/shop/ols/products/zumba-live-w-gina-11am-pdt
URL:https://thewonderscollective.com/event/zumba-live-stream-class-w-gina/
LOCATION:WONDERLAND
ATTACH;FMTTYPE=image/jpeg:https://thewonderscollective.com/wp-content/uploads/2019/11/Gallery6-scaled.jpg
END:VEVENT
BEGIN:VEVENT
DTSTART;TZID=UTC:20200620T120000
DTEND;TZID=UTC:20200620T124500
DTSTAMP:20260422T225627
CREATED:20200613T212345Z
LAST-MODIFIED:20200613T212345Z
UID:9835-1592654400-1592657100@thewonderscollective.com
SUMMARY:HIPHOPTURNUP Livestream w/ The Wonders
DESCRIPTION:TO PURCHASE CLASS: \nhttps://g2go.shop/shop/ols/products/hip-hop-turnup-live-620-12pm-pdt \n  \n 
URL:https://thewonderscollective.com/event/hiphopturnup-livestream-w-the-wonders-16/
LOCATION:WONDERLAND
ATTACH;FMTTYPE=image/jpeg:https://thewonderscollective.com/wp-content/uploads/2019/11/Gallery4-scaled.jpg
END:VEVENT
BEGIN:VEVENT
DTSTART;TZID=UTC:20200618T190000
DTEND;TZID=UTC:20200618T195500
DTSTAMP:20260422T225627
CREATED:20200613T211102Z
LAST-MODIFIED:20200613T211556Z
UID:9827-1592506800-1592510100@thewonderscollective.com
SUMMARY:Zumba® Fitness Live Stream w/ Gina
DESCRIPTION:TO PURCHASE CLASS: \nhttps://g2go.shop/shop/ols/products/zumba-live-w-gina-618-7pm- \n 
URL:https://thewonderscollective.com/event/zumba-fitness-live-stream-w-gina-10/
LOCATION:WONDERLAND
ATTACH;FMTTYPE=image/jpeg:https://thewonderscollective.com/wp-content/uploads/2019/11/Gallery6-scaled.jpg
END:VEVENT
BEGIN:VEVENT
DTSTART;TZID=UTC:20200616T180000
DTEND;TZID=UTC:20200616T184500
DTSTAMP:20260422T225627
CREATED:20200613T204705Z
LAST-MODIFIED:20200613T212105Z
UID:9820-1592330400-1592333100@thewonderscollective.com
SUMMARY:HIPHOPTURNUP LIVESTREAM w/ The Wonders
DESCRIPTION:TO PURCHASE CLASS: \nhttps://g2go.shop/shop/ols/products/hip-hop-turnup-live-616-6pm-pdt \n  \n 
URL:https://thewonderscollective.com/event/hiphopturnup-livestream-w-the-wonders-15/
LOCATION:WONDERLAND
ATTACH;FMTTYPE=image/jpeg:https://thewonderscollective.com/wp-content/uploads/2019/11/Gallery4-scaled.jpg
END:VEVENT
BEGIN:VEVENT
DTSTART;TZID=UTC:20200615T110000
DTEND;TZID=UTC:20200615T115500
DTSTAMP:20260422T225627
CREATED:20200613T204216Z
LAST-MODIFIED:20200613T211816Z
UID:9818-1592218800-1592222100@thewonderscollective.com
SUMMARY:Zumba® Fitness Live Stream w/ Gina
DESCRIPTION:TO PURCHASE CLASS: \nhttps://g2go.shop/shop/ols/products/zumba-live-w-gina-615-11am-pdt \n  \n  \n 
URL:https://thewonderscollective.com/event/zumba-fitness-live-stream-w-gina-9/
LOCATION:WONDERLAND
ATTACH;FMTTYPE=image/jpeg:https://thewonderscollective.com/wp-content/uploads/2019/11/Gallery6-scaled.jpg
END:VEVENT
BEGIN:VEVENT
DTSTART;TZID=UTC:20200613T120000
DTEND;TZID=UTC:20200613T124500
DTSTAMP:20260422T225627
CREATED:20200605T221608Z
LAST-MODIFIED:20200605T221608Z
UID:9808-1592049600-1592052300@thewonderscollective.com
SUMMARY:HIPHOPTURNUP LIVESTREAM w/ The Wonders
DESCRIPTION:HIPHOPTURNUP LIVESTREAM w/ The Wonders \n$5 \nTo purchase class\, log on to: \nwww.g2go.shop
URL:https://thewonderscollective.com/event/hiphopturnup-livestream-w-the-wonders-14/
LOCATION:WONDERLAND
ATTACH;FMTTYPE=image/jpeg:https://thewonderscollective.com/wp-content/uploads/2019/11/Gallery2-scaled.jpg
END:VEVENT
END:VCALENDAR