BEGIN:VCALENDAR
VERSION:2.0
PRODID:-//The Wonders Collective - ECPv6.15.16//NONSGML v1.0//EN
CALSCALE:GREGORIAN
METHOD:PUBLISH
X-WR-CALNAME:The Wonders Collective
X-ORIGINAL-URL:https://thewonderscollective.com
X-WR-CALDESC:Events for The Wonders Collective
REFRESH-INTERVAL;VALUE=DURATION:PT1H
X-Robots-Tag:noindex
X-PUBLISHED-TTL:PT1H
BEGIN:VTIMEZONE
TZID:UTC
BEGIN:STANDARD
TZOFFSETFROM:+0000
TZOFFSETTO:+0000
TZNAME:UTC
DTSTART:20190101T000000
END:STANDARD
END:VTIMEZONE
BEGIN:VEVENT
DTSTART;TZID=UTC:20200611T190000
DTEND;TZID=UTC:20200611T195000
DTSTAMP:20260423T031623
CREATED:20200605T221941Z
LAST-MODIFIED:20200605T221941Z
UID:9812-1591902000-1591905000@thewonderscollective.com
SUMMARY:Zumba® Fitness Live Stream w/ Gina
DESCRIPTION:Zumba® Fitness Live Stream w/ Gina \n$4 \nTo purchase\, log on to: \nhttps://g2go.shop/shop/ols/categories/livestream-classes
URL:https://thewonderscollective.com/event/zumba-fitness-live-stream-w-gina-8/
LOCATION:WONDERLAND
ATTACH;FMTTYPE=image/jpeg:https://thewonderscollective.com/wp-content/uploads/2019/11/Gallery6-scaled.jpg
END:VEVENT
BEGIN:VEVENT
DTSTART;TZID=UTC:20200609T180000
DTEND;TZID=UTC:20200609T184500
DTSTAMP:20260423T031623
CREATED:20200605T221317Z
LAST-MODIFIED:20200605T221318Z
UID:9805-1591725600-1591728300@thewonderscollective.com
SUMMARY:HIPHOPTURNUP LIVESTREAM w/ The Wonders
DESCRIPTION:HIPHOPTURNUP LIVESTREAM w/ The Wonders \n$5 \nTo purchase class\, log on to: \nwww.g2go.shop
URL:https://thewonderscollective.com/event/hiphopturnup-livestream-w-the-wonders-13/
LOCATION:WONDERLAND
ATTACH;FMTTYPE=image/jpeg:https://thewonderscollective.com/wp-content/uploads/2019/11/Gallery2-scaled.jpg
END:VEVENT
BEGIN:VEVENT
DTSTART;TZID=UTC:20200608T110000
DTEND;TZID=UTC:20200608T115000
DTSTAMP:20260423T031623
CREATED:20200605T221822Z
LAST-MODIFIED:20200605T221822Z
UID:9810-1591614000-1591617000@thewonderscollective.com
SUMMARY:Zumba® Fitness Live Stream w/ Gina
DESCRIPTION:Zumba® Fitness Live Stream w/ Gina \n$4 \nTo purchase\, log on to: \nhttps://g2go.shop/shop/ols/categories/livestream-classes
URL:https://thewonderscollective.com/event/zumba-fitness-live-stream-w-gina-7/
LOCATION:WONDERLAND
ATTACH;FMTTYPE=image/jpeg:https://thewonderscollective.com/wp-content/uploads/2019/11/Gallery6-scaled.jpg
END:VEVENT
BEGIN:VEVENT
DTSTART;TZID=UTC:20200606T120000
DTEND;TZID=UTC:20200606T125000
DTSTAMP:20260423T031623
CREATED:20200521T183351Z
LAST-MODIFIED:20200521T183351Z
UID:9794-1591444800-1591447800@thewonderscollective.com
SUMMARY:HIPHOPTURNUP LIVESTREAM w/ The Wonders
DESCRIPTION:HIPHOPTURNUP LIVESTREAM w/ The Wonders \n$5 \nTo purchase class\, log on to: \nwww.g2go.shop
URL:https://thewonderscollective.com/event/hiphopturnup-livestream-w-the-wonders-12/
LOCATION:WONDERLAND
ATTACH;FMTTYPE=image/jpeg:https://thewonderscollective.com/wp-content/uploads/2019/11/Gallery2-scaled.jpg
END:VEVENT
BEGIN:VEVENT
DTSTART;TZID=UTC:20200601T110000
DTEND;TZID=UTC:20200601T115000
DTSTAMP:20260423T031623
CREATED:20200521T184520Z
LAST-MODIFIED:20200521T184520Z
UID:9800-1591009200-1591012200@thewonderscollective.com
SUMMARY:Zumba® Fitness Live Stream w/ Gina
DESCRIPTION:Zumba® Fitness Live Stream w/ Gina \n$4 \nTo purchase\, log on to: \nhttps://g2go.shop/shop/ols/categories/livestream-classes
URL:https://thewonderscollective.com/event/zumba-fitness-live-stream-w-gina-5/
LOCATION:WONDERLAND
ATTACH;FMTTYPE=image/jpeg:https://thewonderscollective.com/wp-content/uploads/2019/11/Gallery6-scaled.jpg
END:VEVENT
BEGIN:VEVENT
DTSTART;TZID=UTC:20200530T120000
DTEND;TZID=UTC:20200530T125000
DTSTAMP:20260423T031623
CREATED:20200521T183209Z
LAST-MODIFIED:20200521T183209Z
UID:9792-1590840000-1590843000@thewonderscollective.com
SUMMARY:HIPHOPTURNUP LIVESTREAM w/ The Wonders
DESCRIPTION:HIPHOPTURNUP LIVESTREAM w/ The Wonders \n$5 \nTo purchase class\, log on to: \nwww.g2go.shop
URL:https://thewonderscollective.com/event/hiphopturnup-livestream-w-the-wonders-11/
LOCATION:WONDERLAND
ATTACH;FMTTYPE=image/jpeg:https://thewonderscollective.com/wp-content/uploads/2019/11/Gallery2-scaled.jpg
END:VEVENT
BEGIN:VEVENT
DTSTART;TZID=UTC:20200528T190000
DTEND;TZID=UTC:20200528T195000
DTSTAMP:20260423T031623
CREATED:20200521T183927Z
LAST-MODIFIED:20200521T183927Z
UID:9798-1590692400-1590695400@thewonderscollective.com
SUMMARY:Zumba® Fitness Live Stream w/ Gina
DESCRIPTION:Zumba® Fitness Live Stream w/ Gina \n$4 \nTo purchase\, log on to: \nhttps://g2go.shop/shop/ols/categories/livestream-classes
URL:https://thewonderscollective.com/event/zumba-fitness-live-stream-w-gina-4/
LOCATION:WONDERLAND
ATTACH;FMTTYPE=image/jpeg:https://thewonderscollective.com/wp-content/uploads/2019/11/Gallery6-scaled.jpg
END:VEVENT
BEGIN:VEVENT
DTSTART;TZID=UTC:20200526T180000
DTEND;TZID=UTC:20200526T185000
DTSTAMP:20260423T031623
CREATED:20200521T182951Z
LAST-MODIFIED:20200521T182951Z
UID:9790-1590516000-1590519000@thewonderscollective.com
SUMMARY:HIPHOPTURNUP LIVESTREAM w/ The Wonders
DESCRIPTION:HIPHOPTURNUP LIVESTREAM w/ The Wonders \n$5 \nTo purchase\, log on to: \nwww.g2go.shop
URL:https://thewonderscollective.com/event/hiphopturnup-livestream-w-the-wonders-10/
LOCATION:WONDERLAND
ATTACH;FMTTYPE=image/jpeg:https://thewonderscollective.com/wp-content/uploads/2019/11/Gallery2-scaled.jpg
END:VEVENT
BEGIN:VEVENT
DTSTART;TZID=UTC:20200525T110000
DTEND;TZID=UTC:20200525T235000
DTSTAMP:20260423T031623
CREATED:20200521T183815Z
LAST-MODIFIED:20200521T183815Z
UID:9796-1590404400-1590450600@thewonderscollective.com
SUMMARY:Zumba® Fitness Live Stream w/ Gina
DESCRIPTION:Zumba® Fitness Live Stream w/ Gina \n$4 \nTo purchase\, log on to: \nhttps://g2go.shop/shop/ols/categories/livestream-classes
URL:https://thewonderscollective.com/event/zumba-fitness-live-stream-w-gina-3/
LOCATION:WONDERLAND
ATTACH;FMTTYPE=image/jpeg:https://thewonderscollective.com/wp-content/uploads/2019/11/Gallery6-scaled.jpg
END:VEVENT
BEGIN:VEVENT
DTSTART;TZID=UTC:20200523T120000
DTEND;TZID=UTC:20200523T125000
DTSTAMP:20260423T031623
CREATED:20200521T182743Z
LAST-MODIFIED:20200521T182743Z
UID:9788-1590235200-1590238200@thewonderscollective.com
SUMMARY:HIPHOPTURNUP LIVESTREAM w/ The Wonders
DESCRIPTION:HIPHOPTURNUP LIVESTREAM w/ The Wonders \n$5 \nTo purchase\, log on to: \nwww.g2go.shop
URL:https://thewonderscollective.com/event/hiphopturnup-livestream-w-the-wonders-9/
LOCATION:WONDERLAND
ATTACH;FMTTYPE=image/jpeg:https://thewonderscollective.com/wp-content/uploads/2019/11/Gallery2-scaled.jpg
END:VEVENT
BEGIN:VEVENT
DTSTART;TZID=UTC:20200521T080000
DTEND;TZID=UTC:20200521T170000
DTSTAMP:20260423T031623
CREATED:20200521T184718Z
LAST-MODIFIED:20200521T184718Z
UID:9802-1590048000-1590080400@thewonderscollective.com
SUMMARY:Zumba® Fitness Live Stream w/ Gina
DESCRIPTION:Zumba® Fitness Live Stream w/ Gina \n$4 \nTo purchase class\, log on to: \nwww.g2go.shop
URL:https://thewonderscollective.com/event/zumba-fitness-live-stream-w-gina-6/
LOCATION:WONDERLAND
ATTACH;FMTTYPE=image/jpeg:https://thewonderscollective.com/wp-content/uploads/2019/11/Gallery6-scaled.jpg
END:VEVENT
BEGIN:VEVENT
DTSTART;TZID=UTC:20200517T110000
DTEND;TZID=UTC:20200517T123000
DTSTAMP:20260423T031623
CREATED:20200421T211826Z
LAST-MODIFIED:20200421T212318Z
UID:9772-1589713200-1589718600@thewonderscollective.com
SUMMARY:Zumba® Mega special class w/ Mauricio Carmargo and The Wonders
DESCRIPTION:Zumba® Mega special class w/ Mauricio Carmargo and The Wonders \n$10 \n 
URL:https://thewonderscollective.com/event/zumba-mega-special-class-w-mauricio-carmargo-and-the-wonders/
LOCATION:Worldwide
ATTACH;FMTTYPE=image/jpeg:https://thewonderscollective.com/wp-content/uploads/2019/11/5_ZUMBAicon-1.jpg
END:VEVENT
BEGIN:VEVENT
DTSTART;TZID=UTC:20200516T120000
DTEND;TZID=UTC:20200516T125000
DTSTAMP:20260423T031623
CREATED:20200505T162909Z
LAST-MODIFIED:20200505T162939Z
UID:9786-1589630400-1589633400@thewonderscollective.com
SUMMARY:HIPHOPTURNUP LIVESTREAM w/ The Wonders
DESCRIPTION:HIPHOPTURNUP LIVESTREAM w/ The Wonders \n$5 \nTo purchase\, log on to: \nhttps://g2go.shop/shop/ols/categories/livestream-classes
URL:https://thewonderscollective.com/event/hiphopturnup-livestream-w-the-wonders-8/
LOCATION:WONDERLAND
ATTACH;FMTTYPE=image/jpeg:https://thewonderscollective.com/wp-content/uploads/2019/11/Gallery4-scaled.jpg
END:VEVENT
BEGIN:VEVENT
DTSTART;TZID=UTC:20200514T190000
DTEND;TZID=UTC:20200514T195500
DTSTAMP:20260423T031623
CREATED:20200505T161812Z
LAST-MODIFIED:20200505T161812Z
UID:9782-1589482800-1589486100@thewonderscollective.com
SUMMARY:Zumba® Fitness Live Stream w/ Gina
DESCRIPTION:Zumba® Fitness Live Stream w/ Gina \n$4 \nTo purchase\, log on to: \nhttps://g2go.shop/shop/ols/categories/livestream-classes
URL:https://thewonderscollective.com/event/zumba-fitness-live-stream-w-gina-2/
LOCATION:WONDERLAND
ATTACH;FMTTYPE=image/jpeg:https://thewonderscollective.com/wp-content/uploads/2019/11/Gallery6-scaled.jpg
END:VEVENT
BEGIN:VEVENT
DTSTART;TZID=UTC:20200512T190000
DTEND;TZID=UTC:20200512T195500
DTSTAMP:20260423T031623
CREATED:20200505T162141Z
LAST-MODIFIED:20200505T162356Z
UID:9784-1589310000-1589313300@thewonderscollective.com
SUMMARY:HIPHOPTURNUP LIVESTREAM w/ The Wonders
DESCRIPTION:HIPHOPTURNUP LIVESTREAM w/ The Wonders \n$5 \nTo purchase\, log on to: \nhttps://g2go.shop/shop/ols/categories/livestream-classes
URL:https://thewonderscollective.com/event/hiphopturnup-livestream-w-the-wonders-7/
LOCATION:WONDERLAND
ATTACH;FMTTYPE=image/jpeg:https://thewonderscollective.com/wp-content/uploads/2019/11/Gallery4-scaled.jpg
END:VEVENT
BEGIN:VEVENT
DTSTART;TZID=UTC:20200511T110000
DTEND;TZID=UTC:20200511T115500
DTSTAMP:20260423T031623
CREATED:20200505T161518Z
LAST-MODIFIED:20200505T161518Z
UID:9779-1589194800-1589198100@thewonderscollective.com
SUMMARY:Zumba® Fitness Live Stream w/ Gina
DESCRIPTION:Zumba® Fitness Live Stream w/ Gina \n$4 \nTo purchase\, log on to: \nhttps://g2go.shop/shop/ols/categories/livestream-classes
URL:https://thewonderscollective.com/event/zumba-fitness-live-stream-w-gina/
LOCATION:WONDERLAND
ATTACH;FMTTYPE=image/jpeg:https://thewonderscollective.com/wp-content/uploads/2019/11/Gallery6-scaled.jpg
END:VEVENT
BEGIN:VEVENT
DTSTART;TZID=UTC:20200509T120000
DTEND;TZID=UTC:20200509T130000
DTSTAMP:20260423T031623
CREATED:20200421T211419Z
LAST-MODIFIED:20200421T211419Z
UID:9770-1589025600-1589029200@thewonderscollective.com
SUMMARY:HIPHOPTURNUP LIVESTREAM W/ THE WONDERS
DESCRIPTION:HIPHOPTURNUP LIVESTREAM W/ THE WONDERS \n$5 \nTo purchase class\, log on to: www.g2go.shop
URL:https://thewonderscollective.com/event/hiphopturnup-livestream-w-the-wonders-6/
LOCATION:WONDERLAND
ATTACH;FMTTYPE=image/jpeg:https://thewonderscollective.com/wp-content/uploads/2019/11/Gallery4-scaled.jpg
END:VEVENT
BEGIN:VEVENT
DTSTART;TZID=UTC:20200507T190000
DTEND;TZID=UTC:20200507T195500
DTSTAMP:20260423T031623
CREATED:20200505T161310Z
LAST-MODIFIED:20200505T161613Z
UID:9776-1588878000-1588881300@thewonderscollective.com
SUMMARY:Zumba® Fitness Live Stream w/ Gina
DESCRIPTION:Zumba® Fitness Live Stream w/ Gina \n$4 \nTo purchase\, log on to: \nhttps://g2go.shop/shop/ols/categories/livestream-classes
URL:https://thewonderscollective.com/event/zumba-fitness-w-gina/
LOCATION:WONDERLAND
ATTACH;FMTTYPE=image/jpeg:https://thewonderscollective.com/wp-content/uploads/2019/11/Gallery6-scaled.jpg
END:VEVENT
BEGIN:VEVENT
DTSTART;TZID=UTC:20200502T120000
DTEND;TZID=UTC:20200502T130000
DTSTAMP:20260423T031623
CREATED:20200421T211242Z
LAST-MODIFIED:20200421T211242Z
UID:9768-1588420800-1588424400@thewonderscollective.com
SUMMARY:HIPHOPTURNUP LIVESTREAM W/ THE WONDERS
DESCRIPTION:HIPHOPTURNUP LIVESTREAM W/ THE WONDERS \n$5 \nTo purchase class\, log on to: www.g2go.shop
URL:https://thewonderscollective.com/event/hiphopturnup-livestream-w-the-wonders-5/
LOCATION:WONDERLAND
ATTACH;FMTTYPE=image/jpeg:https://thewonderscollective.com/wp-content/uploads/2019/11/Gallery4-scaled.jpg
END:VEVENT
BEGIN:VEVENT
DTSTART;TZID=UTC:20200502T080000
DTEND;TZID=UTC:20200502T170000
DTSTAMP:20260423T031623
CREATED:20191121T200943Z
LAST-MODIFIED:20200406T021522Z
UID:9324-1588406400-1588438800@thewonderscollective.com
SUMMARY:THE #HIPHOPWONDERS TOUR HIPHOPTURNUP MASTERCLASS
DESCRIPTION:DUE TO THE COVID-19 PANDEMIC\, THIS EVENT HAS BEEN POSTPONED TO A LATER DATE. \n 
URL:https://thewonderscollective.com/event/the-hiphopwonders-tour-hiphopturnup-masterclass-2/
LOCATION:POSTPONED\, NV\, United States
ATTACH;FMTTYPE=image/jpeg:https://thewonderscollective.com/wp-content/uploads/2019/11/WONDERSCOLLECTIVE_hp_slide2-min.jpg
END:VEVENT
BEGIN:VEVENT
DTSTART;TZID=UTC:20200430T190000
DTEND;TZID=UTC:20200430T200000
DTSTAMP:20260423T031623
CREATED:20200421T210844Z
LAST-MODIFIED:20200421T210844Z
UID:9766-1588273200-1588276800@thewonderscollective.com
SUMMARY:ZUMBA LIVESTREAM W/ GINA
DESCRIPTION:ZUMBA LIVESTREAM W/ GINA \n$4 \nTo purchase class\, log on to: www.g2go.shop
URL:https://thewonderscollective.com/event/zumba-livestream-w-gina-5/
LOCATION:WONDERLAND
ATTACH;FMTTYPE=image/jpeg:https://thewonderscollective.com/wp-content/uploads/2019/11/Gallery6-scaled.jpg
END:VEVENT
BEGIN:VEVENT
DTSTART;TZID=UTC:20200425T120000
DTEND;TZID=UTC:20200425T124500
DTSTAMP:20260423T031623
CREATED:20200413T171127Z
LAST-MODIFIED:20200416T060310Z
UID:9756-1587816000-1587818700@thewonderscollective.com
SUMMARY:HIPHOPTURNUP LIVESTREAM W/ THE WONDERS
DESCRIPTION:HIPHOPTURNUP LIVESTREAM W/ THE WONDERS \n$5 \nTo purchase class\, log on to: www.g2go.shop
URL:https://thewonderscollective.com/event/hiphopturnup-livestream-w-the-wonders-4/
LOCATION:WONDERLAND
ATTACH;FMTTYPE=image/jpeg:https://thewonderscollective.com/wp-content/uploads/2019/11/Gallery4-scaled.jpg
END:VEVENT
BEGIN:VEVENT
DTSTART;TZID=UTC:20200424T190000
DTEND;TZID=UTC:20200424T201500
DTSTAMP:20260423T031623
CREATED:20200214T021028Z
LAST-MODIFIED:20200406T021848Z
UID:9733-1587754800-1587759300@thewonderscollective.com
SUMMARY:THE #HIPHOPWONDERS TOUR HIPHOPTURNUP MASTERCLASS
DESCRIPTION:DUE TO THE COVID-19 PANDEMIC\, THIS EVENT HAS BEEN POSTPONED TO A LATER DATE. \n 
URL:https://thewonderscollective.com/event/the-hiphopwonders-tour-hiphopturnup-masterclass-6/
LOCATION:postponed\, sac\, CA\, United States
ATTACH;FMTTYPE=image/jpeg:https://thewonderscollective.com/wp-content/uploads/2019/11/WONDERSCOLLECTIVE_hp_slide2-min.jpg
END:VEVENT
BEGIN:VEVENT
DTSTART;TZID=UTC:20200423T190000
DTEND;TZID=UTC:20200423T200000
DTSTAMP:20260423T031623
CREATED:20200421T210638Z
LAST-MODIFIED:20200421T210638Z
UID:9764-1587668400-1587672000@thewonderscollective.com
SUMMARY:ZUMBA LIVESTREAM W/ GINA
DESCRIPTION:ZUMBA LIVESTREAM W/ GINA \n$4 \nTo purchase class\, log on to: www.g2go.shop
URL:https://thewonderscollective.com/event/zumba-livestream-w-gina-4/
LOCATION:WONDERLAND
ATTACH;FMTTYPE=image/jpeg:https://thewonderscollective.com/wp-content/uploads/2019/11/Gallery6-scaled.jpg
END:VEVENT
BEGIN:VEVENT
DTSTART;TZID=UTC:20200421T110000
DTEND;TZID=UTC:20200421T120000
DTSTAMP:20260423T031623
CREATED:20200413T175024Z
LAST-MODIFIED:20200413T175024Z
UID:9759-1587466800-1587470400@thewonderscollective.com
SUMMARY:ZUMBA LIVESTREAM W/ GINA
DESCRIPTION:ZUMBA LIVESTREAM W/ GINA \n$3 \nTo purchase log on to: www.g2go.shop
URL:https://thewonderscollective.com/event/zumba-livestream-w-gina-3/
LOCATION:WONDERLAND
ATTACH;FMTTYPE=image/jpeg:https://thewonderscollective.com/wp-content/uploads/2019/11/Gallery6-scaled.jpg
END:VEVENT
BEGIN:VEVENT
DTSTART;TZID=UTC:20200418T120000
DTEND;TZID=UTC:20200418T124500
DTSTAMP:20260423T031623
CREATED:20200413T170703Z
LAST-MODIFIED:20200416T060215Z
UID:9754-1587211200-1587213900@thewonderscollective.com
SUMMARY:HIPHOPTURNUP LIVESTREAM W/ THE WONDERS
DESCRIPTION:HIPHOPTURNUP LIVESTREAM W/ THE WONDERS \n$5 \nTo purchase class\, log on to: www.g2go.shop
URL:https://thewonderscollective.com/event/hiphopturnup-livestream-w-the-wonders-3/
LOCATION:WONDERLAND
ATTACH;FMTTYPE=image/jpeg:https://thewonderscollective.com/wp-content/uploads/2019/11/Gallery4-scaled.jpg
END:VEVENT
BEGIN:VEVENT
DTSTART;TZID=UTC:20200411T120000
DTEND;TZID=UTC:20200411T124500
DTSTAMP:20260423T031623
CREATED:20200406T023840Z
LAST-MODIFIED:20200406T023840Z
UID:9749-1586606400-1586609100@thewonderscollective.com
SUMMARY:HIPHOPTURNUP LIVESTREAM W/ THE WONDERS
DESCRIPTION:HIPHOPTURNUP LIVESTREAM W/ THE WONDERS \n$4 \nTo purchase class\, log on to: www.g2go.shop
URL:https://thewonderscollective.com/event/hiphopturnup-livestream-w-the-wonders-2/
LOCATION:WONDERLAND
ATTACH;FMTTYPE=image/jpeg:https://thewonderscollective.com/wp-content/uploads/2019/11/Gallery4-scaled.jpg
END:VEVENT
BEGIN:VEVENT
DTSTART;TZID=UTC:20200409T190000
DTEND;TZID=UTC:20200409T200000
DTSTAMP:20260423T031623
CREATED:20200406T024142Z
LAST-MODIFIED:20200406T024236Z
UID:9752-1586458800-1586462400@thewonderscollective.com
SUMMARY:ZUMBA LIVESTREAM W/ GINA
DESCRIPTION:ZUMBA LIVESTREAM W/ GINA \n$3 \nTo purchase class\, log on to: www.g2go.shop
URL:https://thewonderscollective.com/event/zumba-livestream-w-gina-2/
LOCATION:WONDERLAND
ATTACH;FMTTYPE=image/jpeg:https://thewonderscollective.com/wp-content/uploads/2019/11/Gallery6-scaled.jpg
END:VEVENT
BEGIN:VEVENT
DTSTART;TZID=UTC:20200408T190000
DTEND;TZID=UTC:20200408T194500
DTSTAMP:20260423T031623
CREATED:20200406T023100Z
LAST-MODIFIED:20200406T023100Z
UID:9747-1586372400-1586375100@thewonderscollective.com
SUMMARY:HIPHOPTURNUP LIVESTREAM W/ THE WONDERS
DESCRIPTION:HIPHOPTURNUP LIVESTREAM W/ THE WONDERS \n$4 \nTo purchase class\, log on to: www.g2go.shop
URL:https://thewonderscollective.com/event/hiphopturnup-livestream-w-the-wonders/
LOCATION:WONDERLAND
ATTACH;FMTTYPE=image/jpeg:https://thewonderscollective.com/wp-content/uploads/2019/11/Gallery4-scaled.jpg
END:VEVENT
BEGIN:VEVENT
DTSTART;TZID=UTC:20200406T110000
DTEND;TZID=UTC:20200406T120000
DTSTAMP:20260423T031623
CREATED:20200406T020333Z
LAST-MODIFIED:20200406T021304Z
UID:9741-1586170800-1586174400@thewonderscollective.com
SUMMARY:ZUMBA LIVESTREAM W/ GINA
DESCRIPTION:ZUMBA LIVESTREAM CLASS W/ GINA \n$3 \nTo purchase class\, log on to: www.g2go.shop
URL:https://thewonderscollective.com/event/zumba-livestream-w-gina/
LOCATION:WONDERLAND
ATTACH;FMTTYPE=image/jpeg:https://thewonderscollective.com/wp-content/uploads/2019/11/Gallery6-scaled.jpg
END:VEVENT
END:VCALENDAR