BEGIN:VCALENDAR
VERSION:2.0
PRODID:-//The Wonders Collective - ECPv6.15.16//NONSGML v1.0//EN
CALSCALE:GREGORIAN
METHOD:PUBLISH
X-WR-CALNAME:The Wonders Collective
X-ORIGINAL-URL:https://thewonderscollective.com
X-WR-CALDESC:Events for The Wonders Collective
REFRESH-INTERVAL;VALUE=DURATION:PT1H
X-Robots-Tag:noindex
X-PUBLISHED-TTL:PT1H
BEGIN:VTIMEZONE
TZID:Europe/Moscow
BEGIN:STANDARD
TZOFFSETFROM:+0300
TZOFFSETTO:+0300
TZNAME:MSK
DTSTART:20220101T000000
END:STANDARD
END:VTIMEZONE
BEGIN:VTIMEZONE
TZID:UTC
BEGIN:STANDARD
TZOFFSETFROM:+0000
TZOFFSETTO:+0000
TZNAME:UTC
DTSTART:20210101T000000
END:STANDARD
END:VTIMEZONE
BEGIN:VEVENT
DTSTART;TZID=Europe/Moscow:20230204T160000
DTEND;TZID=Europe/Moscow:20230204T180000
DTSTAMP:20260419T212444
CREATED:20221121T042705Z
LAST-MODIFIED:20221121T042705Z
UID:10569-1675526400-1675533600@thewonderscollective.com
SUMMARY:The LOVE Master class with the Wonders
DESCRIPTION:QLIFE DANCE & FITNESS WELLNESS STUDIO and LLOYD FITNESS PRO proudly present The LOVE Masterclass With the Wonders. \nJoin Cristina “CC” Córdoba and Lloyd “Starboy” Mangaroo for an exciting Zumba and HIPHOPTURNUP party with icons Gina & Dahrio Wonder! Zumba and Hip Hop lovers in the NJ/NY/Tri State Area\, don’t miss this incredible opportunity to experience the Wonders in their first ever visit to NJ. \nAttendance Types: \n\nEarly Bird VIP Admission: $65 (Limited Quantity Available)\nEarly Bird Pricing: $50 (Limited Quantity Available)\nRegular General Admission: $60 (Space Is Limited)\n\nVIP Bonuses: \n\nEarly admission to venue for the Wonderlove hour reception (2:30-3:30 p.m.)\nPhoto opportunities with the Wonders prior to mc\nAssigned VIP spot\nMeet and mingle with the Wonders\n20% off coupon code for Wonder gear\nDiscount on event tee\n5 free entries for a chance to win a Wonder bundle including g2go products\n1 month free access to Wonder League virtual Patreon classes and podcasts\nVIP lanyard\nBottle of water and protein bar\n\nIt’s going to be a WONDER-ful event\, with a fierce lineup including local heartthrobs THE BOYZ\, and red-hot QueenZ CC\, Lele\, and Miriam\, dope merch\, and so much more! Sign up today to be a part of the WONDER-ment that is The LOVE masterclass with Gina & Dahrio! \nhttps://www.eventbrite.com/e/the-love-masterclass-with-the-wonders-tickets-466562108827?fbclid=IwAR1p7aLauyi60SbjzxFMT_2guik_Iw9AnO-kJrVxi_dUfJGw_kPVyB8xdns&utm_campaign=The+Wonders+Love+Masterclass+2023&utm_medium=Social+Media&utm_source=Event+Brite&utm_content=Ticket+Sales 
URL:https://thewonderscollective.com/event/the-love-master-class-with-the-wonders/
LOCATION:LIFE TIME\, 14 Fernwood Rd.\, Florham Park\, NJ\, 07932
ATTACH;FMTTYPE=image/png:https://thewonderscollective.com/wp-content/uploads/2022/11/Screen-Shot-2022-11-20-at-8.19.24-PM.png
END:VEVENT
BEGIN:VEVENT
DTSTART;TZID=UTC:20230203T180000
DTEND;TZID=UTC:20230203T210000
DTSTAMP:20260419T212444
CREATED:20230123T054550Z
LAST-MODIFIED:20230123T054739Z
UID:10597-1675447200-1675458000@thewonderscollective.com
SUMMARY:(IN PERSON) Zumba® GET DOWN ZIN JAM SESSION w/ The Wonders
DESCRIPTION:(IN PERSON) Zumba® GET DOWN ZIN JAM SESSION w/ The Wonders \nCome experience the BRAND NEW GET DOWN Zin Jam Session with G&D WONDER! Dive into the style of 4 FRESH routines\, created especially for YOU to take back to your Zumba® classes! \nFOR ZIN MEMBERS ONLY. Register at:  www.zumba.com \nPLAYLIST: NJ/NY PLAYLIST \nRegistration at 5:30pm (EST) \nJam: 6:00pm – 9:00pm (EST)
URL:https://thewonderscollective.com/event/in-person-zumba-get-down-zin-jam-session-w-the-wonders-2/
LOCATION:Pinnacle Health and Fitness\, 30 Brower Lane\, Hillsborough Township\, NJ\, 08844\, United States
ATTACH;FMTTYPE=image/jpeg:https://thewonderscollective.com/wp-content/uploads/2023/01/7BBA6301-F391-4A43-A4BD-26DAAB81ADFE.jpg
END:VEVENT
BEGIN:VEVENT
DTSTART;TZID=UTC:20230125T173000
DTEND;TZID=UTC:20230125T181000
DTSTAMP:20260419T212444
CREATED:20221210T211457Z
LAST-MODIFIED:20230123T055136Z
UID:10582-1674667800-1674670200@thewonderscollective.com
SUMMARY:VIBES w/ D. Wonder
DESCRIPTION:VIBES curated by HIPHOPTURNUP \nThe smoother side of your dance workout! \n40 minute live stream class \nPurchase link: \nhttps://thewonderslive.com/collections/drop-in-live-classes/products/vibes-wednesday-january-25th 
URL:https://thewonderscollective.com/event/vibes-w-d-wonder/
LOCATION:WONDERLAND virtual studio
ATTACH;FMTTYPE=image/jpeg:https://thewonderscollective.com/wp-content/uploads/2022/10/IMG_4481.jpg
END:VEVENT
BEGIN:VEVENT
DTSTART;TZID=UTC:20230113T160000
DTEND;TZID=UTC:20230113T190000
DTSTAMP:20260419T212444
CREATED:20221201T224349Z
LAST-MODIFIED:20221201T224349Z
UID:10579-1673625600-1673636400@thewonderscollective.com
SUMMARY:(VIRTUAL) Zumba® GET DOWN ZIN JAM SESSION w/ The Wonders
DESCRIPTION:(VIRTUAL) Zumba® GET DOWN ZIN JAM SESSION w/ The Wonders \nARTIST SERIES: RIHANNA \nCome experience the BRAND NEW GET DOWN Zin Jam Session with G&D WONDER! Dive into the style of 4 FRESH routines\, created especially for YOU to take back to your Zumba® classes! \nFOR ZIN MEMBERS ONLY. Register at:  www.zumba.com \nPLAYLIST: RIHANNA \nRegistration at 3:30pm (PST) \nJam: 4:00pm – 7:00pm (PST)
URL:https://thewonderscollective.com/event/virtual-zumba-get-down-zin-jam-session-w-the-wonders-12/
LOCATION:WONDERLAND virtual studio
ATTACH;FMTTYPE=image/jpeg:https://thewonderscollective.com/wp-content/uploads/2022/12/0a95e884-1344-431a-95ab-8589ba23f81c.jpg
END:VEVENT
BEGIN:VEVENT
DTSTART;TZID=UTC:20221229T170000
DTEND;TZID=UTC:20221229T181500
DTSTAMP:20260419T212444
CREATED:20221210T213112Z
LAST-MODIFIED:20221210T213154Z
UID:10589-1672333200-1672337700@thewonderscollective.com
SUMMARY:GD+PM VIRTUAL MASTER CLASS
DESCRIPTION:Feel the vibes\, dance with flow and learn from the best (virtually via ZOOM)! Experience the Hip Hop\, Funk\, Pop and R&B energy with theWONDERS and P&M.  This class will be packed with all the things to make you feel good. \nGeneral admission: $20 \nhttps://thewonderslive.com/collections/events-1/products/wonderlove-vibes-virtual-master-class 
URL:https://thewonderscollective.com/event/10589/
LOCATION:WONDERLAND virtual studio
ATTACH;FMTTYPE=image/jpeg:https://thewonderscollective.com/wp-content/uploads/2022/12/Madelle_G_Prince_Dahrio.jpg
END:VEVENT
BEGIN:VEVENT
DTSTART;TZID=UTC:20221221T173000
DTEND;TZID=UTC:20221221T181000
DTSTAMP:20260419T212444
CREATED:20221210T211751Z
LAST-MODIFIED:20221210T211751Z
UID:10584-1671643800-1671646200@thewonderscollective.com
SUMMARY:VIBES w/ D. Wonder
DESCRIPTION:VIBES curated by HIPHOPTURNUP \nThe smoother side of your dance workout! \n40 minute live stream class \nPurchase link: \nhttps://thewonderslive.com/collections/drop-in-live-classes/products/vibes-wednesday-october-26th 
URL:https://thewonderscollective.com/event/vibes-w-d-wonder-2/
LOCATION:WONDERLAND virtual studio
ATTACH;FMTTYPE=image/jpeg:https://thewonderscollective.com/wp-content/uploads/2022/10/IMG_4481.jpg
END:VEVENT
BEGIN:VEVENT
DTSTART;TZID=UTC:20221203T090000
DTEND;TZID=UTC:20221203T120000
DTSTAMP:20260419T212444
CREATED:20221114T062736Z
LAST-MODIFIED:20221114T062736Z
UID:10537-1670058000-1670068800@thewonderscollective.com
SUMMARY:(VIRTUAL) Zumba® GET DOWN ZIN JAM SESSION w/ The Wonders + Tommy E. + Diandra
DESCRIPTION:(VIRTUAL) Zumba® GET DOWN ZIN JAM SESSION w/ The Wonders + Tommy E. + Diandra \nCome experience the BRAND NEW GET DOWN Zin Jam Session with G&D WONDER! Dive into the style of 4 FRESH routines\, created especially for YOU to take back to your Zumba® classes! \nFOR ZIN MEMBERS ONLY. Register at:  www.zumba.com \nPLAYLIST: USA + GERMANY VIBES \nRegistration at 8:30am (PST) \nJam: 9:00am – 12:00pm (PST)
URL:https://thewonderscollective.com/event/virtual-zumba-get-down-zin-jam-session-w-the-wonders-tommy-e-diandra/
LOCATION:WONDERLAND virtual studio
ATTACH;FMTTYPE=image/jpeg:https://thewonderscollective.com/wp-content/uploads/2022/11/713BB99E-8117-481C-B206-6B998A9F17DA.jpg
END:VEVENT
BEGIN:VEVENT
DTSTART;TZID=UTC:20221120T100000
DTEND;TZID=UTC:20221120T130000
DTSTAMP:20260419T212444
CREATED:20221114T062402Z
LAST-MODIFIED:20221114T062402Z
UID:10534-1668938400-1668949200@thewonderscollective.com
SUMMARY:(VIRTUAL) Zumba® GET DOWN ZIN JAM SESSION w/ The Wonders
DESCRIPTION:(VIRTUAL) Zumba® GET DOWN ZIN JAM SESSION w/ The Wonders \nCome experience the BRAND NEW GET DOWN Zin Jam Session with G&D WONDER! Dive into the style of 4 FRESH routines\, created especially for YOU to take back to your Zumba® classes! \nFOR ZIN MEMBERS ONLY. Register at:  www.zumba.com \nPLAYLIST: NOVEMBER \nRegistration at 9:30am (PST) \nJam: 10:00am – 1:00pm (PST)
URL:https://thewonderscollective.com/event/virtual-zumba-get-down-zin-jam-session-w-the-wonders-11/
LOCATION:WONDERLAND virtual studio
ATTACH;FMTTYPE=image/jpeg:https://thewonderscollective.com/wp-content/uploads/2022/11/A343F034-3808-4364-8276-1689853E0080.jpg
END:VEVENT
BEGIN:VEVENT
DTSTART;TZID=UTC:20221118T160000
DTEND;TZID=UTC:20221118T190000
DTSTAMP:20260419T212444
CREATED:20221114T062127Z
LAST-MODIFIED:20221114T062127Z
UID:10531-1668787200-1668798000@thewonderscollective.com
SUMMARY:(VIRTUAL) Zumba® GET DOWN ZIN JAM SESSION w/ The Wonders
DESCRIPTION:(VIRTUAL) Zumba® GET DOWN ZIN JAM SESSION w/ The Wonders \nCome experience the BRAND NEW GET DOWN Zin Jam Session with G&D WONDER! Dive into the style of 4 FRESH routines\, created especially for YOU to take back to your Zumba® classes! \nFOR ZIN MEMBERS ONLY. Register at:  www.zumba.com \nPLAYLIST: NOVEMBER \nRegistration at 3:30pm (PST) \nJam: 4:00pm – 7:00pm (PST)
URL:https://thewonderscollective.com/event/virtual-zumba-get-down-zin-jam-session-w-the-wonders-10/
LOCATION:WONDERLAND virtual studio
ATTACH;FMTTYPE=image/jpeg:https://thewonderscollective.com/wp-content/uploads/2022/11/A343F034-3808-4364-8276-1689853E0080.jpg
END:VEVENT
BEGIN:VEVENT
DTSTART;TZID=UTC:20221116T173000
DTEND;TZID=UTC:20221116T181000
DTSTAMP:20260419T212444
CREATED:20221114T060724Z
LAST-MODIFIED:20221114T060724Z
UID:10529-1668619800-1668622200@thewonderscollective.com
SUMMARY:VIBES curated by HIPHOPTURNUP
DESCRIPTION:VIBES curated by HIPHOPTURNUP \nThe smoother side of your dance workout! \n40 minute live stream class \nhttps://thewonderslive.com/collections/drop-in-live-classes/products/vibes-wednesday-october-12th 
URL:https://thewonderscollective.com/event/vibes-curated-by-hiphopturnup/
LOCATION:WONDERLAND virtual studio
ATTACH;FMTTYPE=image/jpeg:https://thewonderscollective.com/wp-content/uploads/2022/10/IMG_4481.jpg
END:VEVENT
BEGIN:VEVENT
DTSTART;TZID=UTC:20221104T173000
DTEND;TZID=UTC:20221104T184500
DTSTAMP:20260419T212444
CREATED:20220928T230601Z
LAST-MODIFIED:20221003T233616Z
UID:10515-1667583000-1667587500@thewonderscollective.com
SUMMARY:Wonderlove Vibes Virtual Master class
DESCRIPTION:Don’t miss this opportunity to dance and party (virtually) with theWONDERS\, A&H\, Morgan Brown and Momma Wonder.  This class will be packed with a variety of dance styles and flavors that will make you SWEAT and FEEL GOOD!! \n25% of the proceeds will benefit the CHILDHOOD CANCER FOUNDATION of SOUTHERN CALIFORNIA \nGeneral admission: $20 \nhttps://thewonderslive.com/collections/events-1/products/wonderlove-vibes-virtual-master-class 
URL:https://thewonderscollective.com/event/wonderlove-vibes-virtual-master-class/
LOCATION:WONDERLAND virtual studio
ATTACH;FMTTYPE=image/jpeg:https://thewonderscollective.com/wp-content/uploads/2022/09/0F655381-6F22-4321-A437-14682A092263.jpg
END:VEVENT
BEGIN:VEVENT
DTSTART;TZID=UTC:20221027T080000
DTEND;TZID=UTC:20221031T170000
DTSTAMP:20260419T212444
CREATED:20220816T163034Z
LAST-MODIFIED:20220816T163034Z
UID:10500-1666857600-1667235600@thewonderscollective.com
SUMMARY:The Caribbean Experience (HIPHOPTURNUP Class Sunday 10/30/22)
DESCRIPTION:The Caribbean Experience \n(HIPHOPTURNUP Class Sunday 10/30/22)
URL:https://thewonderscollective.com/event/the-caribbean-experience-hiphopturnup-class-sunday-10-30-22/
LOCATION:Dreams Jade Resort and Spa\, Mexico
ATTACH;FMTTYPE=image/jpeg:https://thewonderscollective.com/wp-content/uploads/2022/08/IMG_3766.jpg
END:VEVENT
BEGIN:VEVENT
DTSTART;TZID=UTC:20221026T173000
DTEND;TZID=UTC:20221026T180000
DTSTAMP:20260419T212444
CREATED:20221018T041257Z
LAST-MODIFIED:20221018T043044Z
UID:10527-1666805400-1666807200@thewonderscollective.com
SUMMARY:VIBES
DESCRIPTION:VIBES curated by HIPHOPTURNUP \nThe smoother side of your dance workout! \n40 minute live stream class \nhttps://thewonderslive.com/collections/drop-in-live-classes/products/vibes-wednesday-october-26th  \n 
URL:https://thewonderscollective.com/event/vibes-2-2/
LOCATION:WONDERLAND virtual studio
ATTACH;FMTTYPE=image/jpeg:https://thewonderscollective.com/wp-content/uploads/2022/10/IMG_4481.jpg
END:VEVENT
BEGIN:VEVENT
DTSTART;TZID=UTC:20221023T093000
DTEND;TZID=UTC:20221023T123000
DTSTAMP:20260419T212444
CREATED:20220817T045750Z
LAST-MODIFIED:20221003T234819Z
UID:10510-1666517400-1666528200@thewonderscollective.com
SUMMARY:(VIRTUAL) Zumba® GET DOWN ZIN JAM SESSION w/ Gina + Dahrio
DESCRIPTION:(VIRTUAL) Zumba® GET DOWN ZIN JAM SESSION w/ The Wonders \nCome experience the BRAND NEW GET DOWN Zin Jam Session with G&D WONDER! Dive into the style of 4 FRESH routines\, created especially for YOU to take back to your Zumba® classes! \nFOR ZIN MEMBERS ONLY. Register at www.zumba.com \nPLAYLIST: OCTOBER 2022 \nRegistration at 9am (PDT) \nJam: 9:30pm – 12:30pm (PDT)
URL:https://thewonderscollective.com/event/virtual-zumba-get-down-zin-jam-session-w-gina-dahrio-2/
LOCATION:WONDERLAND virtual studio
ATTACH;FMTTYPE=image/jpeg:https://thewonderscollective.com/wp-content/uploads/2022/08/BB5FC18A-BCDD-4267-A8CD-0D6916BB5803.jpg
END:VEVENT
BEGIN:VEVENT
DTSTART;TZID=UTC:20221019T173000
DTEND;TZID=UTC:20221019T180000
DTSTAMP:20260419T212444
CREATED:20221018T040927Z
LAST-MODIFIED:20221018T040927Z
UID:10525-1666200600-1666202400@thewonderscollective.com
SUMMARY:VIBES
DESCRIPTION:VIBES curated by HIPHOPTURNUP \nThe smoother side of your dance workout! \n40 minute live stream class \nhttps://thewonderslive.com/collections/drop-in-live-classes/products/vibes-wednesday-october-19th
URL:https://thewonderscollective.com/event/vibes-2/
LOCATION:WONDERLAND virtual studio
ATTACH;FMTTYPE=image/jpeg:https://thewonderscollective.com/wp-content/uploads/2022/10/IMG_4481.jpg
END:VEVENT
BEGIN:VEVENT
DTSTART;TZID=UTC:20221005T173000
DTEND;TZID=UTC:20221005T181000
DTSTAMP:20260419T212444
CREATED:20221003T234202Z
LAST-MODIFIED:20221003T234202Z
UID:10518-1664991000-1664993400@thewonderscollective.com
SUMMARY:VIBES
DESCRIPTION:VIBES curated by HIPHOPTURNUP \nThe smoother side of your dance workout! \n40 minute live stream class \nhttps://thewonderslive.com/collections/drop-in-live-classes/products/vibes-wednesday-october-5th-5-30pm 
URL:https://thewonderscollective.com/event/vibes/
LOCATION:WONDERLAND virtual studio
ATTACH;FMTTYPE=image/jpeg:https://thewonderscollective.com/wp-content/uploads/2022/10/IMG_4481.jpg
END:VEVENT
BEGIN:VEVENT
DTSTART;TZID=UTC:20221001T183000
DTEND;TZID=UTC:20221001T194500
DTSTAMP:20260419T212444
CREATED:20220714T192331Z
LAST-MODIFIED:20220817T050305Z
UID:10490-1664649000-1664653500@thewonderscollective.com
SUMMARY:HIPHOPTURNUP MASTER CLASS (IN PERSON)
DESCRIPTION:We are back for an in person master class!! Come through and catch all of the vibes and good sweat! \nPurchase tickets below: \nhttps://thewonderslive.com/collections/events-1/products/thewonders-are-back-live-in-person 
URL:https://thewonderscollective.com/event/hiphopturnup-master-class-in-person-2/
LOCATION:CARLA MADISON REC CENTER\, 2401 E. COLFAX AVE.\, DENVER\, CO\, 80206\, United States
ATTACH;FMTTYPE=image/jpeg:https://thewonderscollective.com/wp-content/uploads/2022/07/IMG_3796.jpg
END:VEVENT
BEGIN:VEVENT
DTSTART;TZID=UTC:20220909T160000
DTEND;TZID=UTC:20220909T190000
DTSTAMP:20260419T212444
CREATED:20220817T045251Z
LAST-MODIFIED:20220817T045417Z
UID:10505-1662739200-1662750000@thewonderscollective.com
SUMMARY:(VIRTUAL) Zumba® GET DOWN ZIN JAM SESSION w/ Gina + Dahrio
DESCRIPTION:(VIRTUAL) Zumba® GET DOWN ZIN JAM SESSION w/ The Wonders \nCome experience the BRAND NEW GET DOWN Zin Jam Session with G&D WONDER! Dive into the style of 4 FRESH routines\, created especially for YOU to take back to your Zumba® classes! \nFOR ZIN MEMBERS ONLY. Register at www.zumba.com \nPLAYLIST: SEPTEMBER 2022 \nRegistration at 3:30pm (PDT) \nJam: 4pm – 7pm (PDT)
URL:https://thewonderscollective.com/event/virtual-zumba-get-down-zin-jam-session-w-gina-dahrio/
LOCATION:WONDERLAND virtual studio
ATTACH;FMTTYPE=image/jpeg:https://thewonderscollective.com/wp-content/uploads/2022/08/IMG_3773.jpg
END:VEVENT
BEGIN:VEVENT
DTSTART;TZID=UTC:20220820T180000
DTEND;TZID=UTC:20220820T191500
DTSTAMP:20260419T212444
CREATED:20220714T072824Z
LAST-MODIFIED:20220714T072824Z
UID:10486-1661018400-1661022900@thewonderscollective.com
SUMMARY:HIPHOPTURNUP MASTER CLASS (IN PERSON)
DESCRIPTION:We are back for an in person master class!! Come through and catch all of the vibes and good sweat! \nPurchase tickets below: \nhttps://thewonderslive.com/collections/events-1/products/thewonders-are-back-live-in-los-angeles
URL:https://thewonderscollective.com/event/hiphopturnup-master-class-in-person/
LOCATION:LA DANCEFIT\, 10936 Santa Monica Blvd. #4539\, Los Angeles\, CA\, 90025\, United States
ATTACH;FMTTYPE=image/png:https://thewonderscollective.com/wp-content/uploads/2022/07/Screen-Shot-2022-07-14-at-12.27.35-AM.png
END:VEVENT
BEGIN:VEVENT
DTSTART;TZID=UTC:20220819T160000
DTEND;TZID=UTC:20220819T190000
DTSTAMP:20260419T212444
CREATED:20220816T161606Z
LAST-MODIFIED:20220816T161606Z
UID:10494-1660924800-1660935600@thewonderscollective.com
SUMMARY:(VIRTUAL) Zumba® GET DOWN ZIN JAM SESSION Co Jam w/ Gina + Dahrio
DESCRIPTION:(VIRTUAL) Zumba® GET DOWN ZIN JAM SESSION Co Jam w/ Gina + Dahrio \nARTIST SERIES: JANET JACKSON (repeat playlist) \nRegister at www.zumba.com \n  \n  \n 
URL:https://thewonderscollective.com/event/virtual-zumba-get-down-zin-jam-session-co-jam-w-gina-dahrio/
LOCATION:WONDERLAND virtual studio
ATTACH;FMTTYPE=image/jpeg:https://thewonderscollective.com/wp-content/uploads/2022/08/IMG_3505.jpg
END:VEVENT
BEGIN:VEVENT
DTSTART;TZID=UTC:20220816T080000
DTEND;TZID=UTC:20220816T170000
DTSTAMP:20260419T212444
CREATED:20220816T161909Z
LAST-MODIFIED:20220816T162452Z
UID:10497-1660636800-1660669200@thewonderscollective.com
SUMMARY:30 MINUTE HHTU:REMIX VIRTUAL CLASS W/ Gina + Dahrio
DESCRIPTION:30 MINUTE HHTU:REMIX VIRTUAL CLASS W/ THE WONDERS \nPut on your dancing shoes\, grab your light weights (preferably under 5lbs.) and get ready for full body activation with this high energy 30 minute workout!! \nTO PURCHASE CLASS\, CLICK ON LINK BELOW: \nwww.patreon.com/HIPHOPWONDERS \n(The 8/16/2022 will be viewable on the $19.99 and $24.99 tiers)
URL:https://thewonderscollective.com/event/30-minute-hhturemix-virtual-class-w-gina-dahrio/
LOCATION:WONDERLAND virtual studio
ATTACH;FMTTYPE=image/jpeg:https://thewonderscollective.com/wp-content/uploads/2022/02/HHTU-NEW-BANNER-1.jpg
END:VEVENT
BEGIN:VEVENT
DTSTART;TZID=UTC:20220604T170000
DTEND;TZID=UTC:20220604T181500
DTSTAMP:20260419T212444
CREATED:20201102T171837Z
LAST-MODIFIED:20220510T002211Z
UID:10026-1654362000-1654366500@thewonderscollective.com
SUMMARY:FAMILY THINGS VIRTUAL MASTER CLASS\, ROUND 2!!
DESCRIPTION:FAMILY THINGS MASTER CLASS! Join Gina\, Dahrio and Mama Willa for a 75 minute cardio dance party full of energy and vibes!! Enjoy an array of rhythms and grooves\,  guaranteed to make you sweat & smile! \nTO PURCHASE CLASS\, CLICK ON LINK BELOW: \nhttps://thewonderslive.com/products/family-things-master-class
URL:https://thewonderscollective.com/event/family-things-master-class/
LOCATION:WONDERLAND virtual studio
ATTACH;FMTTYPE=image/jpeg:https://thewonderscollective.com/wp-content/uploads/2020/11/family-things2-copy.jpg
END:VEVENT
BEGIN:VEVENT
DTSTART;TZID=UTC:20220527T150000
DTEND;TZID=UTC:20220527T180000
DTSTAMP:20260419T212444
CREATED:20220413T204755Z
LAST-MODIFIED:20220413T204755Z
UID:10479-1653663600-1653674400@thewonderscollective.com
SUMMARY:(VIRTUAL) Zumba® GET DOWN ZIN JAM SESSION Co Jam w/ Dahrio + Rony
DESCRIPTION:(VIRTUAL) Zumba® GET DOWN ZIN JAM SESSION Co Jam w/ Dahrio + Rony \nCome experience the BRAND NEW GET DOWN Zin Jam Session with Dahrio Wonder and Rony Gratereaut! Dive into the style of 4 FRESH routines\, created especially for YOU to take back to your Zumba® classes! \nFOR ZIN MEMBERS ONLY \nhttps://www.zumba.com/en-US/trainer/session/cdad624b-4a7d-4808-9fda-20432bba92c6  \nNEW PLAYLIST!! \nRegistration at 2:30pm (PDT) \nJam: 3pm – 6pm (PDT)
URL:https://thewonderscollective.com/event/virtual-zumba-get-down-zin-jam-session-co-jam-w-dahrio-rony/
LOCATION:WONDERLAND virtual studio
ATTACH;FMTTYPE=image/jpeg:https://thewonderscollective.com/wp-content/uploads/2022/04/IMG_0569.jpg
END:VEVENT
BEGIN:VEVENT
DTSTART;TZID=UTC:20220515T100000
DTEND;TZID=UTC:20220515T130000
DTSTAMP:20260419T212444
CREATED:20220413T204315Z
LAST-MODIFIED:20220413T204341Z
UID:10477-1652608800-1652619600@thewonderscollective.com
SUMMARY:(VIRTUAL) Zumba® GET DOWN ZIN JAM SESSION w/ The Wonders
DESCRIPTION:(VIRTUAL) Zumba® GET DOWN ZIN JAM SESSION w/ The Wonders \nCome experience the BRAND NEW GET DOWN Zin Jam Session with G&D WONDER! Dive into the style of 4 FRESH routines\, created especially for YOU to take back to your Zumba® classes! \nFOR ZIN MEMBERS ONLY \nhttps://www.zumba.com/en-US/trainer/session/2bf7c705-3ae7-4e88-a1ca-015bfae419d4  \nNew Playlist: GET DOWN WITH THE WONDERS Vol. 1 \nRegistration at 9:30am (PDT) \nJam: 10am – 1pm (PDT)
URL:https://thewonderscollective.com/event/virtual-zumba-get-down-zin-jam-session-w-the-wonders-9/
LOCATION:WONDERLAND virtual studio
ATTACH;FMTTYPE=image/jpeg:https://thewonderscollective.com/wp-content/uploads/2019/11/Thumbnail2.jpg
END:VEVENT
BEGIN:VEVENT
DTSTART;TZID=UTC:20220429T160000
DTEND;TZID=UTC:20220429T190000
DTSTAMP:20260419T212444
CREATED:20220413T180320Z
LAST-MODIFIED:20220413T180320Z
UID:10473-1651248000-1651258800@thewonderscollective.com
SUMMARY:(VIRTUAL) Zumba® GET DOWN ZIN JAM SESSION w/ The Wonders
DESCRIPTION:(VIRTUAL) Zumba® GET DOWN ZIN JAM SESSION w/ The Wonders \nCome experience the BRAND NEW GET DOWN Zin Jam Session with G&D WONDER! Dive into the style of 4 FRESH routines\, created especially for YOU to take back to your Zumba® classes! \nFOR ZIN MEMBERS ONLY \nhttps://www.zumba.com/en-US/trainer/session/25d8b19d-0726-4264-9344-809e8fb6fd40  \nNew Playlist: GET DOWN WITH THE WONDERS Vol. 1 \nRegistration at 3:30pm (PDT) \nJam: 4pm – 7pm (PDT)
URL:https://thewonderscollective.com/event/virtual-zumba-get-down-zin-jam-session-w-the-wonders-8/
LOCATION:WONDERLAND virtual studio
ATTACH;FMTTYPE=image/jpeg:https://thewonderscollective.com/wp-content/uploads/2019/11/Thumbnail2.jpg
END:VEVENT
BEGIN:VEVENT
DTSTART;TZID=UTC:20220403T110000
DTEND;TZID=UTC:20220403T130000
DTSTAMP:20260419T212444
CREATED:20220320T192835Z
LAST-MODIFIED:20220320T192835Z
UID:10469-1648983600-1648990800@thewonderscollective.com
SUMMARY:BLACK MAGIC: A HIP HOP DANCE FITNESS EXPERIENCE! (IN-PERSON)
DESCRIPTION:All Forms and styles of Hip Hop Dance and Fitness come together to bring you an experience you wont forget! \nDahrio & Gina Wonder – Hip Hop Turn Up \nRucky ruKus McKinley – RUXUP \nWith special guest Cassaundra that is also going to light up the stage for you all!
URL:https://thewonderscollective.com/event/black-magic-a-hip-hop-dance-fitness-experience-in-person/
LOCATION:Lyceum Village SPC (Vibe Flow Fitness)\, Tustin
END:VEVENT
BEGIN:VEVENT
DTSTART;TZID=UTC:20220327T100000
DTEND;TZID=UTC:20220327T130000
DTSTAMP:20260419T212444
CREATED:20220320T191443Z
LAST-MODIFIED:20220320T191443Z
UID:10462-1648375200-1648386000@thewonderscollective.com
SUMMARY:(VIRTUAL) Zumba® GET DOWN ZIN JAM SESSION Co Jam w/ The Wonders + Kate Elbitar
DESCRIPTION:(VIRTUAL) Zumba® GET DOWN ZIN JAM SESSION Co Jam w/ The Wonders + Kate Elbitar \nCome experience the BRAND NEW GET DOWN Zin Jam Session with G&D WONDER AND Kate Elbitar from Los Angeles by the way of Lebanon! Dive into the style of 4 FRESH routines\, created especially for YOU to take back to your Zumba® classes! \nFOR ZIN MEMBERS ONLY \nhttps://www.zumba.com/en-US/trainer/session/63f3934d-c240-48b5-9103-4ef42943de86  \nPlaylist: GD Team Vibes Volume 4 \nRegistration at 9:30am (PST) \nJam: 10am – 1pm
URL:https://thewonderscollective.com/event/virtual-zumba-get-down-zin-jam-session-co-jam-w-the-wonders-kate-elbitar/
LOCATION:WONDERLAND virtual studio
ATTACH;FMTTYPE=image/jpeg:https://thewonderscollective.com/wp-content/uploads/2022/03/IMG_9863.jpg
END:VEVENT
BEGIN:VEVENT
DTSTART;TZID=UTC:20220325T153000
DTEND;TZID=UTC:20220325T190000
DTSTAMP:20260419T212444
CREATED:20220225T213739Z
LAST-MODIFIED:20220225T213933Z
UID:10452-1648222200-1648234800@thewonderscollective.com
SUMMARY:(VIRTUAL) Zumba® GET DOWN ZIN JAM SESSION w/ The Wonders
DESCRIPTION:(VIRTUAL) Zumba® GET DOWN ZIN JAM SESSION w/ The Wonders \nARTISTS SERIES FEATURING THE MUSIC OF: USHER!!!\nCome experience the BRAND NEW GET DOWN Zin Jam Session with G&D WONDER! Dive into the style of 4 FRESH routines\, created especially for YOU to take back to your Zumba® classes! \nFOR ZIN MEMBERS ONLY \nhttps://www.zumba.com/en-US/trainer/session/db6fc09c-6eae-4516-809f-8bb1daad18bc  \nPlaylist: USHER VIBES (REPEAT PLAYLIST FROM 2/11/2020) \nRegistration at 3:30pm (PST) \nJam: 4pm – 7pm (PST)
URL:https://thewonderscollective.com/event/virtual-zumba-get-down-zin-jam-session-w-the-wonders-7/
LOCATION:WONDERLAND virtual studio
ATTACH;FMTTYPE=image/jpeg:https://thewonderscollective.com/wp-content/uploads/2022/02/USHER-3_25.jpg
END:VEVENT
BEGIN:VEVENT
DTSTART;TZID=UTC:20220321T180000
DTEND;TZID=UTC:20220321T183000
DTSTAMP:20260419T212444
CREATED:20220320T190912Z
LAST-MODIFIED:20220320T190912Z
UID:10460-1647885600-1647887400@thewonderscollective.com
SUMMARY:30 MINUTE #HIPHOPTURNUP VIRTUAL CLASS W/ THE WONDERS
DESCRIPTION:30 MINUTE #HIPHOPTURNUP “REMIX” VIRTUAL CLASS W/ THE WONDERS \nPut on your dancing shoes\, grab your light weights (preferably under 5lbs.) and get ready for full body activation with this high energy 30 minute workout!! \nTO PURCHASE CLASS\, CLICK ON LINK BELOW: \nwww.patreon.com/HIPHOPWONDERS \n(The 3/21/2022 will be viewable on the $7.99\, $14.99\, $19.99 and $24.99 tiers)
URL:https://thewonderscollective.com/event/30-minute-hiphopturnup-virtual-class-w-the-wonders/
LOCATION:WONDERLAND virtual studio
ATTACH;FMTTYPE=image/jpeg:https://thewonderscollective.com/wp-content/uploads/2019/11/Gallery2-scaled.jpg
END:VEVENT
BEGIN:VEVENT
DTSTART;TZID=UTC:20220304T163000
DTEND;TZID=UTC:20220304T200000
DTSTAMP:20260419T212445
CREATED:20220225T212554Z
LAST-MODIFIED:20220225T212554Z
UID:10446-1646411400-1646424000@thewonderscollective.com
SUMMARY:(VIRTUAL) Zumba® GET DOWN ZIN JAM SESSION Co Jam w/ Dahrio + Prince Paltu-Ob
DESCRIPTION:(VIRTUAL) Zumba® GET DOWN ZIN JAM SESSION Co Jam w/ Dahrio + Prince Paltu-Ob from the Philippines! Dive into the style of 4 FRESH routines\, created especially for YOU to take back to your Zumba® classes. \nFOR ZIN MEMBERS ONLY \nhttps://www.zumba.com/en-US/trainer/session/7b635049-adf0-4af1-a086-0a1f45825817  \nPlaylist: PD Vibes (REPEAT PLAYLIST FROM 1/28 Jam) \nRegistration at 4:30pm (PST) \nJam: 5pm – 8pm (PST)
URL:https://thewonderscollective.com/event/virtual-zumba-get-down-zin-jam-session-co-jam-w-dahrio-prince-paltu-ob-2/
LOCATION:WONDERLAND virtual studio
ATTACH;FMTTYPE=image/jpeg:https://thewonderscollective.com/wp-content/uploads/2022/02/PD.jpg
END:VEVENT
END:VCALENDAR