BEGIN:VCALENDAR
VERSION:2.0
PRODID:-//The Wonders Collective - ECPv6.15.16//NONSGML v1.0//EN
CALSCALE:GREGORIAN
METHOD:PUBLISH
X-WR-CALNAME:The Wonders Collective
X-ORIGINAL-URL:https://thewonderscollective.com
X-WR-CALDESC:Events for The Wonders Collective
REFRESH-INTERVAL;VALUE=DURATION:PT1H
X-Robots-Tag:noindex
X-PUBLISHED-TTL:PT1H
BEGIN:VTIMEZONE
TZID:UTC
BEGIN:STANDARD
TZOFFSETFROM:+0000
TZOFFSETTO:+0000
TZNAME:UTC
DTSTART:20200101T000000
END:STANDARD
END:VTIMEZONE
BEGIN:VEVENT
DTSTART;TZID=UTC:20211207T180000
DTEND;TZID=UTC:20211207T183000
DTSTAMP:20260420T075151
CREATED:20211205T181321Z
LAST-MODIFIED:20211205T181321Z
UID:10422-1638900000-1638901800@thewonderscollective.com
SUMMARY:30 MINUTE #HIPHOPTURNUP “REMIX” VIRTUAL CLASS W/ THE WONDERS
DESCRIPTION:30 MINUTE #HIPHOPTURNUP “REMIX” VIRTUAL CLASS W/ THE WONDERS \nPut on your dancing shoes\, grab your light weights (preferably under 5lbs.) and get ready for full body activation with this high energy 30 minute workout!! \nTO PURCHASE CLASS\, CLICK ON LINK BELOW: \nHIP HOP TURNUP REMIX 12/07 6PM PST
URL:https://thewonderscollective.com/event/30-minute-hiphopturnup-remix-virtual-class-w-the-wonders-8/
LOCATION:WONDERLAND virtual studio
ATTACH;FMTTYPE=image/jpeg:https://thewonderscollective.com/wp-content/uploads/2019/11/THEturnup_icon2.jpg
END:VEVENT
BEGIN:VEVENT
DTSTART;TZID=UTC:20211130T060000
DTEND;TZID=UTC:20211130T183000
DTSTAMP:20260420T075151
CREATED:20211106T055002Z
LAST-MODIFIED:20211106T055002Z
UID:10418-1638252000-1638297000@thewonderscollective.com
SUMMARY:30 MINUTE #HIPHOPTURNUP “REMIX” VIRTUAL CLASS W/ THE WONDERS
DESCRIPTION:30 MINUTE #HIPHOPTURNUP “REMIX” VIRTUAL CLASS W/ THE WONDERS \nTO PURCHASE CLASS\, CLICK ON LINK BELOW: \nhttps://thewonderslive.com/collections/drop-in-live-classes/products/hip-hop-turnup-remix-11-30-6pm-pst \n 
URL:https://thewonderscollective.com/event/30-minute-hiphopturnup-remix-virtual-class-w-the-wonders-7/
LOCATION:WONDERLAND virtual studio
ATTACH;FMTTYPE=image/jpeg:https://thewonderscollective.com/wp-content/uploads/2019/11/Thumbnail1.jpg
END:VEVENT
BEGIN:VEVENT
DTSTART;TZID=UTC:20211121T130000
DTEND;TZID=UTC:20211121T160000
DTSTAMP:20260420T075151
CREATED:20211025T235611Z
LAST-MODIFIED:20211025T235611Z
UID:10403-1637499600-1637510400@thewonderscollective.com
SUMMARY:(VIRTUAL) Zumba® GET DOWN ZIN JAM SESSION w/ The Wonders
DESCRIPTION:(VIRTUAL) Zumba® GET DOWN ZIN JAM SESSION w/ The Wonders + Tommy E. \nCome experience the BRAND NEW GET DOWN Zin Jam Session with G&D WONDER! Dive into the style of 4 FRESH routines\, created especially for YOU to take back to your Zumba® classes! \nFOR ZIN MEMBERS ONLY \nhttps://www.zumba.com/en-US/trainer/session/d6991210-ee76-4046-b790-4ab0520f8ba7  \nPlaylist: GDT PLAYLIST 1 \nRegistration at 12:30pm (PST)
URL:https://thewonderscollective.com/event/virtual-zumba-get-down-zin-jam-session-w-the-wonders-5/
ATTACH;FMTTYPE=image/jpeg:https://thewonderscollective.com/wp-content/uploads/2019/11/Thumbnail2.jpg
END:VEVENT
BEGIN:VEVENT
DTSTART;TZID=UTC:20211120T120000
DTEND;TZID=UTC:20211120T124500
DTSTAMP:20260420T075151
CREATED:20211105T075236Z
LAST-MODIFIED:20211105T075236Z
UID:10411-1637409600-1637412300@thewonderscollective.com
SUMMARY:#HIPHOPTURNUP VIRTUAL CLASS W/ THE WONDERS
DESCRIPTION:#HIPHOPTURNUP VIRTUAL CLASS W/ THE WONDERS \nTO PURCHASE CLASS\, CLICK ON LINK BELOW: \nhttps://thewonderslive.com/collections/drop-in-live-classes/products/hip-hop-turnup-11-20-12pm-pst \n 
URL:https://thewonderscollective.com/event/hiphopturnup-virtual-class-w-the-wonders-70/
LOCATION:WONDERLAND virtual studio
ATTACH;FMTTYPE=image/jpeg:https://thewonderscollective.com/wp-content/uploads/2019/11/Gallery2-scaled.jpg
END:VEVENT
BEGIN:VEVENT
DTSTART;TZID=UTC:20211119T170000
DTEND;TZID=UTC:20211119T200000
DTSTAMP:20260420T075151
CREATED:20211025T234937Z
LAST-MODIFIED:20211025T234937Z
UID:10401-1637341200-1637352000@thewonderscollective.com
SUMMARY:(VIRTUAL) Zumba® GET DOWN ZIN JAM SESSION w/ The Wonders
DESCRIPTION:(VIRTUAL) Zumba® GET DOWN ZIN JAM SESSION w/ The Wonders \nCome experience the BRAND NEW GET DOWN Zin Jam Session with G&D WONDER! Dive into the style of 4 FRESH routines\, created especially for YOU to take back to your Zumba® classes! \nFOR ZIN MEMBERS ONLY \nhttps://www.zumba.com/en-US/trainer/session/ea708b3c-a266-4b03-a7f7-ab95c7f205dc  \nPlaylist: GD PLAYLIST 2 \nRegistration at 4:30pm (PST)
URL:https://thewonderscollective.com/event/virtual-zumba-get-down-zin-jam-session-w-the-wonders-4/
ATTACH;FMTTYPE=image/jpeg:https://thewonderscollective.com/wp-content/uploads/2019/11/Thumbnail2.jpg
END:VEVENT
BEGIN:VEVENT
DTSTART;TZID=UTC:20211116T180000
DTEND;TZID=UTC:20211116T183000
DTSTAMP:20260420T075151
CREATED:20211106T053740Z
LAST-MODIFIED:20211106T053740Z
UID:10416-1637085600-1637087400@thewonderscollective.com
SUMMARY:30 MINUTE #HIPHOPTURNUP “REMIX” VIRTUAL CLASS W/ THE WONDERS
DESCRIPTION:30 MINUTE #HIPHOPTURNUP “REMIX” VIRTUAL CLASS W/ THE WONDERS \nTO PURCHASE CLASS\, CLICK ON LINK BELOW: \nhttps://thewonderslive.com/collections/drop-in-live-classes/products/hip-hop-turnup-remix-11-16-6pm-pst 
URL:https://thewonderscollective.com/event/30-minute-hiphopturnup-remix-virtual-class-w-the-wonders-6/
LOCATION:WONDERLAND virtual studio
ATTACH;FMTTYPE=image/jpeg:https://thewonderscollective.com/wp-content/uploads/2019/11/Thumbnail1.jpg
END:VEVENT
BEGIN:VEVENT
DTSTART;TZID=UTC:20211113T120000
DTEND;TZID=UTC:20211113T124500
DTSTAMP:20260420T075151
CREATED:20211105T074156Z
LAST-MODIFIED:20211105T074156Z
UID:10408-1636804800-1636807500@thewonderscollective.com
SUMMARY:#HIPHOPTURNUP VIRTUAL CLASS W/ THE WONDERS
DESCRIPTION:#HIPHOPTURNUP VIRTUAL CLASS W/ THE WONDERS \nTO PURCHASE CLASS\, CLICK ON LINK BELOW: \nhttps://thewonderslive.com/collections/drop-in-live-classes/products/hip-hop-turnup-11-13-12pm-pst \n  \n 
URL:https://thewonderscollective.com/event/hiphopturnup-virtual-class-w-the-wonders-69/
LOCATION:WONDERLAND virtual studio
ATTACH;FMTTYPE=image/jpeg:https://thewonderscollective.com/wp-content/uploads/2019/11/Gallery2-scaled.jpg
END:VEVENT
BEGIN:VEVENT
DTSTART;TZID=UTC:20211109T180000
DTEND;TZID=UTC:20211109T183000
DTSTAMP:20260420T075151
CREATED:20211106T053406Z
LAST-MODIFIED:20211106T053406Z
UID:10414-1636480800-1636482600@thewonderscollective.com
SUMMARY:30 MINUTE #HIPHOPTURNUP “REMIX” VIRTUAL CLASS W/ THE WONDERS
DESCRIPTION:30 MINUTE #HIPHOPTURNUP “REMIX” VIRTUAL CLASS W/ THE WONDERS \nTO PURCHASE CLASS\, CLICK ON LINK BELOW: \nhttps://thewonderslive.com/collections/drop-in-live-classes/products/hip-hop-turnup-remix-11-09-6pm-pst 
URL:https://thewonderscollective.com/event/30-minute-hiphopturnup-remix-virtual-class-w-the-wonders-5/
LOCATION:WONDERLAND virtual studio
ATTACH;FMTTYPE=image/jpeg:https://thewonderscollective.com/wp-content/uploads/2019/11/Thumbnail1.jpg
END:VEVENT
BEGIN:VEVENT
DTSTART;TZID=UTC:20211106T120000
DTEND;TZID=UTC:20211106T124500
DTSTAMP:20260420T075151
CREATED:20211105T073715Z
LAST-MODIFIED:20211105T073715Z
UID:10405-1636200000-1636202700@thewonderscollective.com
SUMMARY:#HIPHOPTURNUP VIRTUAL CLASS W/ THE WONDERS
DESCRIPTION:#HIPHOPTURNUP VIRTUAL CLASS W/ THE WONDERS \nTO PURCHASE CLASS\, CLICK ON LINK BELOW: \nhttps://thewonderslive.com/collections/drop-in-live-classes/products/hip-hop-turnup-11-06-12pm-pst 
URL:https://thewonderscollective.com/event/hiphopturnup-virtual-class-w-the-wonders-68/
LOCATION:WONDERLAND virtual studio
ATTACH;FMTTYPE=image/jpeg:https://thewonderscollective.com/wp-content/uploads/2019/11/Gallery2-scaled.jpg
END:VEVENT
BEGIN:VEVENT
DTSTART;TZID=UTC:20211026T180000
DTEND;TZID=UTC:20211026T183000
DTSTAMP:20260420T075151
CREATED:20211025T233744Z
LAST-MODIFIED:20211025T233744Z
UID:10394-1635271200-1635273000@thewonderscollective.com
SUMMARY:30 MINUTE #HIPHOPTURNUP “REMIX” VIRTUAL CLASS W/ THE WONDERS
DESCRIPTION:30 MINUTE #HIPHOPTURNUP “REMIX” VIRTUAL CLASS W/ THE WONDERS \nTO PURCHASE CLASS\, CLICK ON LINK BELOW: \nhttps://thewonderslive.com/collections/drop-in-live-classes/products/hip-hop-turnup-remix-11-2-6pm-pst \n  \n 
URL:https://thewonderscollective.com/event/30-minute-hiphopturnup-remix-virtual-class-w-the-wonders-4/
ATTACH;FMTTYPE=image/jpeg:https://thewonderscollective.com/wp-content/uploads/2019/11/Gallery2-scaled.jpg
END:VEVENT
BEGIN:VEVENT
DTSTART;TZID=UTC:20211019T180000
DTEND;TZID=UTC:20211019T183000
DTSTAMP:20260420T075151
CREATED:20210930T065256Z
LAST-MODIFIED:20210930T065256Z
UID:10389-1634666400-1634668200@thewonderscollective.com
SUMMARY:30 MINUTE #HIPHOPTURNUP “REMIX” VIRTUAL CLASS W/ THE WONDERS
DESCRIPTION:30 MINUTE #HIPHOPTURNUP “REMIX” VIRTUAL CLASS W/ THE WONDERS \nTO PURCHASE CLASS\, CLICK ON LINK BELOW: \nhttps://thewonderslive.com/collections/drop-in-live-classes/products/hip-hop-turnup-rmx-10-19-6pm-pdt \n 
URL:https://thewonderscollective.com/event/30-minute-hiphopturnup-remix-virtual-class-w-the-wonders-3/
LOCATION:Tha’ DEN at WONDERLAND
ATTACH;FMTTYPE=image/jpeg:https://thewonderscollective.com/wp-content/uploads/2019/11/Gallery6-scaled.jpg
END:VEVENT
BEGIN:VEVENT
DTSTART;TZID=UTC:20211015T163000
DTEND;TZID=UTC:20211015T200000
DTSTAMP:20260420T075151
CREATED:20210903T071734Z
LAST-MODIFIED:20210903T071734Z
UID:10372-1634315400-1634328000@thewonderscollective.com
SUMMARY:(VIRTUAL) Zumba® GET DOWN ZIN JAM SESSION w/ The Wonders
DESCRIPTION:(VIRTUAL) Zumba® GET DOWN ZIN JAM SESSION w/ The Wonders \nCome experience the BRAND NEW GET DOWN Zin Jam Session with G&D WONDER! Dive into the style of 4 FRESH routines\, created especially for YOU to take back to your Zumba® classes! \nFOR ZIN MEMBERS ONLY \nhttps://www.zumba.com/en-US/trainer/session/610cd704-87d0-46f0-b549-592c0a010ac1  \nPlaylist: Beyonce + Jay Z
URL:https://thewonderscollective.com/event/virtual-zumba-get-down-zin-jam-session-w-the-wonders-3/
LOCATION:Tha’ DEN at WONDERLAND
ATTACH;FMTTYPE=image/jpeg:https://thewonderscollective.com/wp-content/uploads/2019/11/Thumbnail2.jpg
END:VEVENT
BEGIN:VEVENT
DTSTART;TZID=UTC:20211012T180000
DTEND;TZID=UTC:20211012T183000
DTSTAMP:20260420T075151
CREATED:20210930T064940Z
LAST-MODIFIED:20210930T064940Z
UID:10387-1634061600-1634063400@thewonderscollective.com
SUMMARY:30 MINUTE #HIPHOPTURNUP “REMIX” VIRTUAL CLASS W/ THE WONDERS
DESCRIPTION:30 MINUTE #HIPHOPTURNUP “REMIX” VIRTUAL CLASS W/ THE WONDERS \nTO PURCHASE CLASS\, CLICK ON LINK BELOW: \nhttps://thewonderslive.com/collections/drop-in-live-classes/products/hip-hop-turnup-rmx-10-12-6pm-pdt \n 
URL:https://thewonderscollective.com/event/30-minute-hiphopturnup-remix-virtual-class-w-the-wonders-2/
LOCATION:Tha’ DEN at WONDERLAND
ATTACH;FMTTYPE=image/jpeg:https://thewonderscollective.com/wp-content/uploads/2019/11/galleryADD2.jpg
END:VEVENT
BEGIN:VEVENT
DTSTART;TZID=UTC:20211010T093000
DTEND;TZID=UTC:20211010T130000
DTSTAMP:20260420T075151
CREATED:20210903T071154Z
LAST-MODIFIED:20210903T071154Z
UID:10369-1633858200-1633870800@thewonderscollective.com
SUMMARY:(VIRTUAL) Zumba® GET DOWN ZIN JAM SESSION w/ The Wonders
DESCRIPTION:(VIRTUAL) Zumba® GET DOWN ZIN JAM SESSION w/ The Wonders \nCome experience the BRAND NEW GET DOWN Zin Jam Session with G&D WONDER! Dive into the style of 4 FRESH routines\, created especially for YOU to take back to your Zumba® classes! \nFOR ZIN MEMBERS ONLY \nhttps://www.zumba.com/en-US/trainer/session/610cd673-fe2c-47c9-b94d-592c0a010ac1  \nPlaylist: Beyonce + Jay Z
URL:https://thewonderscollective.com/event/virtual-zumba-get-down-zin-jam-session-w-the-wonders-2/
LOCATION:Tha’ DEN at WONDERLAND
ATTACH;FMTTYPE=image/jpeg:https://thewonderscollective.com/wp-content/uploads/2019/11/Thumbnail2.jpg
END:VEVENT
BEGIN:VEVENT
DTSTART;TZID=UTC:20211009T120000
DTEND;TZID=UTC:20211009T124500
DTSTAMP:20260420T075151
CREATED:20210930T064401Z
LAST-MODIFIED:20210930T064401Z
UID:10385-1633780800-1633783500@thewonderscollective.com
SUMMARY:#HIPHOPTURNUP VIRTUAL CLASS W/ THE WONDERS
DESCRIPTION:#HIPHOPTURNUP VIRTUAL CLASS W/ THE WONDERS \nTO PURCHASE CLASS\, CLICK ON LINK BELOW: \nhttps://thewonderslive.com/collections/drop-in-live-classes/products/hip-hop-turnup-10-09-12pm-pdt  
URL:https://thewonderscollective.com/event/hiphopturnup-virtual-class-w-the-wonders-67/
LOCATION:Tha’ DEN at WONDERLAND
ATTACH;FMTTYPE=image/jpeg:https://thewonderscollective.com/wp-content/uploads/2019/11/1_THEturnup_icon.jpg
END:VEVENT
BEGIN:VEVENT
DTSTART;TZID=UTC:20211008T163000
DTEND;TZID=UTC:20211008T200000
DTSTAMP:20260420T075151
CREATED:20210903T070916Z
LAST-MODIFIED:20210903T070916Z
UID:10366-1633710600-1633723200@thewonderscollective.com
SUMMARY:(VIRTUAL) Zumba® GET DOWN ZIN JAM SESSION w/ The Wonders
DESCRIPTION:(VIRTUAL) Zumba® GET DOWN ZIN JAM SESSION w/ The Wonders \nCome experience the BRAND NEW GET DOWN Zin Jam Session with G&D WONDER! Dive into the style of 4 FRESH routines\, created especially for YOU to take back to your Zumba® classes! \nFOR ZIN MEMBERS ONLY \nhttps://www.zumba.com/en-US/trainer/session/610cd553-4f18-4fbc-aa36-4e960a010ac2  \nPlaylist: Beyonce + Jay Z
URL:https://thewonderscollective.com/event/virtual-zumba-get-down-zin-jam-session-w-the-wonders/
LOCATION:Tha’ DEN at WONDERLAND
ATTACH;FMTTYPE=image/jpeg:https://thewonderscollective.com/wp-content/uploads/2019/11/Thumbnail2.jpg
END:VEVENT
BEGIN:VEVENT
DTSTART;TZID=UTC:20211005T180000
DTEND;TZID=UTC:20211005T183000
DTSTAMP:20260420T075151
CREATED:20210930T063953Z
LAST-MODIFIED:20210930T064803Z
UID:10383-1633456800-1633458600@thewonderscollective.com
SUMMARY:30 MINUTE #HIPHOPTURNUP "REMIX" VIRTUAL CLASS W/ THE WONDERS
DESCRIPTION:30 MINUTE #HIPHOPTURNUP “REMIX” VIRTUAL CLASS W/ THE WONDERS \nTO PURCHASE CLASS\, CLICK ON LINK BELOW: \nhttps://thewonderslive.com/collections/drop-in-live-classes/products/hip-hop-turnup-rmx-10-05-6pm-pdt 
URL:https://thewonderscollective.com/event/30-minute-hiphopturnup-remix-virtual-class-w-the-wonders/
LOCATION:Tha’ DEN at WONDERLAND
ATTACH;FMTTYPE=image/jpeg:https://thewonderscollective.com/wp-content/uploads/2019/11/galleryADD2.jpg
END:VEVENT
BEGIN:VEVENT
DTSTART;TZID=UTC:20211002T120000
DTEND;TZID=UTC:20211002T124500
DTSTAMP:20260420T075151
CREATED:20210930T063424Z
LAST-MODIFIED:20210930T063531Z
UID:10381-1633176000-1633178700@thewonderscollective.com
SUMMARY:#HIPHOPTURNUP VIRTUAL CLASS W/ THE WONDERS
DESCRIPTION:#HIPHOPTURNUP VIRTUAL CLASS W/ THE WONDERS \nTO PURCHASE CLASS\, CLICK ON LINK BELOW: \nhttps://thewonderslive.com/collections/drop-in-live-classes/products/hip-hop-turnup-10-02-12pm-pdt 
URL:https://thewonderscollective.com/event/hiphopturnup-virtual-class-w-the-wonders-66/
LOCATION:Tha’ DEN at WONDERLAND
ATTACH;FMTTYPE=image/jpeg:https://thewonderscollective.com/wp-content/uploads/2019/11/1_THEturnup_icon.jpg
END:VEVENT
BEGIN:VEVENT
DTSTART;TZID=UTC:20210925T120000
DTEND;TZID=UTC:20210925T124500
DTSTAMP:20260420T075151
CREATED:20210925T020721Z
LAST-MODIFIED:20210925T020721Z
UID:10379-1632571200-1632573900@thewonderscollective.com
SUMMARY:#HIPHOPTURNUP VIRTUAL CLASS W/ THE WONDERS
DESCRIPTION:#HIPHOPTURNUP VIRTUAL CLASS W/ THE WONDERS \nTO PURCHASE CLASS\, CLICK ON LINK BELOW: \nhttps://thewonderslive.com/collections/drop-in-live-classes/products/hip-hop-turnup-09-25-12pm-pdt 
URL:https://thewonderscollective.com/event/hiphopturnup-virtual-class-w-the-wonders-65/
LOCATION:Tha’ DEN at WONDERLAND
ATTACH;FMTTYPE=image/jpeg:https://thewonderscollective.com/wp-content/uploads/2019/11/Gallery2-scaled.jpg
END:VEVENT
BEGIN:VEVENT
DTSTART;TZID=UTC:20210919T093000
DTEND;TZID=UTC:20210919T130000
DTSTAMP:20260420T075151
CREATED:20210903T070232Z
LAST-MODIFIED:20210903T070340Z
UID:10360-1632043800-1632056400@thewonderscollective.com
SUMMARY:Virtual Zumba® GET DOWN ZIN JAM SESSION w/ The Wonders
DESCRIPTION:(VIRTUAL) Zumba® GET DOWN ZIN JAM SESSION w/ The Wonders \nCome experience the BRAND NEW GET DOWN Zin Jam Session with G&D WONDER! Dive into the style of 4 FRESH routines\, created especially for YOU to take back to your Zumba® classes! \nFOR ZIN MEMBERS ONLY \nhttps://www.zumba.com/en-US/trainer/session/60ecbc74-9534-47e1-be19-5bfe0a010a9d  \nPlaylist: D&G PLAYLIST 2
URL:https://thewonderscollective.com/event/zumba-get-down-zin-jam-session-w-the-wonders-3/
LOCATION:Tha’ DEN at WONDERLAND
ATTACH;FMTTYPE=image/jpeg:https://thewonderscollective.com/wp-content/uploads/2019/11/Thumbnail2.jpg
END:VEVENT
BEGIN:VEVENT
DTSTART;TZID=UTC:20210917T170000
DTEND;TZID=UTC:20210917T200000
DTSTAMP:20260420T075151
CREATED:20210804T025031Z
LAST-MODIFIED:20210903T070421Z
UID:10357-1631898000-1631908800@thewonderscollective.com
SUMMARY:Virtual Zumba® GET DOWN ZIN JAM SESSION w/ Dahrio Wonder
DESCRIPTION:Virtual Zumba® GET DOWN ZIN JAM SESSION w/ Dahrio Wonder \nCome experience the BRAND NEW GET DOWN Zin Jam Session with DAHRIO WONDER! Dive into the style of 4 FRESH routines\, created especially for YOU to take back to your Zumba® classes! \nFOR ZIN MEMBERS ONLY \nhttps://www.zumba.com/en-US/trainer/session/60cbba12-f254-4ec0-8c10-47c20a010ad2  \nPlaylist: D. WONDER VIBES 1 \n 
URL:https://thewonderscollective.com/event/zumba-get-down-zin-jam-session-w-dahrio-wonder/
LOCATION:Tha’ DEN at WONDERLAND
ATTACH;FMTTYPE=image/jpeg:https://thewonderscollective.com/wp-content/uploads/2019/11/3_WEEKLYclasses_icon.jpg
END:VEVENT
BEGIN:VEVENT
DTSTART;TZID=UTC:20210905T170000
DTEND;TZID=UTC:20210905T200000
DTSTAMP:20260420T075151
CREATED:20210705T065707Z
LAST-MODIFIED:20210903T070518Z
UID:10330-1630861200-1630872000@thewonderscollective.com
SUMMARY:Virtual Zumba® GET DOWN ZIN JAM SESSION w/ The Wonders
DESCRIPTION:Virtual Zumba® GET DOWN ZIN JAM SESSION w/ The Wonders \nCome experience the BRAND NEW GET DOWN Zin Jam Session with G&D WONDER! Dive into the style of 4 FRESH routines\, created especially for YOU to take back to your Zumba® classes! \nFOR ZIN MEMBERS ONLY \nhttps://www.zumba.com/en-US/trainer/session/60de830e-7260-4c0c-9c73-33870a010b0d \nPlaylist: P&M + D&G PLAYLIST 1 \n 
URL:https://thewonderscollective.com/event/10330/
LOCATION:Tha’ DEN at WONDERLAND
ATTACH;FMTTYPE=image/jpeg:https://thewonderscollective.com/wp-content/uploads/2019/11/Thumbnail2.jpg
END:VEVENT
BEGIN:VEVENT
DTSTART;TZID=UTC:20210831T180000
DTEND;TZID=UTC:20210831T184500
DTSTAMP:20260420T075151
CREATED:20210804T024606Z
LAST-MODIFIED:20210804T024606Z
UID:10355-1630432800-1630435500@thewonderscollective.com
SUMMARY:#HIPHOPTURNUP VIRTUAL CLASS W/ THE WONDERS
DESCRIPTION:#HIPHOPTURNUP VIRTUAL CLASS W/ THE WONDERS \nTO PURCHASE CLASS\, CLICK ON LINK BELOW: \nhttps://thewonderslive.com/collections/drop-in-live-classes/products/hip-hop-turnup-08-31-6pm-pst 
URL:https://thewonderscollective.com/event/hiphopturnup-virtual-class-w-the-wonders-64/
LOCATION:Tha’ DEN at WONDERLAND
ATTACH;FMTTYPE=image/jpeg:https://thewonderscollective.com/wp-content/uploads/2019/11/Gallery2-scaled.jpg
END:VEVENT
BEGIN:VEVENT
DTSTART;TZID=UTC:20210828T120000
DTEND;TZID=UTC:20210828T124500
DTSTAMP:20260420T075151
CREATED:20210804T024404Z
LAST-MODIFIED:20210804T024404Z
UID:10353-1630152000-1630154700@thewonderscollective.com
SUMMARY:#HIPHOPTURNUP VIRTUAL CLASS W/ THE WONDERS
DESCRIPTION:#HIPHOPTURNUP VIRTUAL CLASS W/ THE WONDERS \nTO PURCHASE CLASS\, CLICK ON LINK BELOW: \nhttps://thewonderslive.com/collections/drop-in-live-classes/products/hip-hop-turnup-08-28-12pm-pst 
URL:https://thewonderscollective.com/event/hiphopturnup-virtual-class-w-the-wonders-63/
LOCATION:Tha’ DEN at WONDERLAND
ATTACH;FMTTYPE=image/jpeg:https://thewonderscollective.com/wp-content/uploads/2019/11/Gallery2-scaled.jpg
END:VEVENT
BEGIN:VEVENT
DTSTART;TZID=UTC:20210824T180000
DTEND;TZID=UTC:20210824T184500
DTSTAMP:20260420T075151
CREATED:20210804T024236Z
LAST-MODIFIED:20210804T024236Z
UID:10351-1629828000-1629830700@thewonderscollective.com
SUMMARY:#HIPHOPTURNUP VIRTUAL CLASS W/ THE WONDERS
DESCRIPTION:#HIPHOPTURNUP VIRTUAL CLASS W/ THE WONDERS \nTO PURCHASE CLASS\, CLICK ON LINK BELOW: \nhttps://thewonderslive.com/collections/drop-in-live-classes/products/hip-hop-turnup-08-24-6pm-pst  
URL:https://thewonderscollective.com/event/hiphopturnup-virtual-class-w-the-wonders-62/
LOCATION:Tha’ DEN at WONDERLAND
ATTACH;FMTTYPE=image/jpeg:https://thewonderscollective.com/wp-content/uploads/2019/11/Gallery2-scaled.jpg
END:VEVENT
BEGIN:VEVENT
DTSTART;TZID=UTC:20210817T180000
DTEND;TZID=UTC:20210817T184500
DTSTAMP:20260420T075151
CREATED:20210804T024118Z
LAST-MODIFIED:20210804T024118Z
UID:10349-1629223200-1629225900@thewonderscollective.com
SUMMARY:#HIPHOPTURNUP VIRTUAL CLASS W/ THE WONDERS
DESCRIPTION:#HIPHOPTURNUP VIRTUAL CLASS W/ THE WONDERS \nTO PURCHASE CLASS\, CLICK ON LINK BELOW: \nhttps://thewonderslive.com/collections/drop-in-live-classes/products/hip-hop-turnup-08-17-6pm-pst 
URL:https://thewonderscollective.com/event/hiphopturnup-virtual-class-w-the-wonders-61/
LOCATION:Tha’ DEN at WONDERLAND
ATTACH;FMTTYPE=image/jpeg:https://thewonderscollective.com/wp-content/uploads/2019/11/Gallery2-scaled.jpg
END:VEVENT
BEGIN:VEVENT
DTSTART;TZID=UTC:20210814T120000
DTEND;TZID=UTC:20210814T124500
DTSTAMP:20260420T075151
CREATED:20210804T023803Z
LAST-MODIFIED:20210804T023803Z
UID:10344-1628942400-1628945100@thewonderscollective.com
SUMMARY:#HIPHOPTURNUP VIRTUAL CLASS W/ THE WONDERS
DESCRIPTION:#HIPHOPTURNUP VIRTUAL CLASS W/ THE WONDERS \nTO PURCHASE CLASS\, CLICK ON LINK BELOW: \nhttps://thewonderslive.com/collections/drop-in-live-classes/products/hip-hop-turnup-08-14-12pm-pst  \n 
URL:https://thewonderscollective.com/event/hiphopturnup-virtual-class-w-the-wonders-60/
LOCATION:Tha’ DEN at WONDERLAND
ATTACH;FMTTYPE=image/jpeg:https://thewonderscollective.com/wp-content/uploads/2019/11/Gallery2-scaled.jpg
END:VEVENT
BEGIN:VEVENT
DTSTART;TZID=UTC:20210810T180000
DTEND;TZID=UTC:20210810T184500
DTSTAMP:20260420T075151
CREATED:20210804T023358Z
LAST-MODIFIED:20210804T023557Z
UID:10339-1628618400-1628621100@thewonderscollective.com
SUMMARY:#HIPHOPTURNUP VIRTUAL CLASS W/ THE WONDERS
DESCRIPTION:#HIPHOPTURNUP VIRTUAL CLASS W/ THE WONDERS \nTO PURCHASE CLASS\, CLICK ON LINK BELOW: \nhttps://thewonderslive.com/collections/drop-in-live-classes/products/hip-hop-turnup-08-10-6pm-pst  
URL:https://thewonderscollective.com/event/10339/
LOCATION:Tha’ DEN at WONDERLAND
ATTACH;FMTTYPE=image/jpeg:https://thewonderscollective.com/wp-content/uploads/2019/11/Gallery2-scaled.jpg
END:VEVENT
BEGIN:VEVENT
DTSTART;TZID=UTC:20210807T120000
DTEND;TZID=UTC:20210807T124500
DTSTAMP:20260420T075151
CREATED:20210804T023133Z
LAST-MODIFIED:20210804T023225Z
UID:10336-1628337600-1628340300@thewonderscollective.com
SUMMARY:#HIPHOPTURNUP VIRTUAL CLASS W/ THE WONDERS
DESCRIPTION:#HIPHOPTURNUP VIRTUAL CLASS W/ THE WONDERS \nTO PURCHASE CLASS\, CLICK ON LINK BELOW: \nhttps://thewonderslive.com/collections/drop-in-live-classes/products/hip-hop-turnup-08-07-12pm-pst  \n 
URL:https://thewonderscollective.com/event/hiphopturnup-virtual-class-w-the-wonders-59/
LOCATION:Tha’ DEN at WONDERLAND
ATTACH;FMTTYPE=image/jpeg:https://thewonderscollective.com/wp-content/uploads/2019/11/Gallery2-scaled.jpg
END:VEVENT
BEGIN:VEVENT
DTSTART;TZID=UTC:20210807T093000
DTEND;TZID=UTC:20210807T130000
DTSTAMP:20260420T075151
CREATED:20210622T062601Z
LAST-MODIFIED:20210622T063220Z
UID:10312-1628328600-1628341200@thewonderscollective.com
SUMMARY:Zumba® GET DOWN ZIN JAM SESSION w/ The Wonders
DESCRIPTION:Zumba® GET DOWN ZIN JAM SESSION w/ The Wonders \nCome experience the BRAND NEW GET DOWN Zin Jam Session with G&D WONDER! Dive into the style of 4 FRESH routines\, created especially for YOU to take back to your Zumba® classes! \nFOR ZIN MEMBERS ONLY \nhttps://www.zumba.com/en-US/trainer/session/60c3ce8a-1acc-410b-ad39-5ed50a010b7d  \nPlaylist: WONDER #2
URL:https://thewonderscollective.com/event/zumba-get-down-zin-jam-session-w-the-wonders-2/
LOCATION:Tha’ DEN at WONDERLAND
ATTACH;FMTTYPE=image/jpeg:https://thewonderscollective.com/wp-content/uploads/2019/11/Thumbnail2.jpg
END:VEVENT
END:VCALENDAR